Workbook

Sheet EW
A1: Einwohnerzahl zum 30.06. d. J.
A3: Kommune | B3: 2011 | C3: 2012 | D3: 2013 | E3: 2014 | F3: 2015 | G3: 2016 | H3: 2017 | I3: 2018 | J3: 2019 | K3: 2020 | L3: 2021 | M3: 2022
A5: Landkreis Kusel | B5: 73118 | C5: 72458 | D5: 71713 | E5: 71138 | F5: 71174 | G5: 71544 | H5: 71320 | I5: 71148 | J5: 70826 | K5: 70454 | L5: 70348 | M5: 71085
A7: VG Kusel-Altenglan
A8: Albessen | B8: 165 | C8: 162 | D8: 149 | E8: 136 | F8: 141 | G8: 136 | H8: 136 | I8: 140 | J8: 134 | K8: 135 | L8: 141 | M8: 144
A9: Altenglan | B9: 3069 | C9: 3005 | D9: 2974 | E9: 2984 | F9: 2774 | G9: 2797 | H9: 2812 | I9: 2748 | J9: 2761 | K9: 2723 | L9: 2751 | M9: 2783
A10: Bedesbach | B10: 846 | C10: 859 | D10: 828 | E10: 823 | F10: 797 | G10: 788 | H10: 795 | I10: 783 | J10: 802 | K10: 779 | L10: 779 | M10: 759
A11: Blaubach | B11: 411 | C11: 403 | D11: 392 | E11: 399 | F11: 395 | G11: 397 | H11: 409 | I11: 398 | J11: 379 | K11: 389 | L11: 376 | M11: 401
A12: Bosenbach | B12: 800 | C12: 780 | D12: 769 | E12: 752 | F12: 726 | G12: 727 | H12: 731 | I12: 694 | J12: 671 | K12: 650 | L12: 679 | M12: 692
A13: Dennweiler-Frohnbach | B13: 289 | C13: 284 | D13: 277 | E13: 276 | F13: 284 | G13: 268 | H13: 277 | I13: 278 | J13: 274 | K13: 268 | L13: 266 | M13: 270
A14: Ehweiler | B14: 176 | C14: 170 | D14: 165 | E14: 164 | F14: 171 | G14: 169 | H14: 166 | I14: 164 | J14: 165 | K14: 165 | L14: 168 | M14: 167
A15: Elzweiler | B15: 119 | C15: 117 | D15: 108 | E15: 106 | F15: 109 | G15: 105 | H15: 115 | I15: 119 | J15: 121 | K15: 117 | L15: 122 | M15: 128
A16: Erdesbach | B16: 639 | C16: 638 | D16: 649 | E16: 638 | F16: 610 | G16: 624 | H16: 609 | I16: 622 | J16: 606 | K16: 604 | L16: 590 | M16: 603
A17: Etschberg | B17: 679 | C17: 668 | D17: 667 | E17: 685 | F17: 678 | G17: 664 | H17: 667 | I17: 670 | J17: 667 | K17: 655 | L17: 664 | M17: 663
A18: Föckelberg | B18: 412 | C18: 425 | D18: 410 | E18: 417 | F18: 368 | G18: 375 | H18: 367 | I18: 378 | J18: 385 | K18: 378 | L18: 367 | M18: 368
A19: Haschbach/Rbg. | B19: 717 | C19: 728 | D19: 733 | E19: 710 | F19: 713 | G19: 711 | H19: 692 | I19: 688 | J19: 675 | K19: 664 | L19: 662 | M19: 656
... A41: Welchweiler | B41: 216 | C41: 216 | D41: 202 | E41: 210 | F41: 203 | G41: 196 | H41: 191 | I41: 190 | J41: 188 | K41: 196 | L41: 186 | M41: 180
A43: VG Lauterecken-Wolfstein
A44: Adenbach | B44: 148 | C44: 149 | D44: 152 | E44: 149 | F44: 139 | G44: 150 | H44: 145 | I44: 133 | J44: 149 | K44: 149 | L44: 145 | M44: 147
A45: Aschbach | B45: 352 | C45: 346 | D45: 340 | E45: 339 | F45: 332 | G45: 338 | H45: 326 | I45: 318 | J45: 327 | K45: 327 | L45: 326 | M45: 321
A46: Buborn | B46: 154 | C46: 156 | D46: 153 | E46: 157 | F46: 155 | G46: 158 | H46: 159 | I46: 160 | J46: 145 | K46: 146 | L46: 152 | M46: 137
A47: Cronenberg | B47: 145 | C47: 141 | D47: 148 | E47: 150 | F47: 153 | G47: 155 | H47: 155 | I47: 154 | J47: 145 | K47: 144 | L47: 154 | M47: 156
A48: Deimberg | B48: 99 | C48: 99 | D48: 95 | E48: 97 | F48: 101 | G48: 99 | H48: 99 | I48: 105 | J48: 102 | K48: 98 | L48: 99 | M48: 97
A49: Einöllen | B49: 445 | C49: 437 | D49: 423 | E49: 418 | F49: 428 | G49: 403 | H49: 414 | I49: 424 | J49: 408 | K49: 408 | L49: 426 | M49: 415
A50: Eßweiler | B50: 412 | C50: 416 | D50: 398 | E50: 388 | F50: 417 | G50: 414 | H50: 403 | I50: 384 | J50: 385 | K50: 378 | L50: 387 | M50: 368
A51: Ginsweiler | B51: 320 | C51: 317 | D51: 330 | E51: 326 | F51: 318 | G51: 321 | H51: 312 | I51: 306 | J51: 287 | K51: 281 | L51: 276 | M51: 274
A52: Glanbrücken | B52: 491 | C52: 490 | D52: 489 | E52: 494 | F52: 474 | G52: 477 | H52: 473 | I52: 482 | J52: 483 | K52: 481 | L52: 481 | M52: 470
A53: Grumbach | B53: 466 | C53: 463 | D53: 460 | E53: 455 | F53: 466 | G53: 479 | H53: 471 | I53: 473 | J53: 469 | K53: 473 | L53: 471 | M53: 470
A54: Hausweiler | B54: 55 | C54: 57 | D54: 59 | E54: 56 | F54: 50 | G54: 46 | H54: 43 | I54: 49 | J54: 52 | K54: 46 | L54: 47 | M54: 44
A55: Hefersweiler | B55: 526 | C55: 522 | D55: 537 | E55: 545 | F55: 525 | G55: 515 | H55: 519 | I55: 530 | J55: 535 | K55: 547 | L55: 544 | M55: 560
... A84: Wolfstein | B84: 2038 | C84: 1999 | D84: 1962 | E84: 1954 | F84: 2027 | G84: 2002 | H84: 2004 | I84: 1951 | J84: 1923 | K84: 1930 | L84: 1898 | M84: 1907
A86: VG Oberes Glantal
A87: Altenkirchen | B87: 1357 | C87: 1330 | D87: 1324 | E87: 1326 | F87: 1332 | G87: 1321 | H87: 1292 | I87: 1310 | J87: 1316 | K87: 1299 | L87: 1321 | M87: 1305
A88: Börsborn | B88: 425 | C88: 425 | D88: 415 | E88: 421 | F88: 418 | G88: 419 | H88: 421 | I88: 423 | J88: 421 | K88: 405 | L88: 403 | M88: 440
A89: Breitenbach | B89: 1916 | C89: 1905 | D89: 1872 | E89: 1857 | F89: 1835 | G89: 1837 | H89: 1821 | I89: 1823 | J89: 1806 | K89: 1800 | L89: 1796 | M89: 1810
A90: Brücken/Pfalz | B90: 2248 | C90: 2201 | D90: 2173 | E90: 2162 | F90: 2157 | G90: 2151 | H90: 2137 | I90: 2139 | J90: 2097 | K90: 2082 | L90: 2097 | M90: 2096
A91: Dittweiler | B91: 888 | C91: 920 | D91: 835 | E91: 822 | F91: 810 | G91: 837 | H91: 852 | I91: 833 | J91: 826 | K91: 846 | L91: 844 | M91: 876
A92: Dunzweiler | B92: 931 | C92: 926 | D92: 858 | E92: 918 | F92: 906 | G92: 919 | H92: 919 | I92: 888 | J92: 876 | K92: 878 | L92: 863 | M92: 857
A93: Frohnhofen | B93: 545 | C93: 546 | D93: 532 | E93: 527 | F93: 512 | G93: 532 | H93: 517 | I93: 504 | J93: 500 | K93: 511 | L93: 493 | M93: 494
A94: Glan-Münchweiler | B94: 1247 | C94: 1233 | D94: 1236 | E94: 1202 | F94: 1199 | G94: 1189 | H94: 1190 | I94: 1224 | J94: 1233 | K94: 1213 | L94: 1235 | M94: 1213
...

Sheet Liqui.kr.
A1: Liquiditätskredite
N2: Plan
A3: Kommune | B3: 2011 | C3: 2012 | D3: 2013 | E3: 2014 | F3: 2015 | G3: 2016 | H3: 2017 | I3: 2018 | J3: 2019 | K3: 2020 | L3: 2021 | M3: 2022 | N3: 2023 | O3: 2024 | P3: 2025 | Q3: 2026
A5: Landkreis Kusel | B5: -109059447 | C5: -122866220 | D5: -130718264 | E5: -141000000 | F5: -150000000 | G5: -160000000 | H5: -165000000 | I5: -167000000 | J5: -168000000 | K5: -171300000 | L5: -173000000 | M5: -179000000 | N5: -186418778
A7: VG Kusel-Altenglan
A8: Albessen | B8: 3870.21 | C8: -94433.88 | D8: -102045.74 | E8: -113475.2 | F8: -119464.64 | G8: -84225.89 | H8: -83129.11 | I8: -98457.78 | J8: -137701.85 | K8: -300116.76 | L8: -227780.09 | M8: -254756.58
A9: Altenglan | B9: -3508946.3 | C9: -3456228.9 | D9: -3732382.9 | E9: -4195705.2 | F9: -4302134.2 | G9: -4760345.6 | H9: -5105713.3 | I9: -4939200.3 | J9: 5175446 | K9: -5228714.4 | L9: -4876033.1 | M9: -4868344.8
A10: Bedesbach | B10: -966618.86 | C10: -974281.82 | D10: -1150112.6 | E10: -1219814.1 | F10: -1174261.3 | G10: -1258584 | H10: -1206373 | I10: -1121038 | J10: 1210971.2 | K10: 1257972.9 | L10: -1197979.6 | M10: -678428.3
A11: Blaubach | B11: -537785.16 | C11: -610303.92 | D11: -881136.62 | E11: -864718.59 | F11: -710113.09 | G11: -843999.1 | H11: -1207492 | I11: -1115864.7 | J11: -1149329.5 | K11: -1096093.2 | L11: -1104423.4 | M11: -1139305.2
A12: Bosenbach | B12: -1924551.8 | C12: -2289592.4 | D12: -2504428.7 | E12: -2523112.7 | F12: -2649282 | G12: -2831488.6 | H12: -2774411.5 | I12: -2855528.8 | J12: -3000036.9 | K12: -3039075.6 | L12: -3181185.4 | M12: -3266225.3
A13: Dennweiler-Frohnbach | B13: -178167.63 | C13: -144023.45 | D13: -122413.85 | E13: -179774.59 | F13: -238216.84 | G13: -120956.55 | H13: -78818.62 | I13: 38828.56 | J13: 73569.59 | K13: -170273.3 | L13: -189076.67 | M13: -292523.84
A14: Ehweiler | B14: 160952.24 | C14: 150813.04 | D14: 129349.31 | E14: 97665.53 | F14: 141423.37 | G14: 132909.35 | H14: 96189.66 | I14: 139018.55 | J14: 121813.99 | K14: 156653.29 | L14: 127948.89 | M14: 117635.43
A15: Elzweiler | B15: -211011.39 | C15: -187783.22 | D15: -212798.03 | E15: -181111.07 | F15: -199649.78 | G15: -207230.86 | H15: -210487.45 | I15: -185949.87 | J15: -220349.92 | K15: -235224.07 | L15: -240488.58 | M15: -254372.65
A16: Erdesbach | B16: -831052.49 | C16: -810665.98 | D16: -870088.22 | E16: -930450.47 | F16: -919644.43 | G16: -1058683 | H16: -1040214.9 | I16: -1001106.5 | J16: -1017483.5 | K16: -1036329.4 | L16: -1059149.4 | M16: -999366.33
A17: Etschberg | B17: -304586.43 | C17: -270323.65 | D17: -284125.46 | E17: -405301.14 | F17: -330649.45 | G17: -479304 | H17: -570406.06 | I17: -524247.37 | J17: -776406.11 | K17: -823828.94 | L17: -865046.32 | M17: -907020.05
A18: Föckelberg | B18: -243017.03 | C18: -238015.12 | D18: -287517.72 | E18: -364525.36 | F18: -429046.65 | G18: -489805.5 | H18: -522493.78 | I18: -561121.87 | J18: -564474.93 | K18: -532989.09 | L18: -529252.97 | M18: -521216.53
A19: Haschbach/Rbg. | B19: 44441.11 | C19: 52131.91 | D19: 101381.81 | E19: 59275.53 | F19: 83874.64 | G19: 8705.91 | H19: 33205.97 | I19: 95346.28 | J19: 63870.68 | K19: -11101.52 | L19: -32233.9 | M19: 69474.22
... A41: Welchweiler | B41: -110696.86 | C41: -96861.72 | D41: -91351.08 | E41: -62741.28 | F41: -80313.08 | G41: -117663.05 | H41: -70101.45 | I41: -52699 | J41: -77613.85 | K41: -62541.01 | L41: -45511.15 | M41: -61350.58
A43: VG Lauterecken-Wolfstein
A44: Adenbach | B44: -100886.62 | C44: -173682.78 | D44: -145654.35 | E44: -156004.13 | F44: -171656.31 | G44: -193084.64 | H44: -211070.95 | I44: -265848.52 | J44: -291870.63 | K44: -309608.43 | L44: -311523.15 | M44: -244523.05 | N44: -266144 | O44: -291640 | P44: -316778
A45: Aschbach | B45: -329061.32 | C45: -376029.07 | D45: -414656.58 | E45: -415467.95 | F45: -397510.69 | G45: -475591.98 | H45: -482504.45 | I45: -494498.93 | J45: -527908.83 | K45: -521085.04 | L45: -524781.54 | M45: -523631.9 | N45: -549422 | O45: -575920 | P45: -602937
A46: Buborn | B46: -33937.31 | C46: 25857.89 | D46: 48711.88 | E46: 502.75 | F46: -49418 | G46: -129401.39 | H46: -80938.93 | I46: -55544.79 | J46: -77247.56 | K46: -48734.79 | L46: -54656.84 | M46: -19019.29 | N46: -51224 | O46: -83479 | P46: -115734
A47: Cronenberg | B47: -111842.6 | C47: -112177.95 | D47: -76064.52 | E47: -25585.29 | F47: -40494.23 | G47: -50673.88 | H47: -21123.89 | I47: -17585.02 | J47: -11561.13 | K47: -15676.51 | L47: -41191.22 | M47: -42696.28 | N47: -46827 | O47: -47569 | P47: -47174
A48: Deimberg | B48: -89058.05 | C48: -65086.6 | D48: -158931.68 | E48: -156743.45 | F48: -175176.3 | G48: -218334.74 | H48: -252704.04 | I48: -161729.22 | J48: -200419.85 | K48: -286992.71 | L48: -270949.97 | M48: -280339.24 | N48: -298789 | O48: -315739 | P48: -332439
A49: Einöllen | B49: -152587.78 | C49: -183506.27 | D49: -212671.55 | E49: -237032.95 | F49: -234510.39 | G49: -250144.35 | H49: -257677.3 | I49: -246945.73 | J49: -252153.19 | K49: -229679.44 | L49: -253841.09 | M49: -206255.51 | N49: -200261 | O49: -190216 | P49: -180021
A50: Eßweiler | B50: -557714.97 | C50: -613905.24 | D50: -633388.47 | E50: -616706.34 | F50: -618746.22 | G50: -736644.82 | H50: -758493.94 | I50: -794097.04 | J50: -805588.81 | K50: -833875.36 | L50: -737690.15 | M50: -674804.99 | N50: -730432 | O50: -780982 | P50: -825782
A51: Ginsweiler | B51: -139420.21 | C51: -75001.65 | D51: 7854.49 | E51: -93156.04 | F51: 1325.95 | G51: -67523.11 | H51: -133119.53 | I51: -149798.89 | J51: -306313.6 | K51: -298389.11 | L51: -213990.59 | M51: -207850.29 | N51: -241691 | O51: -276542 | P51: -311503
A52: Glanbrücken | B52: -415139.2 | C52: -477408.44 | D52: -464106.59 | E52: -472750.98 | F52: -753697.02 | G52: -625954.01 | H52: -643330.54 | I52: -661720.41 | J52: -696989.45 | K52: -634002.55 | L52: -777795.82 | M52: -1053543.2 | N52: -1122537 | O52: -1184172 | P52: -1245610
A53: Grumbach | B53: -1048107.9 | C53: -614806.77 | D53: -1028418.3 | E53: -1182885.4 | F53: -1136547.6 | G53: -1306944.8 | H53: -1430077.9 | I53: -1673362.7 | J53: -1778555.4 | K53: -1920476 | L53: -1897912.2 | M53: -1742906.7 | N53: -1957826 | O53: -2160043
A54: Hausweiler | B54: -36990.28 | C54: -3775.59 | D54: -5120.01 | E54: -17717.12 | F54: -26361.16 | G54: -36936.9 | H54: -39664.42 | I54: -28381.3 | J54: -51167.11 | K54: -52507.01 | L54: -61778.3 | M54: -58764.1 | N54: -64039 | O54: -58924 | P54: -63789
A55: Hefersweiler | B55: -148851.65 | C55: -198768.68 | D55: -220991.71 | E55: -268586.69 | F55: -261094.54 | G55: -303470.97 | H55: -340116.54 | I55: -325090.2 | J55: -243900.69 | K55: -255906.32 | L55: -449464.13 | M55: -273864.49 | N55: -374146 | O55: -455164 | P55: -537608
A56: Heinzenhausen | B56: -221527.32 | C56: -230695.14 | D56: -230991.15 | E56: -229744.21 | F56: -227649.08 | G56: -279787.72 | H56: -283316.75 | I56: -283242.45 | J56: -275374.74 | K56: -287123.07 | L56: -319158.08 | M56: -256677 | N56: -277954 | O56: -301135 | P56: -322220
A57: Herren-Sulzbach | B57: -151662.97 | C57: -249092.07 | D57: -145109.09 | E57: -359582.62 | F57: -302292.01 | G57: -258278.71 | H57: -242373.16 | I57: -256662.01 | J57: -331705.31 | K57: -318003.33 | L57: -276760.64 | M57: -282887.28 | N57: -296452 | O57: -309903 | P57: -322914
A58: Hinzweiler | B58: -389296.92 | C58: -293498.68 | D58: -303014.06 | E58: -313100.67 | F58: -344714.41 | G58: -352812.33 | H58: -395348.29 | I58: -385995.7 | J58: -551772.81 | K58: -601099.52 | L58: -787946.63 | M58: -741861.44 | N58: -726245 | O58: -659617 | P58: -597193
A59: Hohenöllen | B59: -37638.44 | C59: -11006.17 | D59: -18417.28 | E59: 2200.81 | F59: 16035.97 | G59: -17361.29 | H59: -9456.54 | I59: 698.09 | J59: 10974.62 | K59: 47057.98 | L59: 42141.73 | M59: 91724.81 | N59: 87649 | O59: 77095 | P59: 62893
A60: Homberg | B60: -35126.35 | C60: -302.8 | D60: -51422.21 | E60: 39258.31 | F60: 98010.32 | G60: 85873.61 | H60: 54077.57 | I60: 50602.86 | J60: -53670.42 | K60: -40237.24 | L60: -54629.38 | M60: -43758.88 | N60: -34504 | O60: -25989 | P60: -17694
A61: Hoppstädten | B61: -47804.61 | C61: -30469.58 | D61: -37799.79 | E61: -22720.4 | F61: -22860.17 | G61: -46591.12 | H61: -131275.54 | I61: -98884.61 | J61: -409588.34 | K61: -319979.08 | L61: -246665.69 | M61: -292940.93 | N61: -332951 | O61: -357371 | P61: -381611
A62: Jettenbach | B62: 73420 | C62: 23757.84 | D62: 121874.97 | E62: 342349.71 | F62: 119564.43 | G62: 33676.79 | H62: -7931.46 | I62: 105864.59 | J62: 277425.04 | K62: 334150.8 | L62: 460976.34 | M62: 762349.93 | N62: 855488 | O62: 907966 | P62: 926764
A63: Kappeln | B63: -153317.42 | C63: -132351.71 | D63: -154961.97 | E63: -159099.14 | F63: -189677.49 | G63: -239233.03 | H63: -262881.68 | I63: -232405.29 | J63: -285769.24 | K63: -279121.32 | L63: -322336.45 | M63: -357246.39 | N63: -385712 | O63: -413608 | P63: -372614
A64: Kirrweiler | B64: -46043.31 | C64: -24402.35 | D64: -7126.79 | E64: -10660.96 | F64: 48409.22 | G64: 145850.95 | H64: 206609.03 | I64: 312066.48 | J64: 389202.58 | K64: 419379.61 | L64: 290474.23 | M64: 358513.91 | N64: 305447 | O64: 372290 | P64: 439493
...

Sheet Investkredite
A1: Investitionskredite
N2: Plan
A3: Kommune | B3: 2011 | C3: 2012 | D3: 2013 | E3: 2014 | F3: 2015 | G3: 2016 | H3: 2017 | I3: 2018 | J3: 2019 | K3: 2020 | L3: 2021 | M3: 2022 | N3: 2023 | O3: 2024 | P3: 2025 | Q3: 2026
A5: Landkreis Kusel | B5: 26653464 | C5: 26397730 | D5: 26058885 | E5: 25793629 | F5: 25111248 | G5: 24160054 | H5: 23412426 | I5: 23034916 | J5: 23896858 | K5: 24269320 | L5: 30574448 | M5: 30057100 | N5: 30546717
A7: VG Kusel-Altenglan
A8: Albessen | B8: 104142.47 | C8: 102263.1 | D8: 100312.04 | E8: 97575.55 | F8: 95661.18 | G8: 93747.98 | H8: 91780.3 | I8: 89945.81 | J8: 88074.92 | K8: 86035.13 | L8: 123536.23 | M8: 120770.58 | N8: i.Aufstellung | O8: i.Aufstellung
A9: Altenglan | B9: 4988254.8 | C9: 4857147.6 | D9: 4701508.6 | E9: 4536090.2 | F9: 4403485.1 | G9: 4253199.6 | H9: 4041646 | I9: 3831475.7 | J9: 3761963.2 | K9: 3574600.6 | L9: 3431669.1 | M9: 3205207.6 | N9: i.Aufstellung | O9: i.Aufstellung
A10: Bedesbach | B10: 528158.05 | C10: 549437.55 | D10: 517395.77 | E10: 495208.09 | F10: 485813.75 | G10: 459270.16 | H10: 431568.57 | I10: 403515.94 | J10: 429323.52 | K10: 396151.76 | L10: 357268.26 | M10: 451245.34 | N10: i.Aufstellung
A11: Blaubach | B11: 667667.17 | C11: 652751.32 | D11: 737283.82 | E11: 721565.85 | F11: 705331.07 | G11: 668255.49 | H11: 652033.35 | I11: 774082.69 | J11: 742935 | K11: 720765.05 | L11: 723366.91 | M11: 695086.4 | N11: i.Aufstellung
A12: Bosenbach | B12: 1062231.8 | C12: 1023200.3 | D12: 1036799.2 | E12: 988378.97 | F12: 1012311.2 | G12: 987822.36 | H12: 928257.17 | I12: 869878.96 | J12: 810297.58 | K12: 744170.16 | L12: 676934.4 | M12: 640204.7 | N12: i.Aufstellung
A13: Dennweiler-Frohnbach | B13: 202001.74 | C13: 198089.78 | D13: 194013.74 | E13: 189766.42 | F13: 185404.68 | G13: 257770.38 | H13: 252599.11 | I13: 248241.42 | J13: 243804.17 | K13: 239284.6 | L13: 284413.44 | M13: 279218.6 | N13: i.Aufstellung
A14: Ehweiler | B14: 40985.75 | C14: 37497.7 | D14: 33876.56 | E14: 30117.24 | F14: 0 | G14: 0 | H14: 0 | I14: 0 | J14: 0 | K14: 0 | L14: 0 | M14: 0 | N14: i.Aufstellung
A15: Elzweiler | B15: 69297.31 | C15: 58883.99 | D15: 67201.37 | E15: 55021.48 | F15: 45748.45 | G15: 42400.79 | H15: 39036.64 | I15: 35655.76 | J15: 32407.11 | K15: 25139.45 | L15: 21941.36 | M15: 18736.56 | N15: i.Aufstellung
A16: Erdesbach | B16: 585042.2 | C16: 599843.17 | D16: 588233.12 | E16: 565578.16 | F16: 548254.27 | G16: 548190.47 | H16: 505728.09 | I16: 474493.58 | J16: 432569.57 | K16: 353357.63 | L16: 324136.54 | M16: 341457.68 | N16: 12800
A17: Etschberg | B17: 390845.59 | C17: 457751.4 | D17: 445594.07 | E17: 481116.23 | F17: 467837.3 | G17: 455156.6 | H17: 442322.77 | I17: 458428.16 | J17: 444168.73 | K17: 432492.71 | L17: 561898.89 | M17: 706920.93 | N17: i.Aufstellung | O17: i.Aufstellung
A18: Föckelberg | B18: 710017.82 | C18: 685618.94 | D18: 660172.65 | E18: 603536.15 | F18: 531312.69 | G18: 499199.84 | H18: 466571.98 | I18: 433418.58 | J18: 399728.88 | K18: 363151.39 | L18: 330907.85 | M18: 297282.47 | N18: i.Aufstellung
A19: Haschbach/Rbg. | B19: 286622.49 | C19: 239737.91 | D19: 236254.17 | E19: 232620.61 | F19: 170930.09 | G19: 168145.47 | H19: 165235.29 | I19: 162642.03 | J19: 160492.96 | K19: 158318.62 | L19: 255592.62 | M19: 409496.62 | N19: i.Aufstellung
A20: Herchweiler i.O. | B20: 1013587.1 | C20: 994192.63 | D20: 1094440.8 | E20: 1097510 | F20: 1074714.6 | G20: 1114190.8 | H20: 1093557.3 | I20: 1069642.6 | J20: 1045503.4 | K20: 1017056.9 | L20: 1102108.1 | M20: 1134251.2 | N20: i.Aufstellung | O20: i.Aufstellung
A21: Horschbach | B21: 41442.93 | C21: 39244.2 | D21: 36984.59 | E21: 34244.39 | F21: 35624.12 | G21: 37161.4 | H21: 34289 | I21: 31331.16 | J21: 28332.32 | K21: 25291.92 | L21: 22209.38 | M21: 10966.27 | N21: i.Aufstellung
A22: Konken | B22: 2670699.5 | C22: 2621559.2 | D22: 2817102.2 | E22: 2761519 | F22: 2659274.4 | G22: 2544083.4 | H22: 2020910.4 | I22: 1976018 | J22: 1934431 | K22: 1881403.9 | L22: 2303159.3 | M22: 2372362.1 | N22: i.Aufstellung | O22: i.Aufstellung
A23: Körborn | B23: 680651.69 | C23: 668261.64 | D23: 655664.91 | E23: 642046.9 | F23: 629137.16 | G23: 617702.3 | H23: 606040.2 | I23: 586277.65 | J23: 568583.09 | K23: 557409.45 | L23: 536737.17 | M23: 572712.35
A24: Kusel | B24: 19826161 | C24: 19304580 | D24: 19789046 | E24: 19919122 | F24: 19292962 | G24: 19779178 | H24: 19303053 | I24: 19236764 | J24: 18812959 | K24: 19344134 | L24: 20246119 | M24: 20248556 | N24: i.Aufstellung
A25: Neunkirchen/Pbg. | B25: 156249.61 | C25: 152578.46 | D25: 213968.47 | E25: 198148.12 | F25: 202838.28 | G25: 199696.25 | H25: 189329.46 | I25: 178800.96 | J25: 170239.76 | K25: 151954.18 | L25: 131594.95 | M25: 142435.13 | N25: i.Aufstellung
A26: Niederalben | B26: 702213.27 | C26: 679609.56 | D26: 669867.94 | E26: 634569.09 | F26: 601488.17 | G26: 567009.73 | H26: 531725.63 | I26: 495809.53 | J26: 472312.81 | K26: 432146.86 | L26: 395055.57 | M26: 401031.79 | N26: i.Aufstellung
A27: Niederstaufenbach | B27: 258370.99 | C27: 248454.07 | D27: 242979.59 | E27: 230903.8 | F27: 298500.13 | G27: 279830.09 | H27: 263623.26 | I27: 246188.18 | J27: 263581.45 | K27: 247325.55 | L27: 222424.89 | M27: 236560.3 | N27: i.Aufstellung
A28: Oberalben | B28: 339788 | C28: 332781.5 | D28: 325513.9 | E28: 317344.75 | F28: 310321.85 | G28: 280964.32 | H28: 275236.35 | I28: 269944.91 | J28: 293296.99 | K28: 287101.76 | L28: 280809.21 | M28: 274446.58 | N28: i.Aufstellung
A29: Oberstaufenbach | B29: 635253.53 | C29: 618363.82 | D29: 590078.29 | E29: 571377.76 | F29: 544585.37 | G29: 511385.63 | H29: 477886.18 | I29: 444083.97 | J29: 386268.02 | K29: 350659.61 | L29: 316121.87 | M29: 290278.9 | N29: i.Aufstellung
A30: Pfeffelbach | B30: 529948.64 | C30: 471013.91 | D30: 631307.1 | E30: 621285.76 | F30: 597619.15 | G30: 589469.06 | H30: 581241.27 | I30: 572935.06 | J30: 564549.64 | K30: 511868.25 | L30: 493175.89 | M30: 474463.19 | N30: i.Aufstellung
A31: Rammelsbach | B31: 1447588.9 | C31: 1403560.4 | D31: 1486334.2 | E31: 1425311.9 | F31: 1444425.8 | G31: 1527245.5 | H31: 1443465.6 | I31: 1476759.4 | J31: 1389690.6 | K31: 1343351.6 | L31: 1250280.6 | M31: 1464195.9 | N31: i.Aufstellung
A32: Rathsweiler | B32: 0 | C32: 0 | D32: 0 | E32: 9769.55 | F32: 9649.55 | G32: 9979.55 | H32: 8847.25 | I32: 7702.61 | J32: 6557.78 | K32: 5412.77 | L32: 4267.56 | M32: 809.55 | N32: i.Aufstellung | O32: i.Aufstellung
A33: Reichweiler | B33: 692858.16 | C33: 677891.26 | D33: 664749.23 | E33: 665584.73 | F33: 651590.76 | G33: 637246.7 | H33: 622446.77 | I33: 594113.15 | J33: 564582.27 | K33: 519984.53 | L33: 499543.14 | M33: 478991.32 | N33: i.Aufstellung
A34: Ruthweiler | B34: 1066675.3 | C34: 1066171.2 | D34: 1040527 | E34: 1009908.6 | F34: 984893.13 | G34: 959414.55 | H34: 933641.15 | I34: 901847.4 | J34: 876563.15 | K34: 797590.13 | L34: 757341.42 | M34: 726871.14 | N34: i.Aufstellung | O34: i.Aufstellung
A35: Rutsweiler/Glan | B35: 128795 | C35: 124439 | D35: 161167 | E35: 148697 | F35: 148395 | G35: 156485 | H35: 148930 | I35: 145045 | J35: 142577 | K35: 127052.23 | L35: 112263.7 | M35: 224431.51 | N35: i.Aufstellung
A36: Schellweiler | B36: 637529.03 | C36: 626162.33 | D36: 616917.3 | E36: 606720.6 | F36: 595907.04 | G36: 586220.34 | H36: 576381.63 | I36: 567736.83 | J36: 558887.04 | K36: 549954.99 | L36: 639222.94 | M36: 922550.96 | N36: i.Aufstellung | O36: i.Aufstellung
A37: Selchenbach | B37: 104158.51 | C37: 102244.29 | D37: 150120.38 | E37: 177524.68 | F37: 128648.61 | G37: 126956.71 | H37: 125227.28 | I37: 95126.66 | J37: 93644.83 | K37: 45684.78 | L37: 123310.56 | M37: 161806.16 | N37: i.Aufstellung | O37: i.Aufstellung
A38: Thallichtenberg | B38: 515495 | C38: 506679.42 | D38: 577720.26 | E38: 615852.8 | F38: 586759.22 | G38: 577207.29 | H38: 558399.83 | I38: 548976.87 | J38: 577470.58 | K38: 566873.75 | L38: 553087.92 | M38: 601120.22 | N38: i.Aufstellung | O38: i.Aufstellung
A39: Theisbergstegen | B39: 1008968.2 | C39: 989991.83 | D39: 1157712.2 | E39: 1134878.4 | F39: 1112423.1 | G39: 1178517.8 | H39: 1154127 | I39: 1129672.5 | J39: 1101828.3 | K39: 1070868.9 | L39: 1145833.6 | M39: 1284761.5 | N39: i.Aufstellung
A40: Ulmet | B40: 1374921.8 | C40: 1278316.1 | D40: 1274048.7 | E40: 1227949.9 | F40: 1512019.7 | G40: 1450991.1 | H40: 1316602.7 | I40: 1255813.9 | J40: 1146084.5 | K40: 998089.62 | L40: 931367.78 | M40: 939350.33
A41: Welchweiler | B41: 191188.89 | C41: 182095.32 | D41: 172078.48 | E41: 161540.64 | F41: 170398.08 | G41: 185440.3 | H41: 155418.41 | I41: 134992.58 | J41: 119523.14 | K41: 103688.45 | L41: 88521.78 | M41: 67911.53 | N41: i.Aufstellung
A43: VG Lauterecken-Wolfstein
...

Sheet Jahresergebnis E 23
N1: Plan
A2: Kommune | B2: 2011 | C2: 2012 | D2: 2013 | E2: 2014 | F2: 2015 | G2: 2016 | H2: 2017 | I2: 2018 | J2: 2019 | K2: 2020 | L2: 2021 | M2: 2022 | N2: 2023 | O2: 2024 | P2: 2025 | Q2: 2026
A4: Landkreis Kusel | B4: -13925837 | C4: -14465161 | D4: -7722050 | E4: -6690992.7 | F4: -7397262.9 | G4: -7961119.2 | H4: -11483035 | I4: -5400702.4 | J4: -4469595.7 | K4: -2248776.1 | L4: -6933540 | M4: -8743141 | N4: -9313209 | O4: -10347946 | P4: -11697517 | Q4: -13119235
A6: VG Kusel-Altenglan
A7: Albessen | B7: -26123.5 | C7: -13943.32 | D7: -28873.49 | E7: -23064.66 | F7: -40687.85 | G7: 25298.01 | H7: -71034.12 | I7: -43577.86 | J7: -103844.5 | K7: -88747.36 | L7: -10408.93 | M7: -70700 | N7: i.Aufstellung | O7: i.Aufstellung
A8: Altenglan | B8: -560087.4 | C8: -517438.75 | D8: -395968.34 | E8: -77680.4 | F8: -313773.36 | G8: -329080.69 | H8: -316103.55 | I8: -391136 | J8: -397652 | K8: -526183 | L8: -409057 | M8: -370554 | N8: i.Aufstellung
A9: Bedesbach | B9: -81592.09 | C9: -119838.15 | D9: -100029.14 | E9: -70658.28 | F9: 10178.54 | G9: -58787.45 | H9: 8563.52 | I9: 52788.94 | J9: -48951.98 | K9: -142994.25 | L9: 106052.9 | M9: -134960 | N9: i.Aufstellung
A10: Blaubach | B10: -83193.06 | C10: -35134.56 | D10: -287975.65 | E10: 53612.24 | F10: 14035.13 | G10: -40710 | H10: -96170 | I10: -62990 | J10: -53940.54 | K10: -37950 | L10: -53980 | M10: -97625 | N10: i.Aufstellung
A11: Bosenbach | B11: -256232.71 | C11: -274108.02 | D11: -240880.8 | E11: -127133.9 | F11: -124848.04 | G11: -130045.26 | H11: -72836.19 | I11: -143680.85 | J11: -168885.85 | K11: 206957.83 | L11: 180454.53 | M11: -223533 | N11: i.Aufstellung
A12: Dennweiler-Frohnbach | B12: -11828.76 | C12: 12771.45 | D12: 3896.29 | E12: -52365.52 | F12: 18948.95 | G12: -44523.46 | H12: -18534.16 | I12: 297.48 | J12: -2614.38 | K12: 17910.39 | L12: -4750.94 | M12: -90790 | N12: i.Aufstellung
A13: Ehweiler | B13: -19691.97 | C13: 23784.01 | D13: 14127.49 | E13: 19003.7 | F13: -10334.38 | G13: -30863 | H13: -31391.26 | I13: -20045.67 | J13: -47310 | K13: -61140 | L13: -55020 | M13: -53920 | N13: i.Aufstellung
A14: Elzweiler | B14: -37894.99 | C14: -15734.51 | D14: 6151.14 | E14: -12487.17 | F14: -15170.01 | G14: -15493.98 | H14: -17238.69 | I14: -25807 | J14: -36697 | K14: -24128 | L14: -27883 | M14: -30810 | N14: i.Aufstellung
A15: Erdesbach | B15: -35183.36 | C15: -53939.9 | D15: -34905.07 | E15: -40973 | F15: -40914.58 | G15: -88315 | H15: -87866 | I15: -71252 | J15: -56572 | K15: -69909 | L15: -56070 | M15: -109098 | N15: i.Aufstellung
A16: Etschberg | B16: -100735.15 | C16: -22156.93 | D16: -142355.39 | E16: -107830.54 | F16: -62774.84 | G16: -164261.59 | H16: -122526.58 | I16: -69087.23 | J16: -180874.38 | K16: -34245.47 | L16: -52963.64 | M16: -171420 | N16: i.Aufstellung | O16: i.Aufstellung
A17: Föckelberg | B17: -17986.45 | C17: -7897.7 | D17: -47937.95 | E17: -4193.2 | F17: -14068.87 | G17: -53079.27 | H17: -23904.87 | I17: -63549 | J17: -48883 | K17: -82803 | L17: -50027 | M17: -49308 | N17: i.Aufstellung
A18: Haschbach/Rbg. | B18: -78550.6 | C18: -27169.21 | D18: -11249.04 | E18: -44830.28 | F18: -8457.97 | G18: -82388.53 | H18: 41142.47 | I18: -46782.32 | J18: -9256.46 | K18: 58147.23 | L18: 50842.5 | M18: -102250 | N18: i.Aufstellung
A19: Herchweiler i.O. | B19: -95066.15 | C19: -93049.72 | D19: -96774.66 | E19: -49368.32 | F19: -128304.45 | G19: -77913.24 | H19: -17457.71 | I19: -60385.75 | J19: -37071.65 | K19: -7555.69 | L19: -14792.66 | M19: 79153.88 | N19: i.Aufstellung | O19: i.Aufstellung
A20: Horschbach | B20: -41509.3 | C20: -42800.41 | D20: -12837.8 | E20: 6592.34 | F20: 26051.02 | G20: -47287.18 | H20: 10597.48 | I20: -88959 | J20: -44414 | K20: -33884 | L20: -90532 | M20: -117223 | N20: i.Aufstellung
A21: Konken | B21: -168213.72 | C21: -274094.36 | D21: -230097.06 | E21: -234478.19 | F21: -59975.79 | G21: -274609.88 | H21: -61373.75 | I21: -77926.38 | J21: -66972.53 | K21: -226960 | L21: -137230 | M21: -223774 | N21: i.Aufstellung | O21: i.Aufstellung
A22: Körborn | B22: -72138.16 | C22: -94436.81 | D22: -27754.16 | E22: -41941.48 | F22: -46861.6 | G22: -40851.22 | H22: -4992.56 | I22: -70364.28 | J22: -22079.87 | K22: 9485.79 | L22: 13257.34 | M22: -114570 | N22: i.Aufstellung
A23: Kusel | B23: -1067918.6 | C23: -292038.39 | D23: -694232.68 | E23: -1018481.6 | F23: -1369694.4 | G23: -460360.07 | H23: 169658.49 | I23: -339684.62 | J23: -1170235 | K23: -997217 | L23: -1445097 | M23: -738908 | N23: i.Aufstellung
A24: Neunkirchen/Pbg. | B24: -36880.91 | C24: -37423.46 | D24: -38928.43 | E24: -50561.69 | F24: -20949.73 | G24: -72329.34 | H24: -42914.38 | I24: -50599 | J24: -56153 | K24: -107088 | L24: -84960 | M24: -78333 | N24: i.Aufstellung
A25: Niederalben | B25: -76701.27 | C25: -60406.34 | D25: -58568.82 | E25: -15717.68 | F25: -60994 | G25: -60726 | H25: -89041 | I25: -64875 | J25: -50070 | K25: -47390 | L25: -49269 | M25: -50712 | N25: i.Aufstellung
A26: Niederstaufenbach | B26: -31507.81 | C26: -27064.4 | D26: 34565.23 | E26: 22385.36 | F26: 45212 | G26: 40590 | H26: 36532 | I26: 31711 | J26: 67032 | K26: 48391 | L26: -76378 | M26: -39289 | N26: i.Aufstellung
A27: Oberalben | B27: -54250.23 | C27: -46443.86 | D27: -69359.67 | E27: -10722.22 | F27: -47734.16 | G27: -47651.53 | H27: 864.8 | I27: 7488.4 | J27: -16313.11 | K27: 5460.94 | L27: 14621.58 | M27: -129930 | N27: i.Aufstellung
A28: Oberstaufenbach | B28: -57912.4 | C28: -29799.35 | D28: -48379.99 | E28: 116276.72 | F28: 7085.68 | G28: -121792.73 | H28: -73051.94 | I28: -64567 | J28: -20568 | K28: -33336 | L28: -65977 | M28: -63790 | N28: i.Aufstellung
A29: Pfeffelbach | B29: -116183.79 | C29: -138310.79 | D29: -105683.89 | E29: -58774.48 | F29: 26204.51 | G29: -135317.73 | H29: -81108.39 | I29: -49182.06 | J29: 152039.51 | K29: -7435.35 | L29: 48381.31 | M29: -56000 | N29: i.Aufstellung
A30: Rammelsbach | B30: -319959.64 | C30: -224490.01 | D30: -250484.89 | E30: -108307.2 | F30: -116768.29 | G30: -168379.02 | H30: -110817 | I30: -253141 | J30: -225701 | K30: -401639.75 | L30: -246376.25 | M30: -403617 | N30: i.Aufstellung
A31: Rathsweiler | B31: -11641.64 | C31: -13049.38 | D31: -2535.3 | E31: -3636.24 | F31: -14936.94 | G31: -19721 | H31: -20492 | I31: -17478 | J31: -27835 | K31: -17464 | L31: -58373 | M31: -28874 | N31: i.Aufstellung | O31: i.Aufstellung
A32: Reichweiler | B32: -72790.25 | C32: -12866.29 | D32: -31450.28 | E32: -68628.83 | F32: -53651.96 | G32: -54481.34 | H32: 5063.94 | I32: 44596.17 | J32: -11854.19 | K32: 5615.64 | L32: 54001.9 | M32: -185810 | N32: i.Aufstellung
A33: Ruthweiler | B33: -138447.87 | C33: -100019.22 | D33: -111015.42 | E33: -107447.39 | F33: -87726.73 | G33: -128726.9 | H33: -76652.66 | I33: -113684.72 | J33: -36885.16 | K33: -69758.66 | L33: -695.48 | M33: -247630 | N33: i.Aufstellung | O33: i.Aufstellung
A34: Rutsweiler/Glan | B34: -50604.07 | C34: 24763.02 | D34: 25324.88 | E34: -48110.27 | F34: -57634.95 | G34: -43832.48 | H34: -9664.43 | I34: -59007 | J34: -81817 | K34: -72956 | L34: -43913 | M34: -34899 | N34: i.Aufstellung
A35: Schellweiler | B35: -78513.16 | C35: -71793.12 | D35: -73263.64 | E35: -49585.83 | F35: -123434.18 | G35: -76750.2 | H35: -26246.41 | I35: -62375.79 | J35: 40105.69 | K35: 88223.01 | L35: 663.5 | M35: -156770 | N35: i.Aufstellung | O35: i.Aufstellung
A36: Selchenbach | B36: -61000.09 | C36: -60155.91 | D36: -50379.67 | E36: -18324.62 | F36: -67075.39 | G36: -47168.52 | H36: -35228.56 | I36: -36644.9 | J36: -35908.26 | K36: -12123.16 | L36: 12073.2 | M36: -73230 | N36: i.Aufstellung | O36: i.Aufstellung
A37: Thallichtenberg | B37: -16985.92 | C37: -26241.45 | D37: -130424.3 | E37: 19574.04 | F37: 16206.41 | G37: -48327.67 | H37: 26203.64 | I37: 1313.59 | J37: -109810 | K37: -91240 | L37: -113840 | M37: -118835 | N37: i.Aufstellung | O37: i.Aufstellung
A38: Theisbergstegen | B38: -136280.71 | C38: 109047.75 | D38: -163552.68 | E38: -191642.73 | F38: -35582.45 | G38: -190332.09 | H38: -102160.86 | I38: -100811.59 | J38: -49563.22 | K38: -14282.02 | L38: -125570 | M38: -138459 | N38: i.Aufstellung
A39: Ulmet | B39: -142812.66 | C39: -171188.71 | D39: -93626.04 | E39: -87428.48 | F39: -150609 | G39: -131200 | H39: -104971 | I39: -118047 | J39: -112475 | K39: -110479 | L39: -102328 | M39: -92772 | N39: i.Aufstellung
A40: Welchweiler | B40: -14032.95 | C40: -1905.13 | D40: -7724.55 | E40: 16309.29 | F40: -17022.09 | G40: -8509.89 | H40: 2475.66 | I40: -27028 | J40: -29064.5 | K40: -30590 | L40: -28664 | M40: -34478 | N40: i.Aufstellung
A42: VG Lauterecken-Wolfstein
A43: Adenbach | B43: -31009.93 | C43: -43248.19 | D43: -24363.59 | E43: -29053.12 | F43: -28204.65 | G43: -20868.55 | H43: -26710.56 | I43: -19298.27 | J43: -29413 | K43: -37375 | L43: -38050 | M43: -19798 | N43: -20218 | O43: -21178 | P43: -20118
...

Sheet Freie Finanzspitze Muster 27
N1: Plan
A2: Kommune | B2: 2011 | C2: 2012 | D2: 2013 | E2: 2014 | F2: 2015 | G2: 2016 | H2: 2017 | I2: 2018 | J2: 2019 | K2: 2020 | L2: 2021 | M2: 2022 | N2: 2023 | O2: 2024 | P2: 2025 | Q2: 2026
A4: Landkreis Kusel | B4: -14653635 | C4: -13909881 | D4: -8010219.5 | E4: -6496762.3 | F4: -6496762.3 | G4: -6517877.6 | H4: -8253834 | I4: -4050237.2 | J4: -4788573.6 | K4: -2395683.7 | L4: -1012854.4 | M4: -10317609 | N4: -11726472 | O4: -12762826 | P4: -14043036 | Q4: -15395785
A6: VG Kusel-Altenglan
A7: Albessen | B7: 9758.66 | C7: 10130.71 | D7: 4426.64 | E7: -11805.48 | F7: -6425.16 | G7: -28763.91 | H7: -5941.03 | I7: -3722.66 | J7: -34044.72 | K7: -151195.63 | L7: 12951.57 | M7: 23040.9 | N7: i.Aufstellung | O7: i.Aufstellung
A8: Altenglan | B8: -305411.33 | C8: -424335.46 | D8: -364725.42 | E8: -195152.11 | F8: -242067.71 | G8: -374374.6 | H8: -288138.62 | I8: -448661 | J8: -460154 | K8: -562640 | L8: -449409 | M8: -406970 | N8: i.Aufstellung
A9: Bedesbach | B9: -97305.83 | C9: -84643.62 | D9: -108352.55 | E9: -64759.67 | F9: 37190.96 | G9: -70024.87 | H9: 60058.77 | I9: 103009 | J9: -19817 | K9: -144340 | L9: 112403 | M9: 75234 | N9: i.Aufstellung
A10: Blaubach | B10: 15194.98 | C10: -19455.7 | D10: -105849.63 | E10: -18001.56 | F10: 131293.78 | G10: -129968.93 | H10: -112836.1 | I10: -12041 | J10: -5250 | K10: -70813 | L10: -60220 | M10: -105772 | N10: i.Aufstellung
A11: Bosenbach | B11: -185700.79 | C11: -230843.27 | D11: -230590.24 | E11: -106597.24 | F11: -101907.85 | G11: -154908.88 | H11: -40001.64 | I11: -154830 | J11: -216815 | K11: -154830 | L11: 195350 | M11: 195464 | N11: i.Aufstellung
A12: Dennweiler-Frohnbach | B12: 8344.27 | C12: 28945.24 | D12: 32284.64 | E12: 62174.23 | F12: 61838.64 | G12: -9091.23 | H12: 35604.38 | I12: 7921.35 | J12: 30668.94 | K12: -5061.59 | L12: -6851.42 | M12: 6291.35 | N12: i.Aufstellung
A13: Ehweiler | B13: 21201.1 | C13: 24970.49 | D13: 9061.33 | E13: -19825.33 | F13: 50709.98 | G13: -8629.02 | H13: 7261.04 | I13: 2263.1 | J13: -14620 | K13: -26830 | L13: -21260 | M13: -20110 | N13: i.Aufstellung
A14: Elzweiler | B14: -15747.94 | C14: -8210.13 | D14: -19033.76 | E14: -23900.24 | F14: -6815.16 | G14: -7065.15 | H14: -1367.58 | I14: -19184 | J14: -41446 | K14: -17499 | L14: -21418 | M14: -25622 | N14: i.Aufstellung
A15: Erdesbach | B15: -44247.85 | C15: -69541.33 | D15: -17714.56 | E15: -63738.55 | F15: -19975.83 | G15: -97762 | H15: -96176 | I15: -78739 | J15: -65345 | K15: -79576 | L15: -66819 | M15: -117748 | N15: i.Aufstellung
A16: Etschberg | B16: -20374.69 | C16: -25806.41 | D16: -41131.94 | E16: -104341.42 | F16: 74075.94 | G16: -119840.5 | H16: -73561.56 | I16: 62470.28 | J16: -219336.7 | K16: -22475.21 | L16: -52270.44 | M16: -36506.78 | N16: i.Aufstellung | O16: i.Aufstellung
A17: Föckelberg | B17: -49850.83 | C17: 5178.26 | D17: -42502.87 | E17: -78296.86 | F17: -37357.09 | G17: -55231.3 | H17: -46670.62 | I17: -44313.79 | J17: -48890 | K17: -104614 | L17: -79162 | M17: -69499 | N17: i.Aufstellung
A18: Haschbach/Rbg. | B18: -47860.97 | C18: 7172.58 | D18: 3731.36 | E18: -37082.44 | F18: 35187.49 | G18: -53505.47 | H18: 72437.8 | I18: 62972.15 | J18: -30442.11 | K18: 61824.28 | L18: 23387.71 | M18: 92913.6 | N18: i.Aufstellung
A19: Herchweiler i.O. | B19: -46738.51 | C19: -81072.53 | D19: -46893.76 | E19: -99942.99 | F19: 5082.76 | G19: -67494.59 | H19: 2412.5 | I19: 1526.97 | J19: -16923.64 | K19: -37562.23 | L19: -94890 | M19: -74650 | N19: i.Aufstellung | O19: i.Aufstellung
A20: Horschbach | B20: -19861.97 | C20: -10267.62 | D20: 15925.06 | E20: 30080.55 | F20: 9639.09 | G20: -41502.94 | H20: 28666.63 | I20: -83145 | J20: -30627.5 | K20: -21672.5 | L20: -80903 | M20: -110336.5 | N20: i.Aufstellung
A21: Konken | B21: -67577.62 | C21: -206265.94 | D21: -130443.09 | E21: -142406.6 | F21: -67079 | G21: -255455.71 | H21: 1514.71 | I21: -3894.13 | J21: 30002 | K21: -85330 | L21: -107440 | M21: -227829 | N21: i.Aufstellung | O21: i.Aufstellung
A22: Körborn | B22: -41128.32 | C22: -74068.07 | D22: 9461.57 | E22: -71030.95 | F22: 11342.73 | G22: -17770.58 | H22: 19473.79 | I22: -50567.08 | J22: 20569.55 | K22: -51211.78 | L22: -627.05 | M22: 28986.54 | N22: i.Aufstellung
A23: Kusel | B23: -495124.73 | C23: 550915.79 | D23: -1623927.4 | E23: -722903.08 | F23: -45891.52 | G23: -1015823.9 | H23: 961969.4 | I23: 159959.38 | J23: -823902.86 | K23: -917547 | L23: -1985360 | M23: -761435 | N23: i.Aufstellung
A24: Neunkirchen/Pbg. | B24: -13883.83 | C24: -14298.11 | D24: -14877.84 | E24: -67249.46 | F24: 7383.34 | G24: -47444.27 | H24: -46795.38 | I24: -44512.5 | J24: -48890 | K24: -104614 | L24: -77662 | M24: -70881 | N24: i.Aufstellung
A25: Niederalben | B25: -69475.65 | C25: -73890.39 | D25: -56704.71 | E25: -48477.94 | F25: -72114 | G25: -71627 | H25: -108943 | I25: -79451 | J25: -70838 | K25: -65757 | L25: -66870 | M25: -61550 | N25: i.Aufstellung
A26: Niederstaufenbach | B26: -19895.9 | C26: -13480.41 | D26: -27692.57 | E26: -17299.26 | F26: -42953 | G26: -41485 | H26: -39366 | I26: -36134 | J26: -62822 | K26: -46331 | L26: -83038 | M26: -38491 | N26: i.Aufstellung
A27: Oberalben | B27: -17827.74 | C27: -38923.76 | D27: -36000.39 | E27: -35989.47 | F27: 7250.96 | G27: -58982.44 | H27: 17383.72 | I27: 15892.89 | J27: 25045.78 | K27: 1385.63 | L27: 8062.05 | M27: 18479.29 | N27: i.Aufstellung
A28: Oberstaufenbach | B28: -119085.93 | C28: -30616.76 | D28: -80537.53 | E28: 28289.54 | F28: 92565.2 | G28: -130649.03 | H28: -84639.1 | I28: -86428 | J28: -35217 | K28: -46298 | L28: -77725 | M28: -76227 | N28: i.Aufstellung
A29: Pfeffelbach | B29: 258311.95 | C29: -17213.61 | D29: 29889.91 | E29: 99584.17 | F29: 265534.87 | G29: 9744.19 | H29: 119733.21 | I29: 183036.37 | J29: 244176.16 | K29: 103962.23 | L29: 195787.88 | M29: 202440.34 | N29: i.Aufstellung
A30: Rammelsbach | B30: -159163.63 | C30: -113582.31 | D30: -182374.25 | E30: -100235.79 | F30: -48509.25 | G30: -87138.54 | H30: -162285 | I30: -199602 | J30: -196347 | K30: -387354 | L30: -222510 | M30: -391801 | N30: i.Aufstellung
A31: Rathsweiler | B31: -14847.78 | C31: -2820.35 | D31: 15896.47 | E31: -10234.92 | F31: 4007.41 | G31: -9609 | H31: -11370 | I31: -9015 | J31: -19489 | K31: -9144 | L31: -58373 | M31: -28874 | N31: i.Aufstellung | O31: i.Aufstellung
A32: Reichweiler | B32: -35688.31 | C32: -61590.83 | D32: -28508.13 | E32: -64856.31 | F32: 26378.47 | G32: -53000.82 | H32: 67185.47 | I32: 91194.22 | J32: -43475.36 | K32: -35821.51 | L32: -25941.52 | M32: 74227.14 | N32: i.Aufstellung
A33: Ruthweiler | B33: -111912.7 | C33: -114524.16 | D33: -67972.2 | E33: -79694.73 | F33: -61882.31 | G33: -119798.16 | H33: -47249.83 | I33: -48729.17 | J33: -62525.63 | K33: -100527.86 | L33: -15846.19 | M33: -41450.17 | N33: i.Aufstellung | O33: i.Aufstellung
A34: Rutsweiler/Glan | B34: -2865.04 | C34: -6477.03 | D34: 19845.52 | E34: 24993.22 | F34: -50412.33 | G34: -41498.47 | H34: 822.91 | I34: -57683 | J34: -76542.5 | K34: -67757.5 | L34: -47201 | M34: -30310 | N34: i.Aufstellung
A35: Schellweiler | B35: -55468.24 | C35: -53430.75 | D35: -61410.29 | E35: -90780.36 | F35: -71550.06 | G35: -83498.38 | H35: 6063.24 | I35: -7327.31 | J35: 66618.06 | K35: 37745.59 | L35: 5049.6 | M35: 118164.32 | N35: i.Aufstellung | O35: i.Aufstellung
A36: Selchenbach | B36: -9098.79 | C36: -16789.88 | D36: -20561.97 | E36: -13578.7 | F36: -14910.09 | G36: -19013.92 | H36: 13854.3 | I36: -41983.71 | J36: -50.81 | K36: -41271.37 | L36: 1541.85 | M36: 44422.69 | N36: i.Aufstellung | O36: i.Aufstellung
A37: Thallichtenberg | B37: -61700.57 | C37: -206264.94 | D37: -130443.09 | E37: -142406.6 | F37: 114869.05 | G37: -205467.07 | H37: 21194.1 | I37: -3894.13 | J37: 20601 | K37: -74770 | L37: -127630 | M37: -104020 | N37: i.Aufstellung | O37: i.Aufstellung
A38: Theisbergstegen | B38: -49375.84 | C38: -129772.47 | D38: -76758.34 | E38: -162692.59 | F38: 95405.76 | G38: -136120.05 | H38: -38625.3 | I38: 122768.13 | J38: -100360 | K38: -107760 | L38: -106500 | M38: -134424 | N38: i.Aufstellung
A39: Ulmet | B39: -51991.7 | C39: -233795.02 | D39: -41785.9 | E39: -112742.72 | F39: -137200 | G39: -131150 | H39: -111767 | I39: -121364 | J39: -120840 | K39: 121236 | L39: -98525 | M39: -86948 | N39: i.Aufstellung
A40: Welchweiler | B40: -6477.03 | C40: 19324.52 | D40: 24993.22 | E40: -3895.39 | F40: -22170.72 | G40: -22170.72 | H40: -3524.4 | I40: -42186 | J40: -39921 | K40: -40420 | L40: -48307 | M40: -48277 | N40: i.Aufstellung
A42: VG Lauterecken-Wolfstein
A43: Adenbach | B43: -13753.25 | C43: -42794.15 | D43: -18701.63 | E43: -17945.88 | F43: -11741.98 | G43: -20067.39 | H43: -7220 | I43: -9568.64 | J43: -27152.11 | K43: -14005.38 | L43: -27152.11 | M43: -1382.78 | N43: -21521 | O43: -24846 | P43: -24486
...

Sheet Eigenkapital zum 31.12.
N1: Plan
A2: Kommune | B2: 2011 | C2: 2012 | D2: 2013 | E2: 2014 | F2: 2015 | G2: 2016 | H2: 2017 | I2: 2018 | J2: 2019 | K2: 2020 | L2: 2021 | M2: 2022 | N2: 2023 | O2: 2024 | P2: 2025 | Q2: 2026
A4: Landkreis Kusel | B4: -75119438 | C4: -89584598 | D4: -97306648 | E4: -1.0399764e+08 | F4: -1.113949e+08 | G4: -1.1935602e+08 | H4: -1.3083906e+08 | I4: -1.3623976e+08 | J4: -1.4070936e+08 | K4: -1.4295813e+08 | L4: -1.4989167e+08 | M4: -1.5863481e+08
A6: VG Kusel-Altenglan
A7: Albessen | B7: 1456397.3 | C7: 1442453.9 | D7: 1413580.4 | E7: 1390515.8 | F7: 1349827.9 | G7: 1375125.9 | H7: 1304091.8 | I7: 1260514 | J7: 1156669.5 | K7: 1067922.1 | L7: 1057678.9 | M7: 986978.86 | N7: i.Aufstellung | O7: i.Aufstellung
A8: Altenglan | B8: -211911.13 | C8: -729349.88 | D8: -1129819.4 | E8: -1207499.9 | F8: -1521233.2 | G8: -1850271.2 | H8: -2166457.5 | I8: -2557593.5 | J8: -2955245.5 | K8: -3820831.2 | L8: -4229888.2 | M8: -4979432.2 | N8: i.Aufstellung
A9: Bedesbach | B9: 451733.58 | C9: 331895.43 | D9: 231866.29 | E9: 161208.01 | F9: 171501.97 | G9: 112714.52 | H9: 121278.04 | I9: 174066.98 | J9: 125115 | K9: 178703.56 | L9: 408838.05 | M9: 993176.17 | N9: i.Aufstellung
A10: Blaubach | B10: 578751.3 | C10: 545655.87 | D10: 257680.22 | E10: 311292.46 | F10: 330657.68 | G10: 293685.06 | H10: 166273.42 | I10: 101874.95 | J10: 48020.91 | K10: -2606.69 | L10: -56586.99 | M10: -154211.69 | N10: i.Aufstellung
A11: Bosenbach | B11: -916122.56 | C11: -1190230.6 | D11: -1431111.4 | E11: -1558245.3 | F11: -1682716.2 | G11: -1812761.1 | H11: -1885597.7 | I11: -2029278.1 | J11: -2198163.9 | K11: -2405121.7 | L11: 2585576.3 | M11: -2769164.3 | N11: i.Aufstellung
A12: Dennweiler-Frohnbach | B12: 733252.19 | C12: 746024.32 | D12: 749920.61 | E12: 697555.09 | F12: 716504.04 | G12: 671980.58 | H12: 653446.42 | I12: 653743.9 | J12: 651129.52 | K12: 669039.91 | L12: 664288.97 | M12: 573498.97 | N12: i.Aufstellung
A13: Ehweiler | B13: 1201325.7 | C13: 1193188.1 | D13: 1190402 | E13: 1158731.8 | F13: 1148397.4 | G13: 1117534.4 | H13: 1085784.2 | I13: 1054431.2 | J13: 1031508.1 | K13: 970368.08 | L13: 915348.08 | M13: 861428.08 | N13: i.Aufstellung
A14: Elzweiler | B14: 324398.55 | C14: 308664.04 | D14: 302512.9 | E14: 290025.73 | F14: 274855.72 | G14: 259361.74 | H14: 242123.05 | I14: 216316.05 | J14: 179619.05 | K14: 155491.05 | L14: 127608.07 | M14: 96798.07 | N14: i.Aufstellung
A15: Erdesbach | B15: 79924.54 | C15: 25984.64 | D15: -8920.43 | E15: -49893.43 | F15: -90808.01 | G15: -179123.01 | H15: -266989.01 | I15: -338241.01 | J15: -394813.01 | K15: -464722.01 | L15: -520792.01 | M15: -629890.01 | N15: i.Aufstellung
A16: Etschberg | B16: 1282847.9 | C16: 1202441.2 | D16: 1060085.8 | E16: 952255.25 | F16: 889480.41 | G16: 725218.82 | H16: 602692.24 | I16: 533605.01 | J16: 352730.63 | K16: 318485.16 | L16: 265521.52 | M16: 94101.52 | N16: i.Aufstellung | O16: i.Aufstellung
A17: Föckelberg | B17: 720408.65 | C17: 712510.95 | D17: 664573 | E17: 660379.8 | F17: 643310.93 | G17: 593231.66 | H17: 569326.79 | I17: 545035.04 | J17: 565820.13 | K17: 483017.13 | L17: 432990.13 | M17: 383682.13 | N17: i.Aufstellung
A18: Haschbach/Rbg. | B18: 1207617 | C18: 1180444.1 | D18: 1169195.1 | E18: 1124364.8 | F18: 1115906.9 | G18: 1033518.3 | H18: 1074660.8 | I18: 1027878.5 | J18: 1018622 | K18: 1076769.2 | L18: 1127611.8 | M18: 1025361.8 | N18: i.Aufstellung
A19: Herchweiler i.O. | B19: 476470.04 | C19: 384805.03 | D19: 288030.37 | E19: 238662.05 | F19: 110357.6 | G19: 32444.36 | H19: 14986.65 | I19: -45399.1 | J19: -82470.75 | K19: -207350.75 | L19: -315580.75 | M19: -405040.75 | N19: i.Aufstellung | O19: i.Aufstellung
A20: Horschbach | B20: 1276173.9 | C20: 1233373.5 | D20: 1220,535,71 | E20: 1227128.1 | F20: 1201077 | G20: 1153789.9 | H20: 1164387.3 | I20: 1075428.3 | J20: 1031014.3 | K20: 997130.33 | L20: 906598.33 | M20: 789375.33 | N20: i.Aufstellung
A21: Konken | B21: 643086.01 | C21: 370358.19 | D21: 143211.13 | E21: -91262.06 | F21: -151237.85 | G21: -409108.51 | H21: -470482.26 | I21: -392555.88 | J21: -575505 | K21: -610262 | L21: -747582 | M21: -971356 | N21: i.Aufstellung | O21: i.Aufstellung
A22: Körborn | B22: 850127.95 | C22: 757121.09 | D22: 729367.93 | E22: 687426.45 | F22: 640564.85 | G22: 564620.22 | H22: 562327.66 | I22: 491636.9 | J22: 469557.03 | K22: 479042.82 | L22: 492300.16 | M22: 377730.16 | N22: i.Aufstellung
A23: Kusel | B23: 9621269.1 | C23: 9353786.2 | D23: 8619437.4 | E23: 7595607.1 | F23: 6365831.6 | G23: 5905662.8 | H23: 6074115.2 | I23: 5734430.5 | J23: 4708271.8 | K23: 3711054.8 | L23: 2265957.8 | M23: 1527049.8 | N23: i.Aufstellung
A24: Neunkirchen/Pbg. | B24: 1031544 | C24: 994121 | D24: 955192 | E24: 903069 | F24: 882119 | G24: 809798 | H24: 766875 | I24: 716284 | J24: 660123 | K24: 553035 | L24: 468075.41 | M24: 389742.41 | N24: i.Aufstellung
A25: Niederalben | B25: -159844.1 | C25: -220250.44 | D25: -278819.26 | E25: -294536.94 | F25: -355530.94 | G25: -416256.94 | H25: -505297.94 | I25: -570172.94 | J25: -620242.94 | K25: -667632.94 | L25: -716901.94 | M25: -767613.94 | N25: i.Aufstellung
A26: Niederstaufenbach | B26: 298485.3 | C26: 271420.9 | D26: 236855.67 | E26: 214470.31 | F26: 169258.31 | G26: 128668.31 | H26: 92136.31 | I26: 60425.31 | J26: -6606.69 | K26: -54997.69 | L26: -131375.69 | M26: -170664.69 | N26: i.Aufstellung
A27: Oberalben | B27: -111772.18 | C27: -158216.04 | D27: -227574.71 | E27: -238296.93 | F27: -286031.09 | G27: -326382.62 | H27: -325517.82 | I27: -317908.69 | J27: -334221.8 | K27: -328760.86 | L27: -314139.28 | M27: -444069.28 | N27: i.Aufstellung
A28: Oberstaufenbach | B28: 246485.22 | C28: 216685.87 | D28: 168305.88 | E28: 284582 | F28: 291668.28 | G28: 169875.55 | H28: 96823.61 | I28: 32256.61 | J28: 11688.61 | K28: -21647.39 | L28: -89924.39 | M28: -151414.39 | N28: i.Aufstellung
A29: Pfeffelbach | B29: 7194898 | C29: 7064498.5 | D29: 6958814.7 | E29: 6900040.2 | F29: 6926270.1 | G29: 6790952.3 | H29: 6709843.9 | I29: 6660661.9 | J29: 6812701.4 | K29: 6805266 | L29: 6853647.3 | M29: 6797647.3 | N29: i.Aufstellung
A30: Rammelsbach | B30: 833312.28 | C30: 608822.27 | D30: 358337.38 | E30: 250030.18 | F30: 133261.89 | G30: -35117.13 | H30: -145934.22 | I30: -399075.22 | J30: -638967.59 | K30: -1040607.3 | L30: -1286983.6 | M30: -1690600.6 | N30: i.Aufstellung
A31: Rathsweiler | B31: 429848.52 | C31: 416799.14 | D31: 414263.84 | E31: 410627.6 | F31: 395690.66 | G31: 375969.66 | H31: 355477.66 | I31: 337999.66 | J31: 310164.66 | K31: 292700.66 | L31: 222748.55 | M31: 193874.55 | N31: i.Aufstellung | O31: i.Aufstellung
A32: Reichweiler | B32: 1249697.6 | C32: 1236831.3 | D32: 1205383 | E32: 1136754.2 | F32: 1083102.2 | G32: 1028620.9 | H32: 1033603.7 | I32: 1078199.8 | J32: 1066345.6 | K32: 1071961.3 | L32: 1125963.2 | M32: 940153.19 | N32: i.Aufstellung
A33: Ruthweiler | B33: -422084.03 | C33: -545407.22 | D33: -656421.64 | E33: -763869.03 | F33: -851595.76 | G33: -980322.66 | H33: -1056975.3 | I33: -1170660 | J33: -1207545.2 | K33: -1277303.9 | L33: -1277999.3 | M33: -1525629.3 | N33: i.Aufstellung | O33: i.Aufstellung
A34: Rutsweiler/Glan | B34: 376773.71 | C34: 400871.26 | D34: 426196.14 | E34: 378085.87 | F34: 320450.92 | G34: 276618.44 | H34: 266954.01 | I34: 228419.38 | J34: 146602.38 | K34: 73646.38 | L34: 29733.38 | M34: -5165.62 | N34: i.Aufstellung
A35: Schellweiler | B35: 960944.02 | C35: 889829.32 | D35: 816565.68 | E35: 766979.85 | F35: 643545.67 | G35: 566795.47 | H35: 540549.06 | I35: 478173.27 | J35: 518278.96 | K35: 606501.97 | L35: 607165.47 | M35: 450395.47 | N35: i.Aufstellung | O35: i.Aufstellung
A36: Selchenbach | B36: 917603.06 | C36: 857447.15 | D36: 807067.48 | E36: 788742.86 | F36: 721669.47 | G36: 674500.95 | H36: 639272.39 | I36: 602627.49 | J36: 566719.23 | K36: 554596.07 | L36: 566669.27 | M36: 493439.27 | N36: i.Aufstellung | O36: i.Aufstellung
A37: Thallichtenberg | B37: 1278990.8 | C37: 1255963.3 | D37: 1125540 | E37: 1145114.1 | F37: 1161320.5 | G37: 1112992.2 | H37: 1139196.4 | I37: 1140510 | J37: 1030700 | K37: 939460.04 | L37: 805130.04 | M37: 694520.04 | N37: i.Aufstellung | O37: i.Aufstellung
A38: Theisbergstegen | B38: 1361343.3 | C38: 1470454.4 | D38: 1306902.8 | E38: 1115261 | F38: 1079678.6 | G38: 850005.13 | H38: 747844.27 | I38: 647032.68 | J38: 597469.46 | K38: 583187 | L38: 457617.44 | M38: 319158.44 | N38: i.Aufstellung
A39: Ulmet | B39: 924442.18 | C39: 753253.47 | D39: 659627.43 | E39: 572198.95 | F39: 421589.95 | G39: 290389.95 | H39: 185418.95 | I39: 67371.95 | J39: -45103.05 | K39: -155582.05 | L39: -317307.05 | M39: -307751.05 | N39: i.Aufstellung
A40: Welchweiler | B40: 297281.1 | C40: 295375.97 | D40: 287651.42 | E40: 303960.7 | F40: 286938.61 | G40: 278428.72 | H40: 280904.38 | I40: 253876.38 | J40: 22481.88 | K40: 194221.88 | L40: 165557.88 | M40: 131079.88 | N40: i.Aufstellung
A42: VG Lauterecken-Wolfstein
A43: Adenbach | B43: -58110.74 | C43: -101358.93 | D43: -125722.52 | E43: -154775.64 | F43: -182980.29 | G43: -203848.84 | H43: -230559.4 | I43: -249857.67 | J43: -279270.67 | K43: -316645.67 | L43: -354695.67 | M43: -374493.67 | N43: -394711.67 | O43: -415889.67 | P43: -436007.67
...

Sheet Hebesatz Grundsteuer A
A1: Kommune | B1: 2011 | C1: 2012 | D1: 2013 | E1: 2014 | F1: 2015 | G1: 2016 | H1: 2017 | I1: 2018 | J1: 2019 | K1: 2020 | L1: 2021 | M1: 2022 | N1: 2023
A3: Landkreis Kusel
A5: VG Kusel-Altenglan
A6: Albessen | B6: 2.9 | C6: 2.9 | D6: 2.9 | E6: 2.9 | F6: 3 | G6: 3 | H6: 3 | I6: 3 | J6: 3 | K6: 3 | L6: 3 | M6: 3.2 | N6: 3.2
A7: Altenglan | B7: 2.9 | C7: 2.9 | D7: 2.9 | E7: 2.9 | F7: 3 | G7: 3 | H7: 3 | I7: 3 | J7: 3 | K7: 3 | L7: 3 | M7: 3.2 | N7: 3.2
A8: Bedesbach | B8: 2.9 | C8: 2.9 | D8: 2.9 | E8: 2.9 | F8: 3 | G8: 3 | H8: 3 | I8: 3 | J8: 3 | K8: 3 | L8: 3 | M8: 3.2 | N8: 3.2
A9: Blaubach | B9: 2.9 | C9: 2.9 | D9: 2.9 | E9: 2.9 | F9: 3 | G9: 3 | H9: 3 | I9: 3 | J9: 3 | K9: 3 | L9: 3 | M9: 3.2 | N9: 3.2
A10: Bosenbach | B10: 2.9 | C10: 2.9 | D10: 2.9 | E10: 2.9 | F10: 3 | G10: 3 | H10: 3 | I10: 3 | J10: 3 | K10: 3 | L10: 3 | M10: 3.2 | N10: 3.2
A11: Dennweiler-Frohnbach | B11: 2.9 | C11: 2.9 | D11: 2.9 | E11: 2.9 | F11: 3 | G11: 3 | H11: 3 | I11: 3 | J11: 3 | K11: 3 | L11: 3 | M11: 3.2 | N11: 3.2
A12: Ehweiler | B12: 2.9 | C12: 2.9 | D12: 2.9 | E12: 2.9 | F12: 2.9 | G12: 3 | H12: 3 | I12: 3 | J12: 3 | K12: 3 | L12: 3 | M12: 3.2 | N12: 3.2
A13: Elzweiler | B13: 2.9 | C13: 3.5 | D13: 3.5 | E13: 3.5 | F13: 3.5 | G13: 3.5 | H13: 3.5 | I13: 3.5 | J13: 3.5 | K13: 3.5 | L13: 3.5 | M13: 3.7 | N13: 3.7
A14: Erdesbach | B14: 2.9 | C14: 2.9 | D14: 2.9 | E14: 2.9 | F14: 3 | G14: 3 | H14: 3 | I14: 3 | J14: 3 | K14: 3 | L14: 3 | M14: 3.2 | N14: 3.2
A15: Etschberg | B15: 2.9 | C15: 2.9 | D15: 2.9 | E15: 2.9 | F15: 3 | G15: 3 | H15: 3 | I15: 3 | J15: 3 | K15: 3 | L15: 3 | M15: 3.25 | N15: 3.25
A16: Föckelberg | B16: 2.9 | C16: 2.9 | D16: 2.9 | E16: 2.9 | F16: 3 | G16: 3 | H16: 3 | I16: 3 | J16: 3 | K16: 3 | L16: 3 | M16: 3.2 | N16: 3.2
A17: Haschbach/Rbg. | B17: 2.9 | C17: 2.9 | D17: 2.9 | E17: 3 | F17: 3 | G17: 3 | H17: 3 | I17: 3 | J17: 3 | K17: 3 | L17: 3 | M17: 3.2 | N17: 3.2
... A39: Welchweiler | B39: 2.9 | C39: 2.9 | D39: 2.9 | E39: 2.9 | F39: 3 | G39: 3 | H39: 3 | I39: 3 | J39: 3 | K39: 3 | L39: 3 | M39: 3.2 | N39: 3.2
A41: VG Lauterecken-Wolfstein
A42: Adenbach | B42: 2.9 | C42: 3.35 | D42: 3.35 | E42: 3.35 | F42: 3.35 | G42: 3.35 | H42: 3.35 | I42: 3.35 | J42: 3.35 | K42: 3.35 | L42: 3.35 | M42: 4.02 | N42: 4.02
A43: Aschbach | B43: 2.9 | C43: 3.3 | D43: 3 | E43: 3 | F43: 3 | G43: 3 | H43: 3 | I43: 3 | J43: 3 | K43: 3 | L43: 3 | M43: 3.2 | N43: 3.2
A44: Buborn | B44: 2.9 | C44: 2.9 | D44: 2.9 | E44: 3 | F44: 3 | G44: 3 | H44: 3 | I44: 3 | J44: 3 | K44: 3 | L44: 3 | M44: 3.2 | N44: 3.2
A45: Cronenberg | B45: 2.9 | C45: 3.2 | D45: 3.2 | E45: 3.2 | F45: 3.2 | G45: 3.2 | H45: 3.2 | I45: 3.2 | J45: 3.2 | K45: 3.2 | L45: 3.2 | M45: 3.4 | N45: 3.4
A46: Deimberg | B46: 2.9 | C46: 2.9 | D46: 2.9 | E46: 2.9 | F46: 3 | G46: 3 | H46: 3 | I46: 3 | J46: 3 | K46: 3 | L46: 3 | M46: 3.2 | N46: 3.2
A47: Einöllen | B47: 2.9 | C47: 2.9 | D47: 2.9 | E47: 3.03 | F47: 3.03 | G47: 3.03 | H47: 3.03 | I47: 3.03 | J47: 3.03 | K47: 3.03 | L47: 3.03 | M47: 3.13 | N47: 3.13
A48: Eßweiler | B48: 3.1 | C48: 3.3 | D48: 3.3 | E48: 3.4 | F48: 3.4 | G48: 3.4 | H48: 3.4 | I48: 3.4 | J48: 3.4 | K48: 3.4 | L48: 3.4 | M48: 3.6 | N48: 3.6
A49: Ginsweiler | B49: 2.8 | C49: 2.9 | D49: 2.9 | E49: 3 | F49: 3 | G49: 3 | H49: 3 | I49: 3 | J49: 3 | K49: 3 | L49: 3 | M49: 3.1 | N49: 3.1
A50: Glanbrücken | B50: 2.9 | C50: 3.22 | D50: 3.22 | E50: 3.22 | F50: 3.22 | G50: 3.22 | H50: 3.22 | I50: 3.22 | J50: 3.22 | K50: 3.22 | L50: 3.22 | M50: 3.42 | N50: 3.42
A51: Grumbach | B51: 2.8 | C51: 3.75 | D51: 3.75 | E51: 3.75 | F51: 3.75 | G51: 3.75 | H51: 3.75 | I51: 3.75 | J51: 3.75 | K51: 3.75 | L51: 3.75 | M51: 3.95 | N51: 3.95
A52: Hausweiler | B52: 2.9 | C52: 2.9 | D52: 2.9 | E52: 3 | F52: 3 | G52: 3 | H52: 3 | I52: 3 | J52: 3 | K52: 3 | L52: 3 | M52: 3.2 | N52: 3.2
A53: Hefersweiler | B53: 2.9 | C53: 2.9 | D53: 2.9 | E53: 2.9 | F53: 3 | G53: 3 | H53: 3 | I53: 3 | J53: 3 | K53: 3 | L53: 3 | M53: 3.2 | N53: 3.2
... A82: Wolfstein | B82: 2.9 | C82: 3.2 | D82: 3.2 | E82: 3.33 | F82: 3.33 | G82: 3.33 | H82: 3.33 | I82: 3.33 | J82: 3.33 | K82: 3.33 | L82: 3.33 | M82: 3.33 | N82: 3.33
A84: VG Oberes Glantal
A85: Altenkirchen | B85: 2.9 | C85: 2.9 | D85: 2.9 | E85: 3 | F85: 3 | G85: 3 | H85: 3 | I85: 3 | J85: 3 | K85: 3 | L85: 3 | M85: 3.2
A86: Börsborn | B86: 2.9 | C86: 3 | D86: 3 | E86: 3 | F86: 3 | G86: 3 | H86: 3 | I86: 3 | J86: 3 | K86: 3 | L86: 3 | M86: 3.2 | N86: 3.45
A87: Breitenbach | B87: 2.9 | C87: 2.9 | D87: 3.1 | E87: 3.1 | F87: 3.1 | G87: 3.1 | H87: 3.1 | I87: 3.1 | J87: 3.1 | K87: 3.1 | L87: 3.1 | M87: 3.3 | N87: 3.45
A88: Brücken/Pfalz | B88: 2.9 | C88: 3.1 | D88: 3.1 | E88: 3.1 | F88: 3.1 | G88: 3.1 | H88: 3.1 | I88: 3.1 | J88: 3.1 | K88: 3.1 | L88: 3.1 | M88: 3.3
A89: Dittweiler | B89: 2.85 | C89: 2.85 | D89: 2.85 | E89: 2.85 | F89: 2.85 | G89: 2.85 | H89: 2.85 | I89: 2.85 | J89: 2.85 | K89: 2.85 | L89: 2.85 | M89: 2.85
A90: Dunzweiler | B90: 2.85 | C90: 2.85 | D90: 2.85 | E90: 2.85 | F90: 2.85 | G90: 2.85 | H90: 2.85 | I90: 2.85 | J90: 2.85 | K90: 2.85 | L90: 2.85 | M90: 2.85 | N90: 3.45
A91: Frohnhofen | B91: 2.85 | C91: 2.85 | D91: 2.85 | E91: 2.85 | F91: 2.85 | G91: 2.85 | H91: 2.85 | I91: 2.85 | J91: 2.85 | K91: 2.85 | L91: 2.85 | M91: 2.85 | N91: 4.01
A92: Glan-Münchweiler | B92: 2.85 | C92: 3 | D92: 3 | E92: 3 | F92: 3 | G92: 3 | H92: 3 | I92: 3 | J92: 3 | K92: 3 | L92: 3 | M92: 3.2 | N92: 3.45
A93: Gries | B93: 2.9 | C93: 2.9 | D93: 2.9 | E93: 2.9 | F93: 3 | G93: 3 | H93: 3 | I93: 3 | J93: 3 | K93: 3.1 | L93: 3.1 | M93: 3.3
...

Sheet Hebesatz Grundsteuer B
A1: Kommune | B1: 2011 | C1: 2012 | D1: 2013 | E1: 2014 | F1: 2015 | G1: 2016 | H1: 2017 | I1: 2018 | J1: 2019 | K1: 2020 | L1: 2021 | M1: 2022 | N1: 2023
A3: Landkreis Kusel
A5: VG Kusel-Altenglan
A6: Albessen | B6: 3.4 | C6: 3.4 | D6: 3.4 | E6: 3.4 | F6: 3.65 | G6: 3.65 | H6: 3.65 | I6: 3.65 | J6: 3.65 | K6: 3.65 | L6: 3.65 | M6: 3.85 | N6: 3.85
A7: Altenglan | B7: 3.4 | C7: 3.75 | D7: 3.75 | E7: 3.75 | F7: 3.75 | G7: 3.75 | H7: 3.75 | I7: 3.75 | J7: 3.75 | K7: 3.75 | L7: 3.75 | M7: 3.95 | N7: 3.95
A8: Bedesbach | B8: 3.4 | C8: 3.95 | D8: 3.95 | E8: 3.95 | F8: 3.95 | G8: 3.95 | H8: 3.95 | I8: 3.95 | J8: 3.95 | K8: 3.95 | L8: 3.95 | M8: 4.15 | N8: 4.15
A9: Blaubach | B9: 3.4 | C9: 3.4 | D9: 3.4 | E9: 3.65 | F9: 3.65 | G9: 3.65 | H9: 3.65 | I9: 3.65 | J9: 3.65 | K9: 3.65 | L9: 3.65 | M9: 3.85 | N9: 3.85
A10: Bosenbach | B10: 3.4 | C10: 4 | D10: 4.8 | E10: 4.8 | F10: 4.8 | G10: 4.8 | H10: 4.8 | I10: 4.8 | J10: 4.8 | K10: 4.8 | L10: 4.8 | M10: 4.8 | N10: 4.8
A11: Dennweiler-Frohnbach | B11: 3.4 | C11: 3.4 | D11: 3.4 | E11: 3.4 | F11: 3.65 | G11: 3.65 | H11: 3.65 | I11: 3.65 | J11: 3.65 | K11: 3.65 | L11: 3.65 | M11: 3.85 | N11: 3.85
A12: Ehweiler | B12: 3.2 | C12: 3.2 | D12: 3.2 | E12: 3.38 | F12: 3.38 | G12: 3.65 | H12: 3.65 | I12: 3.65 | J12: 3.65 | K12: 3.65 | L12: 3.65 | M12: 3.85 | N12: 3.85
A13: Elzweiler | B13: 3.4 | C13: 3.9 | D13: 3.9 | E13: 3.9 | F13: 3.9 | G13: 3.9 | H13: 3.9 | I13: 3.9 | J13: 3.9 | K13: 3.9 | L13: 3.9 | M13: 4.1 | N13: 4.1
A14: Erdesbach | B14: 3.4 | C14: 3.9 | D14: 3.9 | E14: 3.9 | F14: 3.9 | G14: 3.9 | H14: 3.9 | I14: 3.9 | J14: 3.9 | K14: 3.9 | L14: 3.9 | M14: 4.1 | N14: 4.1
A15: Etschberg | B15: 3.4 | C15: 3.4 | D15: 3.4 | E15: 3.4 | F15: 3.65 | G15: 3.65 | H15: 3.65 | I15: 3.65 | J15: 3.65 | K15: 3.65 | L15: 3.65 | M15: 3.9 | N15: 3.9
A16: Föckelberg | B16: 3.4 | C16: 3.8 | D16: 3.8 | E16: 3.8 | F16: 3.8 | G16: 3.8 | H16: 3.8 | I16: 3.8 | J16: 3.8 | K16: 3.8 | L16: 3.8 | M16: 4 | N16: 4
A17: Haschbach/Rbg. | B17: 3.4 | C17: 3.4 | D17: 3.4 | E17: 3.65 | F17: 3.65 | G17: 3.65 | H17: 3.65 | I17: 3.65 | J17: 3.65 | K17: 3.65 | L17: 3.65 | M17: 3.85 | N17: 3.85
... A39: Welchweiler | B39: 3.4 | C39: 3.9 | D39: 3.9 | E39: 3.9 | F39: 3.9 | G39: 3.9 | H39: 3.9 | I39: 3.9 | J39: 3.9 | K39: 3.9 | L39: 3.9 | M39: 4.1 | N39: 4.1
A41: VG Lauterecken-Wolfstein
A42: Adenbach | B42: 3.3 | C42: 3.65 | D42: 3.65 | E42: 3.65 | F42: 3.65 | G42: 3.65 | H42: 3.65 | I42: 3.65 | J42: 3.65 | K42: 3.65 | L42: 3.65 | M42: 4.38 | N42: 4.38
A43: Aschbach | B43: 3.38 | C43: 3.99 | D43: 3.99 | E43: 4.14 | F43: 4.14 | G43: 4.14 | H43: 4.14 | I43: 4.14 | J43: 4.14 | K43: 4.14 | L43: 4.14 | M43: 4.34 | N43: 4.34
A44: Buborn | B44: 3.3 | C44: 3.3 | D44: 3.3 | E44: 3.65 | F44: 3.65 | G44: 3.65 | H44: 3.65 | I44: 3.65 | J44: 3.65 | K44: 3.65 | L44: 3.65 | M44: 3.85 | N44: 3.85
A45: Cronenberg | B45: 3.3 | C45: 3.58 | D45: 3.58 | E45: 3.65 | F45: 3.65 | G45: 3.65 | H45: 3.65 | I45: 3.65 | J45: 3.65 | K45: 3.65 | L45: 3.65 | M45: 3.85 | N45: 3.85
A46: Deimberg | B46: 3.3 | C46: 3.42 | D46: 3.42 | E46: 3.42 | F46: 3.65 | G46: 3.65 | H46: 3.65 | I46: 3.65 | J46: 3.65 | K46: 3.65 | L46: 3.65 | M46: 3.85 | N46: 3.85
A47: Einöllen | B47: 3.38 | C47: 3.69 | D47: 3.69 | E47: 3.7 | F47: 3.7 | G47: 3.7 | H47: 3.7 | I47: 3.7 | J47: 3.7 | K47: 3.7 | L47: 3.7 | M47: 3.8 | N47: 3.8
A48: Eßweiler | B48: 3.5 | C48: 3.96 | D48: 3.96 | E48: 4.1 | F48: 4.1 | G48: 4.1 | H48: 4.1 | I48: 4.1 | J48: 4.1 | K48: 4.1 | L48: 4.1 | M48: 4.3 | N48: 4.3
A49: Ginsweiler | B49: 3.2 | C49: 3.3 | D49: 3.3 | E49: 3.65 | F49: 3.65 | G49: 3.65 | H49: 3.65 | I49: 3.65 | J49: 3.65 | K49: 3.65 | L49: 3.65 | M49: 3.75 | N49: 3.75
A50: Glanbrücken | B50: 3.3 | C50: 3.65 | D50: 3.65 | E50: 3.65 | F50: 3.65 | G50: 3.65 | H50: 3.65 | I50: 3.65 | J50: 3.65 | K50: 3.65 | L50: 3.65 | M50: 3.85 | N50: 3.85
A51: Grumbach | B51: 3.2 | C51: 4.2 | D51: 4.2 | E51: 4.2 | F51: 4.2 | G51: 4.2 | H51: 4.2 | I51: 4.2 | J51: 4.2 | K51: 4.2 | L51: 4.2 | M51: 4.4 | N51: 4.4
A52: Hausweiler | B52: 3.3 | C52: 3.4 | D52: 3.4 | E52: 3.65 | F52: 3.65 | G52: 3.65 | H52: 3.65 | I52: 3.65 | J52: 3.65 | K52: 3.65 | L52: 3.65 | M52: 3.85 | N52: 3.85
A53: Hefersweiler | B53: 3.38 | C53: 3.57 | D53: 3.57 | E53: 3.57 | F53: 3.65 | G53: 3.65 | H53: 3.65 | I53: 3.65 | J53: 3.65 | K53: 3.65 | L53: 3.65 | M53: 3.85 | N53: 3.85
