Workbook

Sheet EW
A1: Einwohnerzahl zum 30.06. d. J.
A3: Kommune | B3: 2011 | C3: 2012 | D3: 2013 | E3: 2014 | F3: 2015 | G3: 2016 | H3: 2017 | I3: 2018 | J3: 2019 | K3: 2020 | L3: 2021 | M3: 2022
A5: Landkreis Kusel | B5: 73118 | C5: 72458 | D5: 71713 | E5: 71138 | F5: 71174 | G5: 71544 | H5: 71320 | I5: 71148 | J5: 70826 | K5: 70454 | L5: 70348 | M5: 71085
A7: VG Kusel-Altenglan
A8: Albessen | B8: 165 | C8: 162 | D8: 149 | E8: 136 | F8: 141 | G8: 136 | H8: 136 | I8: 140 | J8: 134 | K8: 135 | L8: 141 | M8: 144
A9: Altenglan | B9: 3069 | C9: 3005 | D9: 2974 | E9: 2984 | F9: 2774 | G9: 2797 | H9: 2812 | I9: 2748 | J9: 2761 | K9: 2723 | L9: 2751 | M9: 2783
A10: Bedesbach | B10: 846 | C10: 859 | D10: 828 | E10: 823 | F10: 797 | G10: 788 | H10: 795 | I10: 783 | J10: 802 | K10: 779 | L10: 779 | M10: 759
A11: Blaubach | B11: 411 | C11: 403 | D11: 392 | E11: 399 | F11: 395 | G11: 397 | H11: 409 | I11: 398 | J11: 379 | K11: 389 | L11: 376 | M11: 401
A12: Bosenbach | B12: 800 | C12: 780 | D12: 769 | E12: 752 | F12: 726 | G12: 727 | H12: 731 | I12: 694 | J12: 671 | K12: 650 | L12: 679 | M12: 692
A13: Dennweiler-Frohnbach | B13: 289 | C13: 284 | D13: 277 | E13: 276 | F13: 284 | G13: 268 | H13: 277 | I13: 278 | J13: 274 | K13: 268 | L13: 266 | M13: 270
A14: Ehweiler | B14: 176 | C14: 170 | D14: 165 | E14: 164 | F14: 171 | G14: 169 | H14: 166 | I14: 164 | J14: 165 | K14: 165 | L14: 168 | M14: 167
A15: Elzweiler | B15: 119 | C15: 117 | D15: 108 | E15: 106 | F15: 109 | G15: 105 | H15: 115 | I15: 119 | J15: 121 | K15: 117 | L15: 122 | M15: 128
A16: Erdesbach | B16: 639 | C16: 638 | D16: 649 | E16: 638 | F16: 610 | G16: 624 | H16: 609 | I16: 622 | J16: 606 | K16: 604 | L16: 590 | M16: 603
A17: Etschberg | B17: 679 | C17: 668 | D17: 667 | E17: 685 | F17: 678 | G17: 664 | H17: 667 | I17: 670 | J17: 667 | K17: 655 | L17: 664 | M17: 663
A18: Föckelberg | B18: 412 | C18: 425 | D18: 410 | E18: 417 | F18: 368 | G18: 375 | H18: 367 | I18: 378 | J18: 385 | K18: 378 | L18: 367 | M18: 368
A19: Haschbach/Rbg. | B19: 717 | C19: 728 | D19: 733 | E19: 710 | F19: 713 | G19: 711 | H19: 692 | I19: 688 | J19: 675 | K19: 664 | L19: 662 | M19: 656
... A41: Welchweiler | B41: 216 | C41: 216 | D41: 202 | E41: 210 | F41: 203 | G41: 196 | H41: 191 | I41: 190 | J41: 188 | K41: 196 | L41: 186 | M41: 180
A43: VG Lauterecken-Wolfstein
A44: Adenbach | B44: 148 | C44: 149 | D44: 152 | E44: 149 | F44: 139 | G44: 150 | H44: 145 | I44: 133 | J44: 149 | K44: 149 | L44: 145 | M44: 147
A45: Aschbach | B45: 352 | C45: 346 | D45: 340 | E45: 339 | F45: 332 | G45: 338 | H45: 326 | I45: 318 | J45: 327 | K45: 327 | L45: 326 | M45: 321
A46: Buborn | B46: 154 | C46: 156 | D46: 153 | E46: 157 | F46: 155 | G46: 158 | H46: 159 | I46: 160 | J46: 145 | K46: 146 | L46: 152 | M46: 137
A47: Cronenberg | B47: 145 | C47: 141 | D47: 148 | E47: 150 | F47: 153 | G47: 155 | H47: 155 | I47: 154 | J47: 145 | K47: 144 | L47: 154 | M47: 156
A48: Deimberg | B48: 99 | C48: 99 | D48: 95 | E48: 97 | F48: 101 | G48: 99 | H48: 99 | I48: 105 | J48: 102 | K48: 98 | L48: 99 | M48: 97
A49: Einöllen | B49: 445 | C49: 437 | D49: 423 | E49: 418 | F49: 428 | G49: 403 | H49: 414 | I49: 424 | J49: 408 | K49: 408 | L49: 426 | M49: 415
A50: Eßweiler | B50: 412 | C50: 416 | D50: 398 | E50: 388 | F50: 417 | G50: 414 | H50: 403 | I50: 384 | J50: 385 | K50: 378 | L50: 387 | M50: 368
A51: Ginsweiler | B51: 320 | C51: 317 | D51: 330 | E51: 326 | F51: 318 | G51: 321 | H51: 312 | I51: 306 | J51: 287 | K51: 281 | L51: 276 | M51: 274
A52: Glanbrücken | B52: 491 | C52: 490 | D52: 489 | E52: 494 | F52: 474 | G52: 477 | H52: 473 | I52: 482 | J52: 483 | K52: 481 | L52: 481 | M52: 470
A53: Grumbach | B53: 466 | C53: 463 | D53: 460 | E53: 455 | F53: 466 | G53: 479 | H53: 471 | I53: 473 | J53: 469 | K53: 473 | L53: 471 | M53: 470
A54: Hausweiler | B54: 55 | C54: 57 | D54: 59 | E54: 56 | F54: 50 | G54: 46 | H54: 43 | I54: 49 | J54: 52 | K54: 46 | L54: 47 | M54: 44
A55: Hefersweiler | B55: 526 | C55: 522 | D55: 537 | E55: 545 | F55: 525 | G55: 515 | H55: 519 | I55: 530 | J55: 535 | K55: 547 | L55: 544 | M55: 560
... A84: Wolfstein | B84: 2038 | C84: 1999 | D84: 1962 | E84: 1954 | F84: 2027 | G84: 2002 | H84: 2004 | I84: 1951 | J84: 1923 | K84: 1930 | L84: 1898 | M84: 1907
A86: VG Oberes Glantal
A87: Altenkirchen | B87: 1357 | C87: 1330 | D87: 1324 | E87: 1326 | F87: 1332 | G87: 1321 | H87: 1292 | I87: 1310 | J87: 1316 | K87: 1299 | L87: 1321 | M87: 1305
A88: Börsborn | B88: 425 | C88: 425 | D88: 415 | E88: 421 | F88: 418 | G88: 419 | H88: 421 | I88: 423 | J88: 421 | K88: 405 | L88: 403 | M88: 440
A89: Breitenbach | B89: 1916 | C89: 1905 | D89: 1872 | E89: 1857 | F89: 1835 | G89: 1837 | H89: 1821 | I89: 1823 | J89: 1806 | K89: 1800 | L89: 1796 | M89: 1810
A90: Brücken/Pfalz | B90: 2248 | C90: 2201 | D90: 2173 | E90: 2162 | F90: 2157 | G90: 2151 | H90: 2137 | I90: 2139 | J90: 2097 | K90: 2082 | L90: 2097 | M90: 2096
A91: Dittweiler | B91: 888 | C91: 920 | D91: 835 | E91: 822 | F91: 810 | G91: 837 | H91: 852 | I91: 833 | J91: 826 | K91: 846 | L91: 844 | M91: 876
A92: Dunzweiler | B92: 931 | C92: 926 | D92: 858 | E92: 918 | F92: 906 | G92: 919 | H92: 919 | I92: 888 | J92: 876 | K92: 878 | L92: 863 | M92: 857
A93: Frohnhofen | B93: 545 | C93: 546 | D93: 532 | E93: 527 | F93: 512 | G93: 532 | H93: 517 | I93: 504 | J93: 500 | K93: 511 | L93: 493 | M93: 494
A94: Glan-Münchweiler | B94: 1247 | C94: 1233 | D94: 1236 | E94: 1202 | F94: 1199 | G94: 1189 | H94: 1190 | I94: 1224 | J94: 1233 | K94: 1213 | L94: 1235 | M94: 1213
A95: Gries | B95: 1014 | C95: 1000 | D95: 1002 | E95: 987 | F95: 1007 | G95: 1030 | H95: 1044 | I95: 1041 | J95: 1056 | K95: 1063 | L95: 1076 | M95: 1129
A96: Henschtal | B96: 346 | C96: 351 | D96: 350 | E96: 342 | F96: 337 | G96: 314 | H96: 312 | I96: 319 | J96: 327 | K96: 312 | L96: 317 | M96: 312
A97: Herschw.-Pettersh. | B97: 1375 | C97: 1356 | D97: 1339 | E97: 1351 | F97: 1358 | G97: 1334 | H97: 1346 | I97: 1326 | J97: 1318 | K97: 1307 | L97: 1282 | M97: 1296
A98: Hüffler | B98: 585 | C98: 584 | D98: 569 | E98: 557 | F98: 562 | G98: 576 | H98: 573 | I98: 552 | J98: 555 | K98: 541 | L98: 517 | M98: 502
... A109: Waldmohr | B109: 5165 | C109: 5105 | D109: 5156 | E109: 5093 | F109: 5156 | G109: 5176 | H109: 5171 | I109: 5170 | J109: 5154 | K109: 5176 | L109: 5165 | M109: 5340
A111: Durchschnitt | B111: =AVERAGE(B8:B106) -> 709.29474 | C111: =AVERAGE(C8:C106) -> 703.11579 | D111: =AVERAGE(D8:D106) -> 693.66316 | E111: =AVERAGE(E8:E106) -> 689.73684 | F111: =AVERAGE(F8:F109) -> 725.2449 | G111: =AVERAGE(G8:G109) -> 730.04082 | H111: =AVERAGE(H8:H109) -> 727.81633 | I111: =AVERAGE(I8:I109) -> 726 | J111: =AVERAGE(J8:J109) -> 722.71429 | K111: =AVERAGE(K8:K109) -> 718.91837 | L111: =AVERAGE(L8:L109) -> 717.83673 | M111: =AVERAGE(M8:M109) -> 725.35714

Sheet Liqui.kr.
A1: Liquiditätskredite
N2: Plan
A3: Kommune | B3: 2011 | C3: 2012 | D3: 2013 | E3: 2014 | F3: 2015 | G3: 2016 | H3: 2017 | I3: 2018 | J3: 2019 | K3: 2020 | L3: 2021 | M3: 2022 | N3: 2023 | O3: 2024 | P3: 2025 | Q3: 2026
A5: Landkreis Kusel | B5: -109059447 | C5: -122866220 | D5: -130718264 | E5: -141000000 | F5: -150000000 | G5: -160000000 | H5: -165000000 | I5: -167000000 | J5: -168000000 | K5: -171300000 | L5: -173000000 | M5: -179000000 | N5: -186418778
A7: VG Kusel-Altenglan
A8: Albessen | B8: 3870.21 | C8: -94433.88 | D8: -102045.74 | E8: -113475.2 | F8: -119464.64 | G8: -84225.89 | H8: -83129.11 | I8: -98457.78 | J8: -137701.85 | K8: -300116.76 | L8: -227780.09 | M8: -254756.58
A9: Altenglan | B9: -3508946.3 | C9: -3456228.9 | D9: -3732382.9 | E9: -4195705.2 | F9: -4302134.2 | G9: -4760345.6 | H9: -5105713.3 | I9: -4939200.3 | J9: 5175446 | K9: -5228714.4 | L9: -4876033.1 | M9: -4868344.8
A10: Bedesbach | B10: -966618.86 | C10: -974281.82 | D10: -1150112.6 | E10: -1219814.1 | F10: -1174261.3 | G10: -1258584 | H10: -1206373 | I10: -1121038 | J10: 1210971.2 | K10: 1257972.9 | L10: -1197979.6 | M10: -678428.3
A11: Blaubach | B11: -537785.16 | C11: -610303.92 | D11: -881136.62 | E11: -864718.59 | F11: -710113.09 | G11: -843999.1 | H11: -1207492 | I11: -1115864.7 | J11: -1149329.5 | K11: -1096093.2 | L11: -1104423.4 | M11: -1139305.2
A12: Bosenbach | B12: -1924551.8 | C12: -2289592.4 | D12: -2504428.7 | E12: -2523112.7 | F12: -2649282 | G12: -2831488.6 | H12: -2774411.5 | I12: -2855528.8 | J12: -3000036.9 | K12: -3039075.6 | L12: -3181185.4 | M12: -3266225.3
A13: Dennweiler-Frohnbach | B13: -178167.63 | C13: -144023.45 | D13: -122413.85 | E13: -179774.59 | F13: -238216.84 | G13: -120956.55 | H13: -78818.62 | I13: 38828.56 | J13: 73569.59 | K13: -170273.3 | L13: -189076.67 | M13: -292523.84
A14: Ehweiler | B14: 160952.24 | C14: 150813.04 | D14: 129349.31 | E14: 97665.53 | F14: 141423.37 | G14: 132909.35 | H14: 96189.66 | I14: 139018.55 | J14: 121813.99 | K14: 156653.29 | L14: 127948.89 | M14: 117635.43
A15: Elzweiler | B15: -211011.39 | C15: -187783.22 | D15: -212798.03 | E15: -181111.07 | F15: -199649.78 | G15: -207230.86 | H15: -210487.45 | I15: -185949.87 | J15: -220349.92 | K15: -235224.07 | L15: -240488.58 | M15: -254372.65
A16: Erdesbach | B16: -831052.49 | C16: -810665.98 | D16: -870088.22 | E16: -930450.47 | F16: -919644.43 | G16: -1058683 | H16: -1040214.9 | I16: -1001106.5 | J16: -1017483.5 | K16: -1036329.4 | L16: -1059149.4 | M16: -999366.33
A17: Etschberg | B17: -304586.43 | C17: -270323.65 | D17: -284125.46 | E17: -405301.14 | F17: -330649.45 | G17: -479304 | H17: -570406.06 | I17: -524247.37 | J17: -776406.11 | K17: -823828.94 | L17: -865046.32 | M17: -907020.05
A18: Föckelberg | B18: -243017.03 | C18: -238015.12 | D18: -287517.72 | E18: -364525.36 | F18: -429046.65 | G18: -489805.5 | H18: -522493.78 | I18: -561121.87 | J18: -564474.93 | K18: -532989.09 | L18: -529252.97 | M18: -521216.53
A19: Haschbach/Rbg. | B19: 44441.11 | C19: 52131.91 | D19: 101381.81 | E19: 59275.53 | F19: 83874.64 | G19: 8705.91 | H19: 33205.97 | I19: 95346.28 | J19: 63870.68 | K19: -11101.52 | L19: -32233.9 | M19: 69474.22
... A41: Welchweiler | B41: -110696.86 | C41: -96861.72 | D41: -91351.08 | E41: -62741.28 | F41: -80313.08 | G41: -117663.05 | H41: -70101.45 | I41: -52699 | J41: -77613.85 | K41: -62541.01 | L41: -45511.15 | M41: -61350.58
A43: VG Lauterecken-Wolfstein
A44: Adenbach | B44: -100886.62 | C44: -173682.78 | D44: -145654.35 | E44: -156004.13 | F44: -171656.31 | G44: -193084.64 | H44: -211070.95 | I44: -265848.52 | J44: -291870.63 | K44: -309608.43 | L44: -311523.15 | M44: -244523.05 | N44: -266144 | O44: -291640 | P44: -316778
A45: Aschbach | B45: -329061.32 | C45: -376029.07 | D45: -414656.58 | E45: -415467.95 | F45: -397510.69 | G45: -475591.98 | H45: -482504.45 | I45: -494498.93 | J45: -527908.83 | K45: -521085.04 | L45: -524781.54 | M45: -523631.9 | N45: -549422 | O45: -575920 | P45: -602937
A46: Buborn | B46: -33937.31 | C46: 25857.89 | D46: 48711.88 | E46: 502.75 | F46: -49418 | G46: -129401.39 | H46: -80938.93 | I46: -55544.79 | J46: -77247.56 | K46: -48734.79 | L46: -54656.84 | M46: -19019.29 | N46: -51224 | O46: -83479 | P46: -115734
A47: Cronenberg | B47: -111842.6 | C47: -112177.95 | D47: -76064.52 | E47: -25585.29 | F47: -40494.23 | G47: -50673.88 | H47: -21123.89 | I47: -17585.02 | J47: -11561.13 | K47: -15676.51 | L47: -41191.22 | M47: -42696.28 | N47: -46827 | O47: -47569 | P47: -47174
A48: Deimberg | B48: -89058.05 | C48: -65086.6 | D48: -158931.68 | E48: -156743.45 | F48: -175176.3 | G48: -218334.74 | H48: -252704.04 | I48: -161729.22 | J48: -200419.85 | K48: -286992.71 | L48: -270949.97 | M48: -280339.24 | N48: -298789 | O48: -315739 | P48: -332439
A49: Einöllen | B49: -152587.78 | C49: -183506.27 | D49: -212671.55 | E49: -237032.95 | F49: -234510.39 | G49: -250144.35 | H49: -257677.3 | I49: -246945.73 | J49: -252153.19 | K49: -229679.44 | L49: -253841.09 | M49: -206255.51 | N49: -200261 | O49: -190216 | P49: -180021
A50: Eßweiler | B50: -557714.97 | C50: -613905.24 | D50: -633388.47 | E50: -616706.34 | F50: -618746.22 | G50: -736644.82 | H50: -758493.94 | I50: -794097.04 | J50: -805588.81 | K50: -833875.36 | L50: -737690.15 | M50: -674804.99 | N50: -730432 | O50: -780982 | P50: -825782
A51: Ginsweiler | B51: -139420.21 | C51: -75001.65 | D51: 7854.49 | E51: -93156.04 | F51: 1325.95 | G51: -67523.11 | H51: -133119.53 | I51: -149798.89 | J51: -306313.6 | K51: -298389.11 | L51: -213990.59 | M51: -207850.29 | N51: -241691 | O51: -276542 | P51: -311503
A52: Glanbrücken | B52: -415139.2 | C52: -477408.44 | D52: -464106.59 | E52: -472750.98 | F52: -753697.02 | G52: -625954.01 | H52: -643330.54 | I52: -661720.41 | J52: -696989.45 | K52: -634002.55 | L52: -777795.82 | M52: -1053543.2 | N52: -1122537 | O52: -1184172 | P52: -1245610
A53: Grumbach | B53: -1048107.9 | C53: -614806.77 | D53: -1028418.3 | E53: -1182885.4 | F53: -1136547.6 | G53: -1306944.8 | H53: -1430077.9 | I53: -1673362.7 | J53: -1778555.4 | K53: -1920476 | L53: -1897912.2 | M53: -1742906.7 | N53: -1957826 | O53: -2160043
A54: Hausweiler | B54: -36990.28 | C54: -3775.59 | D54: -5120.01 | E54: -17717.12 | F54: -26361.16 | G54: -36936.9 | H54: -39664.42 | I54: -28381.3 | J54: -51167.11 | K54: -52507.01 | L54: -61778.3 | M54: -58764.1 | N54: -64039 | O54: -58924 | P54: -63789
A55: Hefersweiler | B55: -148851.65 | C55: -198768.68 | D55: -220991.71 | E55: -268586.69 | F55: -261094.54 | G55: -303470.97 | H55: -340116.54 | I55: -325090.2 | J55: -243900.69 | K55: -255906.32 | L55: -449464.13 | M55: -273864.49 | N55: -374146 | O55: -455164 | P55: -537608
A56: Heinzenhausen | B56: -221527.32 | C56: -230695.14 | D56: -230991.15 | E56: -229744.21 | F56: -227649.08 | G56: -279787.72 | H56: -283316.75 | I56: -283242.45 | J56: -275374.74 | K56: -287123.07 | L56: -319158.08 | M56: -256677 | N56: -277954 | O56: -301135 | P56: -322220
A57: Herren-Sulzbach | B57: -151662.97 | C57: -249092.07 | D57: -145109.09 | E57: -359582.62 | F57: -302292.01 | G57: -258278.71 | H57: -242373.16 | I57: -256662.01 | J57: -331705.31 | K57: -318003.33 | L57: -276760.64 | M57: -282887.28 | N57: -296452 | O57: -309903 | P57: -322914
A58: Hinzweiler | B58: -389296.92 | C58: -293498.68 | D58: -303014.06 | E58: -313100.67 | F58: -344714.41 | G58: -352812.33 | H58: -395348.29 | I58: -385995.7 | J58: -551772.81 | K58: -601099.52 | L58: -787946.63 | M58: -741861.44 | N58: -726245 | O58: -659617 | P58: -597193
A59: Hohenöllen | B59: -37638.44 | C59: -11006.17 | D59: -18417.28 | E59: 2200.81 | F59: 16035.97 | G59: -17361.29 | H59: -9456.54 | I59: 698.09 | J59: 10974.62 | K59: 47057.98 | L59: 42141.73 | M59: 91724.81 | N59: 87649 | O59: 77095 | P59: 62893
A60: Homberg | B60: -35126.35 | C60: -302.8 | D60: -51422.21 | E60: 39258.31 | F60: 98010.32 | G60: 85873.61 | H60: 54077.57 | I60: 50602.86 | J60: -53670.42 | K60: -40237.24 | L60: -54629.38 | M60: -43758.88 | N60: -34504 | O60: -25989 | P60: -17694
A61: Hoppstädten | B61: -47804.61 | C61: -30469.58 | D61: -37799.79 | E61: -22720.4 | F61: -22860.17 | G61: -46591.12 | H61: -131275.54 | I61: -98884.61 | J61: -409588.34 | K61: -319979.08 | L61: -246665.69 | M61: -292940.93 | N61: -332951 | O61: -357371 | P61: -381611
A62: Jettenbach | B62: 73420 | C62: 23757.84 | D62: 121874.97 | E62: 342349.71 | F62: 119564.43 | G62: 33676.79 | H62: -7931.46 | I62: 105864.59 | J62: 277425.04 | K62: 334150.8 | L62: 460976.34 | M62: 762349.93 | N62: 855488 | O62: 907966 | P62: 926764
A63: Kappeln | B63: -153317.42 | C63: -132351.71 | D63: -154961.97 | E63: -159099.14 | F63: -189677.49 | G63: -239233.03 | H63: -262881.68 | I63: -232405.29 | J63: -285769.24 | K63: -279121.32 | L63: -322336.45 | M63: -357246.39 | N63: -385712 | O63: -413608 | P63: -372614
A64: Kirrweiler | B64: -46043.31 | C64: -24402.35 | D64: -7126.79 | E64: -10660.96 | F64: 48409.22 | G64: 145850.95 | H64: 206609.03 | I64: 312066.48 | J64: 389202.58 | K64: 419379.61 | L64: 290474.23 | M64: 358513.91 | N64: 305447 | O64: 372290 | P64: 439493
A65: Kreimbach-Kaulbach | B65: 371511.53 | C65: 311971.41 | D65: 302851.65 | E65: 454804.04 | F65: 453594.31 | G65: 633611.35 | H65: 528181.11 | I65: 536168.95 | J65: 418760.6 | K65: 552304.42 | L65: 543258.63 | M65: 317895.61 | N65: 326619 | O65: 234132 | P65: 139365
A66: Langweiler | B66: -68220.28 | C66: -61586.78 | D66: -72208.35 | E66: -88354.48 | F66: -78351.05 | G66: -142609.93 | H66: -161999.38 | I66: -182508.87 | J66: -181101.68 | K66: -195685.02 | L66: -213553.7 | M66: -236732.29 | N66: -269670 | O66: -311487 | P66: -353024
A67: Lauterecken | B67: -3458645.7 | C67: -3452516.4 | D67: -3327576 | E67: -3889434.2 | F67: -4331546.3 | G67: -4576264.5 | H67: -5132622 | I67: -5667674.3 | J67: -5528381.8 | K67: -6758763.8 | L67: -6836575.2 | M67: -7254389 | N67: -7276466 | O67: -7307236
A68: Lohnweiler | B68: -200579.31 | C68: -229447.52 | D68: -260494.93 | E68: -220334.26 | F68: -272336.3 | G68: -318213.49 | H68: -325075.82 | I68: -349333.32 | J68: -320065.28 | K68: -337788.19 | L68: -335594.97 | M68: -213608.76 | N68: -315934 | O68: -366027 | P68: -415640
A69: Medard | B69: -751596.82 | C69: -764363.29 | D69: -789564.64 | E69: -969930.83 | F69: -909699.85 | G69: -744436.51 | H69: -815751 | I69: -647767.74 | J69: -654187.22 | K69: -574191.28 | L69: -23501.88 | M69: 39461.36 | N69: 85958 | O69: 134582
A70: Merzweiler | B70: 164838.76 | C70: 115585.65 | D70: 152312.83 | E70: 182947.62 | F70: 213343.67 | G70: 162590.28 | H70: 142630.33 | I70: 166681.94 | J70: 152594.85 | K70: 138321.45 | L70: 223220.31 | M70: 158340.11 | N70: 119272 | O70: 79744 | P70: 40856
A71: Nerzweiler | B71: -135541.09 | C71: -159744.61 | D71: -125495.89 | E71: -119984.81 | F71: -111696.83 | G71: -123758.83 | H71: -121289.75 | I71: -86275.42 | J71: -87390.7 | K71: -95438.82 | L71: -95441.65 | M71: -90375.85 | N71: -97527 | O71: -105258 | P71: -112719
A72: Nußbach | B72: -643251.41 | C72: -619965.84 | D72: -649074.27 | E72: -673221.57 | F72: -766332.74 | G72: -869799.49 | H72: -917773.67 | I72: -839533.39 | J72: -793724.22 | K72: -833623.44 | L72: -743650.85 | M72: -584949.12 | N72: -620229 | O72: -642239 | P72: -662398
A73: Oberweiler i.T. | B73: -170479.42 | C73: -194836.39 | D73: -213220.96 | E73: -206075.75 | F73: -224546.51 | G73: -267950.9 | H73: -309182.81 | I73: -313331.43 | J73: -357107.57 | K73: -387242.86 | L73: -379480.65 | M73: -410612.16 | N73: -446412 | O73: -482362 | P73: -517762
A74: Oberweiler-Tiefenb. | B74: -405558.61 | C74: -289893.74 | D74: -511533.29 | E74: -430740.37 | F74: -467888.03 | G74: -306377.92 | H74: -243541.58 | I74: -271287.17 | J74: -158487.17 | K74: -162437.52 | L74: -48051.52 | M74: -247961 | N74: -258964 | O74: -268567 | P74: -276920
A75: Odenbach | B75: -441248.75 | C75: -484070.27 | D75: -339985.75 | E75: -496868.22 | F75: -429960.98 | G75: -463093.36 | H75: -687558.15 | I75: -577982.5 | J75: -614079.15 | K75: -578871.99 | L75: -641711.95 | M75: -765094.92 | N75: -854842 | O75: -958327
A76: Offenbach-Hundheim | B76: -1120570.6 | C76: -1017953.4 | D76: -1113391.2 | E76: -1281273.6 | F76: -1177378.9 | G76: -1455930 | H76: -1680121 | I76: -1671251.2 | J76: -1612352.4 | K76: -1729080.2 | L76: -1841995.2 | M76: -1962830.2 | N76: -2221714 | O76: -2484357
A77: Reipoltskirchen | B77: -381671.51 | C77: -414806.26 | D77: -446226.87 | E77: -488886.46 | F77: -536969.61 | G77: -546713.78 | H77: -638372.86 | I77: -491804.45 | J77: -481782.02 | K77: -461486.34 | L77: -439241.61 | M77: -758423.57 | N77: -803094 | O77: -839564 | P77: -875334
A78: Relsberg | B78: -92011.89 | C78: -93763.68 | D78: -102434.25 | E78: -109975.61 | F78: -90429.06 | G78: -107353.8 | H78: -122234.27 | I78: -96421.95 | J78: -87443.37 | K78: -87855.04 | L78: -77863.72 | M78: -60994.24 | N78: -84286 | O78: -96235 | P78: -107934
A79: Rothselberg | B79: 62125.3 | C79: 51532.56 | D79: 23238.87 | E79: 188602.81 | F79: 362400.95 | G79: 557471.3 | H79: 584894.85 | I79: 601629.71 | J79: 657562.01 | K79: 736215.92 | L79: 875342.29 | M79: 914785.17 | N79: 1026242 | O79: 1138187 | P79: 1250006
A80: Rutsweiler/Lauter | B80: -214056.38 | C80: -250318.43 | D80: -236048.43 | E80: -183539.03 | F80: -299637.31 | G80: -362031.52 | H80: -806829.5 | I80: -649999.41 | J80: -654298.86 | K80: -638111.54 | L80: -697887.48 | M80: -694005 | N80: -748400 | O80: -802462 | P80: -855967
A81: St.Julian | B81: -535327.21 | C81: -744692.25 | D81: -689857.42 | E81: -678213.71 | F81: -623083.67 | G81: -976250.97 | H81: -882955.28 | I81: -1051005.5 | J81: -1096858.4 | K81: -1214209 | L81: -1514779.9 | M81: -2091386.7 | N81: -2184669 | O81: -2295984 | P81: -2377795 | Q81: -2440435
A82: Unterjeckenbach | B82: 65887.49 | C82: 52158.6 | D82: 28723.33 | E82: 34779.37 | F82: 27619.79 | G82: 8951.76 | H82: 2270.42 | I82: 1705.07 | J82: 8608.62 | K82: 15503.42 | L82: 14256.72 | M82: 14692.96 | N82: 11886 | O82: 9329 | P82: 7012
A83: Wiesweiler | B83: -382665.29 | C83: -409526.51 | D83: -459079.63 | E83: -491614.58 | F83: -528412.63 | G83: -612284.36 | H83: -1133015.1 | I83: -883374.61 | J83: -746849.47 | K83: -689230.28 | L83: -643340.05 | M83: -635738.37 | N83: -680060 | O83: -718617 | P83: -757731
A84: Wolfstein | B84: -5100747.1 | C84: -5200209.4 | D84: -6830082.4 | E84: -7136772 | F84: -7269757.7 | G84: -7211425.9 | H84: -7478435.8 | I84: -8130009.6 | J84: -8216518.4 | K84: -9171317.5 | L84: -8982935.2 | M84: -9955852.8 | N84: -9604296 | O84: -9219701
A86: VG Oberes Glantal
A87: Altenkirchen | B87: -541559.62 | C87: -541559.62 | D87: -718847.34 | E87: -542798.55 | F87: -722517.46 | G87: -805885.16 | H87: -818503.35 | I87: -854509.17 | J87: -886337.24 | K87: -1143033.5 | L87: -1325225.2 | M87: -1466060.4 | N87: -1596457.5 | O87: -1774067.5 | P87: -1930997.5 | Q87: -2052287.5
A88: Börsborn | B88: -329128.82 | C88: -329128.82 | D88: -172732.79 | E88: -160836.21 | F88: -199873.85 | G88: -189618.12 | H88: -181868.08 | I88: -166572.01 | J88: -97833.07 | K88: -162926.82 | L88: 0 | M88: 0 | N88: 0 | O88: 0 | P88: 0 | Q88: -
A89: Breitenbach | B89: -1119143.4 | C89: -1119143.4 | D89: -1320282.7 | E89: -1332758.4 | F89: -1874716.2 | G89: -1864746.5 | H89: -1788323.8 | I89: -1453714.7 | J89: -1514430.1 | K89: -1705332.5 | L89: -1870092.3 | M89: -1729723 | N89: -1856227.6
A90: Brücken/Pfalz | B90: -1248854.4 | C90: -1248854.4 | D90: -1431410 | E90: -1459892 | F90: -1542369 | G90: -1491058 | H90: -1603421 | I90: -1689934 | J90: -1447036 | K90: -2179223 | L90: -2099879 | M90: -1803959 | N90: -1947195.9 | O90: -1591689.3
A91: Dittweiler | B91: -678257.06 | C91: -678257.06 | D91: -726770 | E91: -690164 | F91: -813529 | G91: -932937 | H91: -939740 | I91: -894664 | J91: -1261136 | K91: -1296091 | L91: -1625593 | M91: -1493458 | N91: -1627712 | O91: -1832827 | P91: -2015172
A92: Dunzweiler | B92: -739704.47 | C92: -739704.47 | D92: -965493 | E92: -968705 | F92: -1224679 | G92: -1389005 | H92: -1366513 | I92: -1436628 | J92: -1593246 | K92: -1738379 | L92: -1946146 | M92: -2115743 | N92: -2175047 | O92: -2419807 | P92: -2635667
A93: Frohnhofen | B93: -317410.68 | C93: -317410.68 | D93: -406840 | E93: -359718 | F93: -403309 | G93: -471967 | H93: -527160 | I93: -640378 | J93: -410352 | K93: -730911 | L93: -761311 | M93: -764403 | N93: -852912.95 | O93: -957958 | P93: -1045487
A94: Glan-Münchweiler | B94: -626637 | C94: -626637 | D94: -536676 | E94: -289072 | F94: -539993 | G94: -583451 | H94: -313476 | I94: -817190.7 | J94: -714042.61 | K94: -603897.9 | L94: -289680.68 | M94: -366899.25 | N94: -456647.29 | O94: -694257
A95: Gries | B95: -1291718.5 | C95: -1291718.5 | D95: -1446049 | E95: -1429945 | F95: -1234173 | G95: -1320859 | H95: -1281710 | I95: -1242956 | J95: -1134463 | K95: -1222377 | L95: -1372761 | M95: -1731749 | N95: -1628563.5
A96: Henschtal | B96: -155279.2 | C96: -155279.2 | D96: -164543.77 | E96: -181693 | F96: -155330 | G96: -225684 | H96: -150787.63 | I96: -146307.83 | J96: -120803.12 | K96: -166156.76 | L96: -209009 | M96: -294171 | N96: -416385 | O96: -482158 | P96: -554108
A97: Herschw.-Pettersh. | B97: -1078700.1 | C97: -1078700.1 | D97: -1121677 | E97: -1202924 | F97: -1045881 | G97: -1108217 | H97: -935298 | I97: -901659 | J97: -985351 | K97: -520423 | L97: -908779 | M97: -1087269 | N97: -1471129 | O97: -1059190 | P97: -1131240 | Q97: -1176340
A98: Hüffler | B98: -371522.39 | C98: -371522.39 | D98: -488150.51 | E98: -286208.47 | F98: -308542.12 | G98: -461835.83 | H98: -507335.39 | I98: -254489.15 | J98: -191425.39 | K98: -167609.17 | L98: -200730.32 | M98: -70952.05 | N98: -77385.92 | O98: -93502 | P98: -92652 | Q98: -75702
A99: Krottelbach | B99: -239841.83 | C99: -239841.83 | D99: -215775.71 | E99: -257085.42 | F99: -378399.89 | G99: -275232.09 | H99: -317450.92 | I99: -259343.12 | J99: -192951.97 | K99: -331669.59 | L99: -304998.47 | M99: -316514.25 | N99: -337903.76 | O99: -663647 | P99: -697197
A100: Langenbach | B100: -430667.44 | C100: -430667.44 | D100: -432717 | E100: -431397 | F100: -446301 | G100: -427423 | H100: -434974 | I100: -453951 | J100: -522394 | K100: -514588 | L100: -576838 | M100: -520335 | N100: -559390 | O100: -880938 | P100: -982738
A101: Matzenbach | B101: -666701.24 | C101: -666701.24 | D101: -680791.75 | E101: -725291.3 | F101: -658703.45 | G101: -609893.12 | H101: -584775.55 | I101: -616097.6 | J101: -516211.6 | K101: -580439.18 | L101: -522946.98 | M101: -488455.43 | N101: -539608.15 | O101: -717005 | P101: -827855 | Q101: -919655
A102: Nanzdietschweiler | B102: -781232.77 | C102: -781232.77 | D102: -770753.96 | E102: -826892.06 | F102: -821146.35 | G102: -807474.98 | H102: -1071582.4 | I102: -951261.47 | J102: -965364.52 | K102: -1126757.8 | L102: -1199191 | M102: -1400810.7 | N102: -1529102.3 | O102: 1689902.3 | P102: 1867702.3 | Q102: 1990502.3
A103: Ohmbach | B103: -1116288.8 | C103: -1116288.8 | D103: -1241014 | E103: -1346553 | F103: -1420644 | G103: -1556558 | H103: -1569786 | I103: -1869324 | J103: -1988983 | K103: -2015615 | L103: -2098682 | M103: -2247017 | N103: -2238152.5 | O103: =N103-160089 -> -2398241.5 | P103: =O103-122139 -> -2520380.5
A104: Quirnbach | B104: -749567 | C104: -749567 | D104: -865893 | E104: -885025 | F104: -960887 | G104: -950253 | H104: -945043 | I104: -955768 | J104: -1049040 | K104: -1094537 | L104: -1117516.6 | M104: -890457.6 | N104: -887207.68 | O104: -952127
A105: Rehweiler | B105: -285132.11 | C105: -285132.11 | D105: -291552.53 | E105: -200353.69 | F105: -202834.96 | G105: -186117.58 | H105: -185853.39 | I105: -230626.99 | J105: -253177.74 | K105: -356587.44 | L105: -347984.18 | M105: -67083.7 | N105: -34115.97 | O105: -109315.97 | P105: -177715.97 | Q105: -237915.97
A106: Schönenberg-Kbg. | B106: -761797 | C106: -761797 | D106: -951413 | E106: -1519979 | F106: -1079764 | G106: -492358 | H106: -91419 | I106: -725823 | J106: -839431 | K106: -1464778 | L106: -460655 | M106: 266673 | N106: 110185 | O106: -3709213 | P106: -1617555
A107: Steinbach/Glan | B107: -381135.12 | C107: -381135.12 | D107: -306052.76 | E107: -391964.46 | F107: -442801.92 | G107: -304798.03 | H107: -357629.86 | I107: -282523.56 | J107: -189141.32 | K107: -114308.15 | L107: -37952.07 | M107: 121638.71 | N107: -109545.72 | O107: -153445.72 | P107: 198245.72
A108: Wahnwegen | B108: -451935.94 | C108: -451935.94 | D108: -468875.43 | E108: -466332.01 | F108: -504938.97 | G108: -523831.4 | H108: -447371.5 | I108: -185898.53 | J108: -201919.14 | K108: -272195.89 | L108: -168252.42 | M108: -231951.44 | N108: -154666.58 | O108: -271466.58 | P108: -432366.58 | Q108: -605266.58
A109: Waldmohr | B109: -6399899 | C109: -6399899 | D109: -6856826 | E109: -6571952 | F109: -9015976.2 | G109: -10420812 | H109: -10232006 | I109: -10040515 | J109: -10153487 | K109: -12751386 | L109: -12969641 | M109: -13040136 | N109: -14012894
A111: Durchschnitt | B111: =AVERAGE(B8:B109) -> -634399.41 | C111: =AVERAGE(C8:C109) -> -668008.39 | D111: =AVERAGE(D8:D109) -> -745031.7 | E111: =AVERAGE(E8:E109) -> -784853.13 | F111: =AVERAGE(F8:F109) -> -828175.43 | G111: =AVERAGE(G8:G109) -> -883137.65 | H111: =AVERAGE(H8:H109) -> -903579.94 | I111: =AVERAGE(I8:I109) -> -857859.35 | ... Q111: =AVERAGE(Q8:Q109) -> -689637.47
A112: Gesamtsumme | B112: =SUM(B7:B109) -> -62171142 | C112: =SUM(C7:C109) -> -65464822 | D112: =SUM(D7:D109) -> -73013106 | E112: =SUM(E7:E109) -> -76915607 | F112: =SUM(F7:F109) -> -81161193 | G112: =SUM(G7:G109) -> -86547490 | H112: =SUM(H7:H109) -> -88550834 | I112: =SUM(I7:I109) -> -84070216 | ... Q112: =SUM(Q7:Q109) -> -5517099.8
A113: Planzahlen
A114: vorl. Ergebnis
A115: festgest. JA

Sheet Investkredite
A1: Investitionskredite
N2: Plan
A3: Kommune | B3: 2011 | C3: 2012 | D3: 2013 | E3: 2014 | F3: 2015 | G3: 2016 | H3: 2017 | I3: 2018 | J3: 2019 | K3: 2020 | L3: 2021 | M3: 2022 | N3: 2023 | O3: 2024 | P3: 2025 | Q3: 2026
A5: Landkreis Kusel | B5: 26653464 | C5: 26397730 | D5: 26058885 | E5: 25793629 | F5: 25111248 | G5: 24160054 | H5: 23412426 | I5: 23034916 | J5: 23896858 | K5: 24269320 | L5: 30574448 | M5: 30057100 | N5: 30546717
A7: VG Kusel-Altenglan
A8: Albessen | B8: 104142.47 | C8: 102263.1 | D8: 100312.04 | E8: 97575.55 | F8: 95661.18 | G8: 93747.98 | H8: 91780.3 | I8: 89945.81 | J8: 88074.92 | K8: 86035.13 | L8: 123536.23 | M8: 120770.58 | N8: i.Aufstellung | O8: i.Aufstellung
A9: Altenglan | B9: 4988254.8 | C9: 4857147.6 | D9: 4701508.6 | E9: 4536090.2 | F9: 4403485.1 | G9: 4253199.6 | H9: 4041646 | I9: 3831475.7 | J9: 3761963.2 | K9: 3574600.6 | L9: 3431669.1 | M9: 3205207.6 | N9: i.Aufstellung | O9: i.Aufstellung
A10: Bedesbach | B10: 528158.05 | C10: 549437.55 | D10: 517395.77 | E10: 495208.09 | F10: 485813.75 | G10: 459270.16 | H10: 431568.57 | I10: 403515.94 | J10: 429323.52 | K10: 396151.76 | L10: 357268.26 | M10: 451245.34 | N10: i.Aufstellung
A11: Blaubach | B11: 667667.17 | C11: 652751.32 | D11: 737283.82 | E11: 721565.85 | F11: 705331.07 | G11: 668255.49 | H11: 652033.35 | I11: 774082.69 | J11: 742935 | K11: 720765.05 | L11: 723366.91 | M11: 695086.4 | N11: i.Aufstellung
A12: Bosenbach | B12: 1062231.8 | C12: 1023200.3 | D12: 1036799.2 | E12: 988378.97 | F12: 1012311.2 | G12: 987822.36 | H12: 928257.17 | I12: 869878.96 | J12: 810297.58 | K12: 744170.16 | L12: 676934.4 | M12: 640204.7 | N12: i.Aufstellung
A13: Dennweiler-Frohnbach | B13: 202001.74 | C13: 198089.78 | D13: 194013.74 | E13: 189766.42 | F13: 185404.68 | G13: 257770.38 | H13: 252599.11 | I13: 248241.42 | J13: 243804.17 | K13: 239284.6 | L13: 284413.44 | M13: 279218.6 | N13: i.Aufstellung
A14: Ehweiler | B14: 40985.75 | C14: 37497.7 | D14: 33876.56 | E14: 30117.24 | F14: 0 | G14: 0 | H14: 0 | I14: 0 | J14: 0 | K14: 0 | L14: 0 | M14: 0 | N14: i.Aufstellung
A15: Elzweiler | B15: 69297.31 | C15: 58883.99 | D15: 67201.37 | E15: 55021.48 | F15: 45748.45 | G15: 42400.79 | H15: 39036.64 | I15: 35655.76 | J15: 32407.11 | K15: 25139.45 | L15: 21941.36 | M15: 18736.56 | N15: i.Aufstellung
A16: Erdesbach | B16: 585042.2 | C16: 599843.17 | D16: 588233.12 | E16: 565578.16 | F16: 548254.27 | G16: 548190.47 | H16: 505728.09 | I16: 474493.58 | J16: 432569.57 | K16: 353357.63 | L16: 324136.54 | M16: 341457.68 | N16: 12800
A17: Etschberg | B17: 390845.59 | C17: 457751.4 | D17: 445594.07 | E17: 481116.23 | F17: 467837.3 | G17: 455156.6 | H17: 442322.77 | I17: 458428.16 | J17: 444168.73 | K17: 432492.71 | L17: 561898.89 | M17: 706920.93 | N17: i.Aufstellung | O17: i.Aufstellung
A18: Föckelberg | B18: 710017.82 | C18: 685618.94 | D18: 660172.65 | E18: 603536.15 | F18: 531312.69 | G18: 499199.84 | H18: 466571.98 | I18: 433418.58 | J18: 399728.88 | K18: 363151.39 | L18: 330907.85 | M18: 297282.47 | N18: i.Aufstellung
A19: Haschbach/Rbg. | B19: 286622.49 | C19: 239737.91 | D19: 236254.17 | E19: 232620.61 | F19: 170930.09 | G19: 168145.47 | H19: 165235.29 | I19: 162642.03 | J19: 160492.96 | K19: 158318.62 | L19: 255592.62 | M19: 409496.62 | N19: i.Aufstellung
A20: Herchweiler i.O. | B20: 1013587.1 | C20: 994192.63 | D20: 1094440.8 | E20: 1097510 | F20: 1074714.6 | G20: 1114190.8 | H20: 1093557.3 | I20: 1069642.6 | J20: 1045503.4 | K20: 1017056.9 | L20: 1102108.1 | M20: 1134251.2 | N20: i.Aufstellung | O20: i.Aufstellung
A21: Horschbach | B21: 41442.93 | C21: 39244.2 | D21: 36984.59 | E21: 34244.39 | F21: 35624.12 | G21: 37161.4 | H21: 34289 | I21: 31331.16 | J21: 28332.32 | K21: 25291.92 | L21: 22209.38 | M21: 10966.27 | N21: i.Aufstellung
A22: Konken | B22: 2670699.5 | C22: 2621559.2 | D22: 2817102.2 | E22: 2761519 | F22: 2659274.4 | G22: 2544083.4 | H22: 2020910.4 | I22: 1976018 | J22: 1934431 | K22: 1881403.9 | L22: 2303159.3 | M22: 2372362.1 | N22: i.Aufstellung | O22: i.Aufstellung
A23: Körborn | B23: 680651.69 | C23: 668261.64 | D23: 655664.91 | E23: 642046.9 | F23: 629137.16 | G23: 617702.3 | H23: 606040.2 | I23: 586277.65 | J23: 568583.09 | K23: 557409.45 | L23: 536737.17 | M23: 572712.35
A24: Kusel | B24: 19826161 | C24: 19304580 | D24: 19789046 | E24: 19919122 | F24: 19292962 | G24: 19779178 | H24: 19303053 | I24: 19236764 | J24: 18812959 | K24: 19344134 | L24: 20246119 | M24: 20248556 | N24: i.Aufstellung
A25: Neunkirchen/Pbg. | B25: 156249.61 | C25: 152578.46 | D25: 213968.47 | E25: 198148.12 | F25: 202838.28 | G25: 199696.25 | H25: 189329.46 | I25: 178800.96 | J25: 170239.76 | K25: 151954.18 | L25: 131594.95 | M25: 142435.13 | N25: i.Aufstellung
A26: Niederalben | B26: 702213.27 | C26: 679609.56 | D26: 669867.94 | E26: 634569.09 | F26: 601488.17 | G26: 567009.73 | H26: 531725.63 | I26: 495809.53 | J26: 472312.81 | K26: 432146.86 | L26: 395055.57 | M26: 401031.79 | N26: i.Aufstellung
A27: Niederstaufenbach | B27: 258370.99 | C27: 248454.07 | D27: 242979.59 | E27: 230903.8 | F27: 298500.13 | G27: 279830.09 | H27: 263623.26 | I27: 246188.18 | J27: 263581.45 | K27: 247325.55 | L27: 222424.89 | M27: 236560.3 | N27: i.Aufstellung
A28: Oberalben | B28: 339788 | C28: 332781.5 | D28: 325513.9 | E28: 317344.75 | F28: 310321.85 | G28: 280964.32 | H28: 275236.35 | I28: 269944.91 | J28: 293296.99 | K28: 287101.76 | L28: 280809.21 | M28: 274446.58 | N28: i.Aufstellung
A29: Oberstaufenbach | B29: 635253.53 | C29: 618363.82 | D29: 590078.29 | E29: 571377.76 | F29: 544585.37 | G29: 511385.63 | H29: 477886.18 | I29: 444083.97 | J29: 386268.02 | K29: 350659.61 | L29: 316121.87 | M29: 290278.9 | N29: i.Aufstellung
A30: Pfeffelbach | B30: 529948.64 | C30: 471013.91 | D30: 631307.1 | E30: 621285.76 | F30: 597619.15 | G30: 589469.06 | H30: 581241.27 | I30: 572935.06 | J30: 564549.64 | K30: 511868.25 | L30: 493175.89 | M30: 474463.19 | N30: i.Aufstellung
A31: Rammelsbach | B31: 1447588.9 | C31: 1403560.4 | D31: 1486334.2 | E31: 1425311.9 | F31: 1444425.8 | G31: 1527245.5 | H31: 1443465.6 | I31: 1476759.4 | J31: 1389690.6 | K31: 1343351.6 | L31: 1250280.6 | M31: 1464195.9 | N31: i.Aufstellung
A32: Rathsweiler | B32: 0 | C32: 0 | D32: 0 | E32: 9769.55 | F32: 9649.55 | G32: 9979.55 | H32: 8847.25 | I32: 7702.61 | J32: 6557.78 | K32: 5412.77 | L32: 4267.56 | M32: 809.55 | N32: i.Aufstellung | O32: i.Aufstellung
A33: Reichweiler | B33: 692858.16 | C33: 677891.26 | D33: 664749.23 | E33: 665584.73 | F33: 651590.76 | G33: 637246.7 | H33: 622446.77 | I33: 594113.15 | J33: 564582.27 | K33: 519984.53 | L33: 499543.14 | M33: 478991.32 | N33: i.Aufstellung
A34: Ruthweiler | B34: 1066675.3 | C34: 1066171.2 | D34: 1040527 | E34: 1009908.6 | F34: 984893.13 | G34: 959414.55 | H34: 933641.15 | I34: 901847.4 | J34: 876563.15 | K34: 797590.13 | L34: 757341.42 | M34: 726871.14 | N34: i.Aufstellung | O34: i.Aufstellung
A35: Rutsweiler/Glan | B35: 128795 | C35: 124439 | D35: 161167 | E35: 148697 | F35: 148395 | G35: 156485 | H35: 148930 | I35: 145045 | J35: 142577 | K35: 127052.23 | L35: 112263.7 | M35: 224431.51 | N35: i.Aufstellung
A36: Schellweiler | B36: 637529.03 | C36: 626162.33 | D36: 616917.3 | E36: 606720.6 | F36: 595907.04 | G36: 586220.34 | H36: 576381.63 | I36: 567736.83 | J36: 558887.04 | K36: 549954.99 | L36: 639222.94 | M36: 922550.96 | N36: i.Aufstellung | O36: i.Aufstellung
A37: Selchenbach | B37: 104158.51 | C37: 102244.29 | D37: 150120.38 | E37: 177524.68 | F37: 128648.61 | G37: 126956.71 | H37: 125227.28 | I37: 95126.66 | J37: 93644.83 | K37: 45684.78 | L37: 123310.56 | M37: 161806.16 | N37: i.Aufstellung | O37: i.Aufstellung
A38: Thallichtenberg | B38: 515495 | C38: 506679.42 | D38: 577720.26 | E38: 615852.8 | F38: 586759.22 | G38: 577207.29 | H38: 558399.83 | I38: 548976.87 | J38: 577470.58 | K38: 566873.75 | L38: 553087.92 | M38: 601120.22 | N38: i.Aufstellung | O38: i.Aufstellung
A39: Theisbergstegen | B39: 1008968.2 | C39: 989991.83 | D39: 1157712.2 | E39: 1134878.4 | F39: 1112423.1 | G39: 1178517.8 | H39: 1154127 | I39: 1129672.5 | J39: 1101828.3 | K39: 1070868.9 | L39: 1145833.6 | M39: 1284761.5 | N39: i.Aufstellung
A40: Ulmet | B40: 1374921.8 | C40: 1278316.1 | D40: 1274048.7 | E40: 1227949.9 | F40: 1512019.7 | G40: 1450991.1 | H40: 1316602.7 | I40: 1255813.9 | J40: 1146084.5 | K40: 998089.62 | L40: 931367.78 | M40: 939350.33
A41: Welchweiler | B41: 191188.89 | C41: 182095.32 | D41: 172078.48 | E41: 161540.64 | F41: 170398.08 | G41: 185440.3 | H41: 155418.41 | I41: 134992.58 | J41: 119523.14 | K41: 103688.45 | L41: 88521.78 | M41: 67911.53 | N41: i.Aufstellung
A43: VG Lauterecken-Wolfstein
A44: Adenbach | B44: 14236.42 | C44: 26572.98 | D44: 67959.54 | E44: 62846.2 | F44: 59962 | G44: 68677.8 | H44: 65793.6 | I44: 61820.4 | J44: 57484.2 | K44: 53148 | L44: 48811.8 | M44: 44475.6 | N44: 72778 | O44: 61285 | P44: 49791
A45: Aschbach | B45: 150273.1 | C45: 144493.28 | D45: 149372.28 | E45: 168464.67 | F45: 154149.69 | G45: 144001.51 | H45: 130526.14 | I45: 125296.89 | J45: 114692.25 | K45: 104087.61 | L45: 108497.97 | M45: 146489.18 | N45: 141779 | O45: 124821 | P45: 107864
A46: Buborn | B46: 69412.32 | C46: 82929.84 | D46: 76547.36 | E46: 70164.88 | F46: 63782.4 | G46: 57399.92 | H46: 102692.44 | I46: 93659.96 | J46: 84627.48 | K46: 75595 | L46: 67354 | M46: 104510 | N46: 95660 | O46: 87410 | P46: 79160
A47: Cronenberg | B47: 23707.88 | C47: 102504.95 | D47: 100110.8 | E47: 97709.39 | F47: 86912.64 | G47: 85008.43 | H47: 74196.69 | I47: 62539.43 | J47: 50595.54 | K47: 38643.93 | L47: 26656.04 | M47: 14671.23 | N47: 11069 | O47: 7466 | P47: 4450
A48: Deimberg | B48: 176792.67 | C48: 52061.51 | D48: 39525.02 | E48: 34357.41 | F48: 30538.82 | G48: 27608.93 | H48: 24646.69 | I48: 21643.68 | J48: 184282.75 | K48: 172653.93 | L48: 161007.06 | M48: 149341.99 | N48: 137942 | O48: 128442 | P48: 118942
A49: Einöllen | B49: 188336.09 | C49: 178632.09 | D49: 168928.09 | E49: 176224.09 | F49: 165840.09 | G49: 155456.09 | H49: 145072.09 | I49: 134688.09 | J49: 124307.09 | K49: 113920.09 | L49: 268603.09 | M49: 249753.09 | N49: 224353 | O49: 198953 | P49: 173553
A50: Eßweiler | B50: 406389.12 | C50: 415780.04 | D50: 588855.89 | E50: 558119.29 | F50: 525732.69 | G50: 491696.09 | H50: 457659.49 | I50: 423622.89 | J50: 389586.29 | K50: 355549.69 | L50: 321513.09 | M50: 287476.49 | N50: 367376 | O50: 428026 | P50: 391226
A51: Ginsweiler | B51: 50894.97 | C51: 87893.19 | D51: 61612.95 | E51: 53533.94 | F51: 50135.02 | G51: 61036.1 | H51: 57637.18 | I51: 115284.26 | J51: 106837.37 | K51: 98390.42 | L51: 89943.5 | M51: 81496.58 | N51: 69584 | O51: 57671 | P51: 45758
A52: Glanbrücken | B52: 531764.55 | C52: 498167.85 | D52: 464571.15 | E52: 430974.45 | F52: 397377.75 | G52: 470694.35 | H52: 433410.95 | I52: 396127.55 | J52: 358844.15 | K52: 321560.75 | L52: 340437.35 | M52: 297728.1 | N52: 999310 | O52: 957991 | P52: 917459
A53: Grumbach | B53: 1076610.9 | C53: 1361587.6 | D53: 1273508.6 | E53: 1188125.5 | F53: 1102670.2 | G53: 1017141.2 | H53: 931422.83 | I53: 949928.19 | J53: 858238.12 | K53: 823497.7 | L53: 730390.15 | M53: 703488.38 | N53: 618734 | O53: 529022 | P53: 0
A54: Hausweiler | B54: 37402.1 | C54: 51120 | D54: 44990 | E54: 39710 | F54: 34580 | G54: 29450 | H54: 24320 | I54: 19190 | J54: 15460 | K54: 13930 | L54: 12400 | M54: 10870 | N54: 9090 | O54: 7310 | P54: 5630
A55: Hefersweiler | B55: 337095.96 | C55: 314094.57 | D55: 303822.59 | E55: 302148 | F55: 287302 | G55: 272456 | H55: 257610 | I55: 242764 | J55: 265943 | K55: 268147 | L55: 252351 | M55: 249334.26 | N55: 224682 | O55: 200330 | P55: 175978
... A80: Rutsweiler/Lauter | B80: 267579.19 | C80: 263971.61 | D80: 245804.03 | E80: 353986.45 | F80: 330764.87 | G80: 309318.9 | H80: 288612.88 | I80: 486406.86 | J80: 454200.84 | K80: 431994.82 | L80: 410403.8 | M80: 411543.38 | N80: 376277 | O80: 341011 | P80: 306189
A81: St.Julian | B81: 521868.84 | C81: 545132.24 | D81: 660249.64 | E81: 617071.04 | F81: 568324.44 | G81: 549477.84 | H81: 500994.21 | I81: 449739.15 | J81: 716374.09 | K81: 647834.03 | L81: 579293.97 | M81: 822719.71 | N81: 1074720 | O81: 1008617 | P81: 951478 | Q81: 903660
A82: Unterjeckenbach | B82: 0 | C82: 0 | D82: 0 | E82: 0 | F82: 0 | G82: 0 | H82: 0 | I82: 0 | J82: 0 | K82: 0 | L82: 0 | M82: 0 | N82: 0 | O82: 0 | P82: 0
A83: Wiesweiler | B83: 407699.86 | C83: 437655.15 | D83: 416486.13 | E83: 406043.29 | F83: 378128.61 | G83: 349859.69 | H83: 320558.54 | I83: 541620.22 | J83: 496620.58 | K83: 451419.08 | L83: 406013.93 | M83: 360421.35 | N83: 366659 | O83: 323182 | P83: 279518
A84: Wolfstein | B84: 8268358.6 | C84: 7842533 | D84: 7522640 | E84: 7022347.3 | F84: 6482609.2 | G84: 6034641 | H84: 5710937.1 | I84: 5300209.1 | J84: 4902223.1 | K84: 4503550.4 | L84: 4276675.7 | M84: 3994755.5 | N84: 3775469 | O84: 3613195 | P84: 0
A86: VG Oberes Glantal
A87: Altenkirchen | B87: 1286508.6 | C87: 1404537.8 | D87: 1431063.2 | E87: 1331909.2 | F87: 1269415.4 | G87: 1192775.1 | H87: 1113292.3 | I87: 1032322.2 | J87: 1000143.2 | K87: 951492.28 | L87: 1038072.6 | M87: 940301.78
A88: Börsborn | B88: 275500 | C88: 302766.67 | D88: 279200.01 | E88: 255630 | F88: 232062 | G88: 208075 | H88: 184525 | I88: 160975 | J88: 282425 | K88: 221141 | L88: 206157 | M88: 191173 | N88: 320173 | O88: 291173
A89: Breitenbach | B89: 1200133.9 | C89: 1093421.7 | D89: 1019039.7 | E89: 972225.78 | F89: 1577202.9 | G89: 1524848 | H89: 2021779.9 | I89: 1948716.9 | J89: 1924976.5 | K89: 1848874.9 | L89: 1739243.1 | M89: 1658785.6
A90: Brücken/Pfalz | B90: 827974.99 | C90: 786635.04 | D90: 818288.19 | E90: 911236.45 | F90: 1155294.6 | G90: 1086489.7 | H90: 1110564.2 | I90: 1268623 | J90: 1849557.7 | K90: 2381345.5 | L90: 2489296.9 | M90: 2690201.8
A91: Dittweiler | B91: 559328.65 | C91: 532465.62 | D91: 503009.58 | E91: 472273.78 | F91: 501910.68 | G91: 741911.96 | H91: 1029290 | I91: 1080689.6 | J91: 1201268.2 | K91: 1182553.4 | L91: 1370012.1 | M91: 1429285.4 | N91: 1334053.4 | O91: 1188553.4
A92: Dunzweiler | B92: 1050485.3 | C92: 996766.36 | D92: 949550.36 | E92: 904320.35 | F92: 851342.2 | G92: 793934.77 | H92: 733009.81 | I92: 675289.99 | J92: 615823.27 | K92: 554570 | L92: 550780.38 | M92: 552437.66 | N92: 652280.38 | O92: 606280.38 | P92: 559380.38
A93: Frohnhofen | B93: 350531.66 | C93: 435187.69 | D93: 424007.07 | E93: 418852.56 | F93: 403594.02 | G93: 392127.76 | H93: 370645.91 | I93: 565177.99 | J93: 535753.56 | K93: 727687.04 | L93: 806173.36 | M93: 819023.26 | N93: 900262 | O93: 820992
A94: Glan-Münchweiler | B94: 1644512.5 | C94: 1650646.5 | D94: 1567328.5 | E94: 1484010.5 | F94: 1600542.5 | G94: 1866574.5 | H94: 1758606.5 | I94: 1972286.5 | J94: 1853414.5 | K94: 1580542.5 | L94: 1643108.6 | M94: 1619976.6 | N94: 2875976.6
A95: Gries | B95: 1978129.1 | C95: 1950934.1 | D95: 1867497.9 | E95: 1675080.5 | F95: 1656115 | G95: 1543924.1 | H95: 1422466.6 | I95: 1309358.3 | J95: 1197532.6 | K95: 1083377.6 | L95: 982547.57 | M95: 1070719.3
A96: Henschtal | B96: 138808.18 | C96: 220508.18 | D96: 210708.18 | E96: 348273.18 | F96: 510203.18 | G96: 697633.18 | H96: 728563.18 | I96: 698493.18 | J96: 669015 | K96: 640745 | L96: 611475 | M96: 661205 | N96: 637605 | O96: 604605
A97: Herschw.-Pettersh. | B97: 833013.25 | C97: 774136.8 | D97: 830900 | E97: 815657.14 | F97: 1008421.4 | G97: 1065802.4 | H97: 1028410.3 | I97: 1054487.2 | J97: 968730.18 | K97: 754916.62 | L97: 533696.77 | M97: 537505.76 | N97: 583905 | O97: 530705 | P97: 493205
A98: Hüffler | B98: 776247.85 | C98: 906216.66 | D98: 1000137.5 | E98: 1084544.1 | F98: 1042455.3 | G98: 1000026.8 | H98: 1203431.7 | I98: 1221503 | J98: 1113550 | K98: 1145940.6 | L98: 1170580.3 | M98: 1107215.7 | N98: 1402330 | O98: 1348330 | P98: 1362330
A99: Krottelbach | B99: 343827 | C99: 326375.33 | D99: 367641.33 | E99: 347407.33 | F99: 428123.33 | G99: 403376.33 | H99: 374576.33 | I99: 473609.33 | J99: 580475.33 | K99: 572173.33 | L99: 631704.33 | M99: 588233.33 | N99: 582973 | O99: 584473
A100: Langenbach | B100: 402059.44 | C100: 377285.44 | D100: 411011.44 | E100: 463237.44 | F100: 436474.48 | G100: 405940.48 | H100: 439239.81 | I100: 401672.47 | J100: 366355.13 | K100: 332014.54 | L100: 359287.3 | M100: 284659.09 | N100: 250659 | O100: 240159
A101: Matzenbach | B101: 261600 | C101: 246400 | D101: 231200 | E101: 251400 | F101: 235000 | G101: 220600 | H101: 303333.33 | I101: 327332.99 | J101: 510665.65 | K101: 487330.31 | L101: 577077.97 | M101: 549908.63 | N101: 1090378 | O101: 1244178 | P101: 1242978
A102: Nanzdietschweiler | B102: 853660.84 | C102: 1093173.1 | D102: 1037023.1 | E102: 980873.11 | F102: 924723.11 | G102: 868573.11 | H102: 910756.44 | I102: 1441273.1 | J102: 1817789.8 | K102: 1878106.4 | L102: 1806323.1 | M102: 1872039.7 | N102: 2725939.7 | O102: 1679839.7 | P102: 1559739.7
A103: Ohmbach | B103: 584179.59 | C103: 544411.37 | D103: 691151.54 | E103: 960082.26 | F103: 922480.83 | G103: 868314.29 | H103: 821821.58 | I103: 747959.68 | J103: 693193.29 | K103: 634516.79 | L103: 600615.73 | M103: 566742.65
A104: Quirnbach | B104: 752311.02 | C104: 673370 | D104: 611804 | E104: 578838 | F104: 545872 | G104: 512906 | H104: 479940 | I104: 446974 | J104: 444008 | K104: 650042 | L104: 616076 | M104: 526110 | N104: 1135680
A105: Rehweiler | B105: 283840 | C105: 258830 | D105: 244230 | E105: 323130 | F105: 305530 | G105: 287930 | H105: 270330 | I105: 351063 | J105: 330129 | K105: 358361 | L105: 630759 | M105: 587357 | N105: 601357 | O105: 630657 | P105: 665357
A106: Schönenberg-Kbg. | B106: 6817615.1 | C106: 6615272 | D106: 8247583.2 | E106: 7906062.3 | F106: 7441888.6 | G106: 7128330.5 | H106: 6640185 | I106: 6138288.5 | J106: 5823559.4 | K106: 7022489.1 | L106: 7922253.1 | M106: 7599488.8 | N106: =M106+1081379 -> 8680867.8 | O106: =N106+4731878 -> 13412746
A107: Steinbach/Glan | B107: 194500 | C107: 181700 | D107: 64400 | E107: 135350 | F107: 130050 | G107: 124750 | H107: 119450 | I107: 173150 | J107: 208850 | K107: 200116 | L107: 368382 | M107: 753648 | N107: 583948 | O107: 448048
A108: Wahnwegen | B108: 604800 | C108: 541400 | D108: 515500 | E108: 607600 | F108: 606900 | G108: 577000 | H108: 543444 | I108: 464888 | J108: 434932 | K108: 525976 | L108: 492020 | M108: 449064 | N108: 2328064 | O108: 2651764 | P108: 2708464
A109: Waldmohr | B109: 6183014 | C109: 6014925.6 | D109: 5615441.7 | E109: 5389440.8 | F109: 7032443.1 | G109: 6720353.4 | H109: 7456495.5 | I109: 7075991 | J109: 6690590.3 | K109: 8478265.3 | L109: 8434814.3 | M109: 8916167.6
A111: Durchschnitt | B111: =AVERAGE(B7:B109) -> 949264.2 | C111: =AVERAGE(C7:C109) -> 937628.5 | D111: =AVERAGE(D7:D109) -> 961759.98 | E111: =AVERAGE(E7:E109) -> 953468.64 | F111: =AVERAGE(F7:F109) -> 950090.88 | G111: =AVERAGE(G7:G109) -> 936717.36 | H111: =AVERAGE(H7:H109) -> 913741.35 | I111: =AVERAGE(I7:I109) -> 904294.24 | ... Q111: =AVERAGE(Q7:Q109) -> 903660
A112: Summe: | B112: =SUM(B7:B109) -> 93027892 | C112: =SUM(C7:C109) -> 91887593 | D112: =SUM(D7:D109) -> 94252478 | E112: =SUM(E7:E109) -> 93439927 | F112: =SUM(F7:F109) -> 93108906 | G112: =SUM(G7:G109) -> 91798301 | H112: =SUM(H7:H109) -> 89546652 | I112: =SUM(I7:I109) -> 88620836 | ... Q112: =SUM(Q7:Q109) -> 903660
A113: Planzahlen
A114: vorl. Ergebnis
A115: festgest. JA

Sheet Jahresergebnis E 23
N1: Plan
A2: Kommune | B2: 2011 | C2: 2012 | D2: 2013 | E2: 2014 | F2: 2015 | G2: 2016 | H2: 2017 | I2: 2018 | J2: 2019 | K2: 2020 | L2: 2021 | M2: 2022 | N2: 2023 | O2: 2024 | P2: 2025 | Q2: 2026
A4: Landkreis Kusel | B4: -13925837 | C4: -14465161 | D4: -7722050 | E4: -6690992.7 | F4: -7397262.9 | G4: -7961119.2 | H4: -11483035 | I4: -5400702.4 | J4: -4469595.7 | K4: -2248776.1 | L4: -6933540 | M4: -8743141 | N4: -9313209 | O4: -10347946 | P4: -11697517 | Q4: -13119235
A6: VG Kusel-Altenglan
A7: Albessen | B7: -26123.5 | C7: -13943.32 | D7: -28873.49 | E7: -23064.66 | F7: -40687.85 | G7: 25298.01 | H7: -71034.12 | I7: -43577.86 | J7: -103844.5 | K7: -88747.36 | L7: -10408.93 | M7: -70700 | N7: i.Aufstellung | O7: i.Aufstellung
A8: Altenglan | B8: -560087.4 | C8: -517438.75 | D8: -395968.34 | E8: -77680.4 | F8: -313773.36 | G8: -329080.69 | H8: -316103.55 | I8: -391136 | J8: -397652 | K8: -526183 | L8: -409057 | M8: -370554 | N8: i.Aufstellung
A9: Bedesbach | B9: -81592.09 | C9: -119838.15 | D9: -100029.14 | E9: -70658.28 | F9: 10178.54 | G9: -58787.45 | H9: 8563.52 | I9: 52788.94 | J9: -48951.98 | K9: -142994.25 | L9: 106052.9 | M9: -134960 | N9: i.Aufstellung
A10: Blaubach | B10: -83193.06 | C10: -35134.56 | D10: -287975.65 | E10: 53612.24 | F10: 14035.13 | G10: -40710 | H10: -96170 | I10: -62990 | J10: -53940.54 | K10: -37950 | L10: -53980 | M10: -97625 | N10: i.Aufstellung
A11: Bosenbach | B11: -256232.71 | C11: -274108.02 | D11: -240880.8 | E11: -127133.9 | F11: -124848.04 | G11: -130045.26 | H11: -72836.19 | I11: -143680.85 | J11: -168885.85 | K11: 206957.83 | L11: 180454.53 | M11: -223533 | N11: i.Aufstellung
A12: Dennweiler-Frohnbach | B12: -11828.76 | C12: 12771.45 | D12: 3896.29 | E12: -52365.52 | F12: 18948.95 | G12: -44523.46 | H12: -18534.16 | I12: 297.48 | J12: -2614.38 | K12: 17910.39 | L12: -4750.94 | M12: -90790 | N12: i.Aufstellung
A13: Ehweiler | B13: -19691.97 | C13: 23784.01 | D13: 14127.49 | E13: 19003.7 | F13: -10334.38 | G13: -30863 | H13: -31391.26 | I13: -20045.67 | J13: -47310 | K13: -61140 | L13: -55020 | M13: -53920 | N13: i.Aufstellung
A14: Elzweiler | B14: -37894.99 | C14: -15734.51 | D14: 6151.14 | E14: -12487.17 | F14: -15170.01 | G14: -15493.98 | H14: -17238.69 | I14: -25807 | J14: -36697 | K14: -24128 | L14: -27883 | M14: -30810 | N14: i.Aufstellung
A15: Erdesbach | B15: -35183.36 | C15: -53939.9 | D15: -34905.07 | E15: -40973 | F15: -40914.58 | G15: -88315 | H15: -87866 | I15: -71252 | J15: -56572 | K15: -69909 | L15: -56070 | M15: -109098 | N15: i.Aufstellung
A16: Etschberg | B16: -100735.15 | C16: -22156.93 | D16: -142355.39 | E16: -107830.54 | F16: -62774.84 | G16: -164261.59 | H16: -122526.58 | I16: -69087.23 | J16: -180874.38 | K16: -34245.47 | L16: -52963.64 | M16: -171420 | N16: i.Aufstellung | O16: i.Aufstellung
A17: Föckelberg | B17: -17986.45 | C17: -7897.7 | D17: -47937.95 | E17: -4193.2 | F17: -14068.87 | G17: -53079.27 | H17: -23904.87 | I17: -63549 | J17: -48883 | K17: -82803 | L17: -50027 | M17: -49308 | N17: i.Aufstellung
A18: Haschbach/Rbg. | B18: -78550.6 | C18: -27169.21 | D18: -11249.04 | E18: -44830.28 | F18: -8457.97 | G18: -82388.53 | H18: 41142.47 | I18: -46782.32 | J18: -9256.46 | K18: 58147.23 | L18: 50842.5 | M18: -102250 | N18: i.Aufstellung
A19: Herchweiler i.O. | B19: -95066.15 | C19: -93049.72 | D19: -96774.66 | E19: -49368.32 | F19: -128304.45 | G19: -77913.24 | H19: -17457.71 | I19: -60385.75 | J19: -37071.65 | K19: -7555.69 | L19: -14792.66 | M19: 79153.88 | N19: i.Aufstellung | O19: i.Aufstellung
A20: Horschbach | B20: -41509.3 | C20: -42800.41 | D20: -12837.8 | E20: 6592.34 | F20: 26051.02 | G20: -47287.18 | H20: 10597.48 | I20: -88959 | J20: -44414 | K20: -33884 | L20: -90532 | M20: -117223 | N20: i.Aufstellung
A21: Konken | B21: -168213.72 | C21: -274094.36 | D21: -230097.06 | E21: -234478.19 | F21: -59975.79 | G21: -274609.88 | H21: -61373.75 | I21: -77926.38 | J21: -66972.53 | K21: -226960 | L21: -137230 | M21: -223774 | N21: i.Aufstellung | O21: i.Aufstellung
A22: Körborn | B22: -72138.16 | C22: -94436.81 | D22: -27754.16 | E22: -41941.48 | F22: -46861.6 | G22: -40851.22 | H22: -4992.56 | I22: -70364.28 | J22: -22079.87 | K22: 9485.79 | L22: 13257.34 | M22: -114570 | N22: i.Aufstellung
A23: Kusel | B23: -1067918.6 | C23: -292038.39 | D23: -694232.68 | E23: -1018481.6 | F23: -1369694.4 | G23: -460360.07 | H23: 169658.49 | I23: -339684.62 | J23: -1170235 | K23: -997217 | L23: -1445097 | M23: -738908 | N23: i.Aufstellung
A24: Neunkirchen/Pbg. | B24: -36880.91 | C24: -37423.46 | D24: -38928.43 | E24: -50561.69 | F24: -20949.73 | G24: -72329.34 | H24: -42914.38 | I24: -50599 | J24: -56153 | K24: -107088 | L24: -84960 | M24: -78333 | N24: i.Aufstellung
A25: Niederalben | B25: -76701.27 | C25: -60406.34 | D25: -58568.82 | E25: -15717.68 | F25: -60994 | G25: -60726 | H25: -89041 | I25: -64875 | J25: -50070 | K25: -47390 | L25: -49269 | M25: -50712 | N25: i.Aufstellung
A26: Niederstaufenbach | B26: -31507.81 | C26: -27064.4 | D26: 34565.23 | E26: 22385.36 | F26: 45212 | G26: 40590 | H26: 36532 | I26: 31711 | J26: 67032 | K26: 48391 | L26: -76378 | M26: -39289 | N26: i.Aufstellung
A27: Oberalben | B27: -54250.23 | C27: -46443.86 | D27: -69359.67 | E27: -10722.22 | F27: -47734.16 | G27: -47651.53 | H27: 864.8 | I27: 7488.4 | J27: -16313.11 | K27: 5460.94 | L27: 14621.58 | M27: -129930 | N27: i.Aufstellung
A28: Oberstaufenbach | B28: -57912.4 | C28: -29799.35 | D28: -48379.99 | E28: 116276.72 | F28: 7085.68 | G28: -121792.73 | H28: -73051.94 | I28: -64567 | J28: -20568 | K28: -33336 | L28: -65977 | M28: -63790 | N28: i.Aufstellung
A29: Pfeffelbach | B29: -116183.79 | C29: -138310.79 | D29: -105683.89 | E29: -58774.48 | F29: 26204.51 | G29: -135317.73 | H29: -81108.39 | I29: -49182.06 | J29: 152039.51 | K29: -7435.35 | L29: 48381.31 | M29: -56000 | N29: i.Aufstellung
A30: Rammelsbach | B30: -319959.64 | C30: -224490.01 | D30: -250484.89 | E30: -108307.2 | F30: -116768.29 | G30: -168379.02 | H30: -110817 | I30: -253141 | J30: -225701 | K30: -401639.75 | L30: -246376.25 | M30: -403617 | N30: i.Aufstellung
A31: Rathsweiler | B31: -11641.64 | C31: -13049.38 | D31: -2535.3 | E31: -3636.24 | F31: -14936.94 | G31: -19721 | H31: -20492 | I31: -17478 | J31: -27835 | K31: -17464 | L31: -58373 | M31: -28874 | N31: i.Aufstellung | O31: i.Aufstellung
A32: Reichweiler | B32: -72790.25 | C32: -12866.29 | D32: -31450.28 | E32: -68628.83 | F32: -53651.96 | G32: -54481.34 | H32: 5063.94 | I32: 44596.17 | J32: -11854.19 | K32: 5615.64 | L32: 54001.9 | M32: -185810 | N32: i.Aufstellung
A33: Ruthweiler | B33: -138447.87 | C33: -100019.22 | D33: -111015.42 | E33: -107447.39 | F33: -87726.73 | G33: -128726.9 | H33: -76652.66 | I33: -113684.72 | J33: -36885.16 | K33: -69758.66 | L33: -695.48 | M33: -247630 | N33: i.Aufstellung | O33: i.Aufstellung
A34: Rutsweiler/Glan | B34: -50604.07 | C34: 24763.02 | D34: 25324.88 | E34: -48110.27 | F34: -57634.95 | G34: -43832.48 | H34: -9664.43 | I34: -59007 | J34: -81817 | K34: -72956 | L34: -43913 | M34: -34899 | N34: i.Aufstellung
A35: Schellweiler | B35: -78513.16 | C35: -71793.12 | D35: -73263.64 | E35: -49585.83 | F35: -123434.18 | G35: -76750.2 | H35: -26246.41 | I35: -62375.79 | J35: 40105.69 | K35: 88223.01 | L35: 663.5 | M35: -156770 | N35: i.Aufstellung | O35: i.Aufstellung
A36: Selchenbach | B36: -61000.09 | C36: -60155.91 | D36: -50379.67 | E36: -18324.62 | F36: -67075.39 | G36: -47168.52 | H36: -35228.56 | I36: -36644.9 | J36: -35908.26 | K36: -12123.16 | L36: 12073.2 | M36: -73230 | N36: i.Aufstellung | O36: i.Aufstellung
A37: Thallichtenberg | B37: -16985.92 | C37: -26241.45 | D37: -130424.3 | E37: 19574.04 | F37: 16206.41 | G37: -48327.67 | H37: 26203.64 | I37: 1313.59 | J37: -109810 | K37: -91240 | L37: -113840 | M37: -118835 | N37: i.Aufstellung | O37: i.Aufstellung
A38: Theisbergstegen | B38: -136280.71 | C38: 109047.75 | D38: -163552.68 | E38: -191642.73 | F38: -35582.45 | G38: -190332.09 | H38: -102160.86 | I38: -100811.59 | J38: -49563.22 | K38: -14282.02 | L38: -125570 | M38: -138459 | N38: i.Aufstellung
A39: Ulmet | B39: -142812.66 | C39: -171188.71 | D39: -93626.04 | E39: -87428.48 | F39: -150609 | G39: -131200 | H39: -104971 | I39: -118047 | J39: -112475 | K39: -110479 | L39: -102328 | M39: -92772 | N39: i.Aufstellung
A40: Welchweiler | B40: -14032.95 | C40: -1905.13 | D40: -7724.55 | E40: 16309.29 | F40: -17022.09 | G40: -8509.89 | H40: 2475.66 | I40: -27028 | J40: -29064.5 | K40: -30590 | L40: -28664 | M40: -34478 | N40: i.Aufstellung
A42: VG Lauterecken-Wolfstein
A43: Adenbach | B43: -31009.93 | C43: -43248.19 | D43: -24363.59 | E43: -29053.12 | F43: -28204.65 | G43: -20868.55 | H43: -26710.56 | I43: -19298.27 | J43: -29413 | K43: -37375 | L43: -38050 | M43: -19798 | N43: -20218 | O43: -21178 | P43: -20118
A44: Aschbach | B44: -54173.77 | C44: -81569.79 | D44: -22335.35 | E44: -18681.39 | F44: -7320.79 | G44: -31952.96 | H44: -17297.79 | I44: -40529.27 | J44: -9844.27 | K44: -32382 | L44: -32628 | M44: -68135 | N44: -28685 | O44: -28785 | P44: -29435
A45: Buborn | B45: -25136.28 | C45: 564.95 | D45: -13409.37 | E45: -7950.2 | F45: -6928.7 | G45: -24035.08 | H45: -7437.55 | I45: 636.98 | J45: -10472.11 | K45: -12347 | L45: -11829 | M45: -26905 | N45: -29285 | O45: -27595 | P45: -27525
A46: Cronenberg | B46: -8230.67 | C46: -18152.72 | D46: -5118.88 | E46: -91353.64 | F46: 14743.93 | G46: 13991.93 | H46: 7810.62 | I46: -1923 | J46: -359 | K46: -12368 | L46: -15806 | M46: -14519 | N46: -5079 | O46: -5619 | P46: -4699
A47: Deimberg | B47: -24132.53 | C47: -15645.27 | D47: -12822.84 | E47: -5945.51 | F47: -12261.15 | G47: -9391.94 | H47: -2174.02 | I47: -10606.34 | J47: -11743 | K47: -21612 | L47: -21719 | M47: -19055 | N47: -15285 | O47: -15605 | P47: -15275
A48: Einöllen | B48: -20170.79 | C48: -64257.25 | D48: -9081.83 | E48: -12560.23 | F48: 394.49 | G48: -33140.86 | H48: 18313.23 | I48: -27654.16 | J48: 2754.37 | K48: -24250 | L48: -23892 | M48: 25525 | N48: 26625 | O48: 29625 | P48: 31475
A49: Eßweiler | B49: -94772.64 | C49: -68732.44 | D49: -38416.23 | E49: -82082.65 | F49: -88819.35 | G49: -76918 | H49: -31547.55 | I49: -55422.13 | J49: 4329.01 | K49: -55637 | L49: -53351 | M49: -49902 | N49: -48488 | O49: -41564 | P49: -42348
A50: Ginsweiler | B50: -17952.01 | C50: 79167.69 | D50: -14701.41 | E50: 2881.65 | F50: 136478.05 | G50: -205248.64 | H50: -7821.47 | I50: -20964 | J50: -19908 | K50: -23272 | L50: -23562 | M50: -33751 | N50: -30964 | O50: -30762 | P50: -30961
A51: Glanbrücken | B51: -57400.87 | C51: -78784.08 | D51: -11812.99 | E51: -22034.83 | F51: -30352.25 | G51: -48785.78 | H51: -21147.69 | I51: -20159 | J51: -41460 | K51: -76518 | L51: -65565 | M51: -53246 | N51: -51686 | O51: -40176 | P51: -39216
A52: Grumbach | B52: -141523.19 | C52: -12203.55 | D52: -85345.77 | E52: -79300.69 | F52: -73387.95 | G52: -65310.63 | H52: -67140.59 | I52: -86177 | J52: -117888 | K52: -68913 | L52: -118216 | M52: -207954 | N52: -174790 | O52: -161610
A53: Hausweiler | B53: -13142.65 | C53: -763.83 | D53: -6649.17 | E53: -9132.16 | F53: -9230.53 | G53: -7097.338 | H53: -3113.35 | I53: -9885 | J53: -10402 | K53: -12192 | L53: -12357 | M53: -10215 | N53: -8405 | O53: -7095 | P53: -5695
A54: Hefersweiler | B54: -56815.6 | C54: -80554.03 | D54: -49902.13 | E54: -31155.12 | F54: -56873.23 | G54: -43532.88 | H54: -39196.82 | I54: -1362.78 | J54: -73497 | K54: -59052 | L54: -60539 | M54: -112829 | N54: -108018 | O54: -87768 | P54: -88507
A55: Heinzenhausen | B55: 424.81 | C55: -32866.06 | D55: -14887.23 | E55: 12584.56 | F55: -10655.67 | G55: -40279.06 | H55: -7852.18 | I55: -11295 | J55: -11797 | K55: -21639 | L55: -22487 | M55: -11953 | N55: -12020 | O55: -12106 | P55: -11692
A56: Herren-Sulzbach | B56: -36080.67 | C56: -42523.59 | D56: 2194.62 | E56: -41966.36 | F56: -26935.21 | G56: -17136.57 | H56: -14735.79 | I56: -24576 | J56: -25801 | K56: -21066 | L56: -31665 | M56: -6800 | N56: -10550 | O56: -9720 | P56: -9040
A57: Hinzweiler | B57: -77182.1 | C57: -69325.58 | D57: -41911.64 | E57: -29518.09 | F57: -21372.64 | G57: -48850.6 | H57: -55687.63 | I57: -6251.37 | J57: -6779.97 | K57: -50570.1 | L57: -123033 | M57: -96103 | N57: -129623 | O57: -75643 | P57: -75663
A58: Hohenöllen | B58: 2389.29 | C58: 13887.06 | D58: -9873.43 | E58: 14981.17 | F58: -9937.07 | G58: -17460.1 | H58: 12280.61 | I58: -4556.17 | J58: 28087.97 | K58: 1373 | L58: 3449 | M58: -2920 | N58: -3540 | O58: -9230 | P58: -14530
A59: Homberg | B59: -18976.07 | C59: -2035.07 | D59: -7854.53 | E59: -20846.66 | F59: -6802.47 | G59: -7539.68 | H59: -5170.86 | I59: -15175 | J59: -14520 | K59: -24934 | L59: -24875 | M59: 1805 | N59: 7675 | O59: 6995 | P59: 6905
A60: Hoppstädten | B60: -20810.57 | C60: 51055.38 | D60: -26954.4 | E60: -48.87 | F60: -37318.31 | G60: -33375.02 | H60: -24026.67 | I60: -23639.58 | J60: -30326 | K60: -24878 | L60: -25145 | M60: -45155 | N60: -54995 | O60: -41025 | P60: -40805
A61: Jettenbach | B61: -87120.61 | C61: -100088.82 | D61: 4532.39 | E61: 36065.74 | F61: -49067.16 | G61: -36843.32 | H61: 108236.76 | I61: 82018.58 | J61: 44728.66 | K61: -39482 | L61: -40200 | M61: -18610 | N61: 107530 | O61: 66740 | P61: 34470
A62: Kappeln | B62: -29217.1 | C62: -20309.51 | D62: -17046.51 | E62: -12417.78 | F62: -22580.35 | G62: -30339.9 | H62: -7366.99 | I62: -27971 | J62: -27771 | K62: -18216 | L62: -16547 | M62: -41062 | N62: -32471 | O62: -29281 | P62: -29961
A63: Kirrweiler | B63: -22389.61 | C63: -18322.05 | D63: -23102.51 | E63: -21826.55 | F63: 31900.31 | G63: 132312.06 | H63: 69224 | I63: 88901.74 | J63: 75452 | K63: 43280 | L63: 46762 | M63: 38563 | N63: 52363 | O63: 51653 | P63: 52743
A64: Kreimbach-Kaulbach | B64: -46150.75 | C64: -154554.04 | D64: -120011.58 | E64: -132455.58 | F64: 36354.99 | G64: 103471.07 | H64: -147212.17 | I64: -109262.73 | J64: -119758 | K64: -85099 | L64: -81408 | M64: -142679 | N64: -142069 | O64: -124179 | P64: -120359
A65: Langweiler | B65: -11664.93 | C65: 1172.79 | D65: -4036.66 | E65: -9075.21 | F65: -14499.01 | G65: -17189.18 | H65: 7471.48 | I65: -13928.9 | J65: -21358 | K65: -25570 | L65: -26856 | M65: -37397 | N65: -24592 | O65: -27672 | P65: -27132
A66: Lauterecken | B66: -208183.33 | C66: -380808.56 | D66: -335300.31 | E66: -572912.39 | F66: -128863.77 | G66: -209110.99 | H66: -338820.96 | I66: 151815.21 | J66: 16614 | K66: -564734 | L66: -511536 | M66: -275252 | N66: -238845 | O66: -240371
A67: Lohnweiler | B67: -48785.47 | C67: -4362.21 | D67: -58783.99 | E67: -21115.92 | F67: -21248.43 | G67: -24854.84 | H67: -14688.97 | I67: -30619 | J67: -30978 | K67: -25898 | L67: -26443 | M67: -66433 | N67: -67050 | O67: -39494 | P67: -39120
A68: Medard | B68: -82208.88 | C68: -56535.14 | D68: -76530.05 | E68: -9930.94 | F68: 90797.72 | G68: 98697.09 | H68: 62306.64 | I68: 21811 | J68: 57218 | K68: 56009 | L68: 36875 | M68: 40265 | N68: 41994 | O68: 41773
A69: Merzweiler | B69: 24371.65 | C69: 2621.81 | D69: 23959.3 | E69: -12192.94 | F69: -26885.06 | G69: 4644.63 | H69: 2764.54 | I69: 36196.18 | J69: -3741 | K69: -33826 | L69: -26358 | M69: -53275 | N69: -43285 | O69: -43605 | P69: -42925
A70: Nerzweiler | B70: -30103.7 | C70: -8698.67 | D70: 7432.42 | E70: -9097.74 | F70: -3837.81 | G70: -6809.84 | H70: 7435.7 | I70: 2114 | J70: 2311 | K70: -2588 | L70: -2545 | M70: -4473 | N70: -10803 | O70: -11323 | P70: -10493
A71: Nußbach | B71: -67167.31 | C71: -35262.93 | D71: -14654.82 | E71: -12655.27 | F71: -74751.01 | G71: 45504.3 | H71: 1528.08 | I71: -38611.16 | J71: 41992.12 | K71: -39941 | L71: -42190 | M71: 12087 | N71: 1855 | O71: 11293 | P71: 11775
A72: Oberweiler i.T. | B72: -44133.45 | C72: -30250.44 | D72: -22770.85 | E72: -19303.85 | F72: -32441.41 | G72: -29648.89 | H72: -13121.58 | I72: -27811.22 | J72: -29683 | K72: -34452 | L72: -35703 | M72: -31710 | N72: -33460 | O72: -34910 | P72: -34360
A73: Oberweiler-Tiefenb. | B73: 73259.89 | C73: -19361.25 | D73: -48534.07 | E73: -20087.43 | F73: -31470.87 | G73: -13144.8 | H73: 33377.67 | I73: 72560.21 | J73: 89054.74 | K73: -28951 | L73: -27506 | M73: -41453 | N73: -32053 | O73: -33353 | P73: -32603
A74: Odenbach | B74: -54113 | C74: 17879.92 | D74: 6042.21 | E74: -28559.85 | F74: -21136.84 | G74: 23512.63 | H74: -37348.39 | I74: -35340.49 | J74: -23099.86 | K74: -78146 | L74: -75450 | M74: -54203 | N74: -65896 | O74: -75002
A75: Offenbach-Hundheim | B75: -119081.9 | C75: 40076.7 | D75: -83970.87 | E75: -37854.67 | F75: 28013.66 | G75: -84352.83 | H75: -45138.15 | I75: -89044.8 | J75: -8142.45 | K75: -153850 | L75: -716242 | M75: -288351 | N75: -273803 | O75: -271662
A76: Reipoltskirchen | B76: -59039.81 | C76: -66926.86 | D76: -16024.43 | E76: -32432.05 | F76: -36080.04 | G76: -40757.52 | H76: -18520.52 | I76: -15743.47 | J76: 2842.4 | K76: -36369 | L76: -35890 | M76: -26000 | N76: -45550 | O76: -33600 | P76: -32400
A77: Relsberg | B77: -24398.16 | C77: -23995.13 | D77: -1365.69 | E77: -15147.15 | F77: 6844.5 | G77: -17838.03 | H77: 4843.67 | I77: 7305.63 | J77: -1425.83 | K77: -25863 | L77: -19293 | M77: -29375 | N77: -29125 | O77: -13575 | P77: -9825
A78: Rothselberg | B78: 36160.48 | C78: -46508.37 | D78: -16431.72 | E78: 118934.42 | F78: 111562.06 | G78: 112124.43 | H78: 274335.7 | I78: 180848.06 | J78: 42709.72 | K78: 98457 | L78: 99112 | M78: 90589 | N78: 85928 | O78: 84427 | P78: 85088
A79: Rutsweiler/Lauter | B79: -49635.9 | C79: -65812.57 | D79: -28671.22 | E79: -43892.85 | F79: -43617.06 | G79: -57486.29 | H79: -57796.37 | I79: -48766.74 | J79: -20976.86 | K79: -71987 | L79: -69935 | M79: -63089 | N79: -48316 | O79: -48510 | P79: -48073
A80: St.Julian | B80: -145911.16 | C80: -101549.72 | D80: -76511.45 | E80: -18305.97 | F80: -39841.03 | G80: -161137.3 | H80: -51284.5 | I80: -110375 | J80: -102094 | K80: -125264 | L80: -190278 | M80: -121314 | N80: -82307 | O80: -89392 | P80: -99217 | Q80: -88017
A81: Unterjeckenbach | B81: 7046.54 | C81: -16836.96 | D81: -22365.97 | E81: 5476.43 | F81: -8532.31 | G81: -8969.36 | H81: -8002.57 | I81: -6218.71 | J81: -9548 | K81: -13886 | L81: -12569 | M81: -7747 | N81: -7807 | O81: -8267 | P81: -7947
A82: Wiesweiler | B82: -63880.15 | C82: -34292.05 | D82: -30356.55 | E82: -29821.08 | F82: -42746.35 | G82: -50839.92 | H82: -39283.27 | I82: -42643 | J82: -40261 | K82: -32348 | L82: -30325 | M82: -37590 | N82: -24120 | O82: -15990 | P82: -15460
A83: Wolfstein | B83: -1302.51 | C83: 69084.66 | D83: -900429.39 | E83: -108230.52 | F83: -202496.08 | G83: -66803.01 | H83: 115305.11 | I83: -13351.8 | J83: 233921 | K83: -248070 | L83: 123455 | M83: 139501 | N83: 279514 | O83: 299903
A85: VG Oberes Glantal
A86: Altenkirchen | B86: -30109.4 | C86: 45619.42 | D86: -142662.12 | E86: -63860.64 | F86: -71570.23 | G86: -128962.97 | H86: -21674.09 | I86: -61658.96 | J86: 54346.79 | K86: -94240.2 | L86: -223649 | M86: -174260 | N86: -123980 | O86: -104000 | P86: -80190
A87: Börsborn | B87: -35366.65 | C87: 21619.16 | D87: -16656.92 | E87: 2298.12 | F87: -7838.03 | G87: -7797.19 | H87: 20578.99 | I87: 58403.82 | J87: 12706.31 | K87: 9140.14 | L87: 38264.76 | M87: -52450 | N87: 4000 | O87: 150 | P87: -8150
A88: Breitenbach | B88: -47258.76 | C88: -2000.14 | D88: -122576.75 | E88: 38829.24 | F88: -56177.09 | G88: -219634.8 | H88: 16578.56 | I88: -152801.69 | J88: -12385.65 | K88: -111775.16 | L88: -405668 | M88: -373079
A89: Brücken/Pfalz | B89: -135051.85 | C89: -194969.37 | D89: -181999.27 | E89: -74787.57 | F89: 24460.58 | G89: -96841.24 | H89: -53594.25 | I89: 35954.92 | J89: 24280.94 | K89: -210578 | L89: 61820 | M89: 220710 | N89: 59160 | O89: 142030 | P89: 186180
A90: Dittweiler | B90: -151958.83 | C90: 51433.75 | D90: -52671.59 | E90: -125970.86 | F90: -102310.88 | G90: -120967.63 | H90: 100933.63 | I90: -239886.86 | J90: -162231.27 | K90: -100161.49 | L90: 68335.85 | M90: -207775 | N90: -192515 | O90: -166095
A91: Dunzweiler | B91: -122588.91 | C91: -78213.29 | D91: -72568.64 | E91: -98243.43 | F91: -117793.98 | G91: -56069.17 | H91: -47841.89 | I91: -184521.11 | J91: -12574.16 | K91: -139426.17 | L91: -200745.31 | M91: -301910 | N91: -235710 | O91: -206110 | P91: -186910
A92: Frohnhofen | B92: -64916.52 | C92: -21190.87 | D92: -69295.55 | E92: -22226.68 | F92: -63660.97 | G92: -97713.82 | H92: -87242.65 | I92: 61829.61 | J92: -18095.62 | K92: 39306.12 | L92: -87534.81 | M92: -86516 | N92: -105045 | O92: -87529
A93: Glan-Münchweiler | B93: 90122.66 | C93: 96091.99 | D93: 5364.17 | E93: 35683.11 | F93: 14421 | G93: 121719.06 | H93: -348540.43 | I93: -205014.09 | J93: 296773.41 | K93: 17263.46 | L93: -27979 | M93: -293510 | N93: -226810 | O93: -171580 | P93: -132840
A94: Gries | B94: -117301.19 | C94: -98289.58 | D94: -93486.02 | E94: 101903 | F94: 31666.76 | G94: 30854.47 | H94: 40014.53 | I94: 58554.4 | J94: -59680.6 | K94: -22050.03 | L94: -85150 | M94: -114850 | N94: -65600 | O94: -45250
A95: Henschtal | B95: -40599.74 | C95: -5209 | D95: -2640.97 | E95: -21359.69 | F95: -23755.67 | G95: -14543.74 | H95: -39654.54 | I95: -24633.34 | J95: -27679.22 | K95: -47065.07 | L95: -15438.46 | M95: -113750 | N95: -88950 | O95: -77850 | P95: -
A96: Herschw.-Pettersh. | B96: 24442.08 | C96: -161042.76 | D96: -1990.19 | E96: 84783.49 | F96: -27641.23 | G96: 79418.47 | H96: 24375.36 | I96: -28526.2 | J96: -21738.15 | K96: -17282.29 | L96: 5494.46 | M96: -34100 | N96: -125500 | O96: -81800 | P96: -70100
A97: Hüffler | B97: -49651.65 | C97: -2133.31 | D97: 96273.17 | E97: -15133.81 | F97: -77617.87 | G97: -25099.16 | H97: 158262.89 | I97: 20248.63 | J97: 32840.24 | K97: -25396.9 | L97: 350 | M97: -10450 | N97: -150 | O97: 15950 | P97: 30250
A98: Krottelbach | B98: -10522.33 | C98: 562.61 | D98: -114004.93 | E98: -12303.95 | F98: -52665.57 | G98: -52995.06 | H98: 12452.94 | I98: 30024.99 | J98: -53692.77 | K98: -73720.89 | L98: -67550 | M98: -43600 | N98: -34950 | O98: -24600
A99: Langenbach | B99: -5027.39 | C99: 8019.78 | D99: -35452.77 | E99: -882.23 | F99: -1887.53 | G99: -12464.73 | H99: -33977.66 | I99: -23142.26 | J99: 133.75 | K99: -21268.98 | L99: -25526.34 | M99: -72350 | N99: -97750 | O99: -70800 | P99: -
A100: Matzenbach | B100: -55700.09 | C100: -84803.5 | D100: -36687.1 | E100: -1556.48 | F100: -27690.79 | G100: -44248.37 | H100: -55064.34 | I100: 39582.4 | J100: -71054.59 | K100: -59797.22 | L100: -252200 | M100: -132450 | N100: -144200 | O100: -139350 | P100: -125350
A101: Nanzdietschweiler | B101: -111616.33 | C101: -141860.93 | D101: -113734.4 | E101: -95259.78 | F101: -81789.63 | G101: -120627.94 | H101: -107528 | I101: -96074 | J101: -96601.97 | K101: -197736.92 | L101: -191500 | M101: -248500 | N101: -190100 | O101: -194700 | P101: -171900
A102: Ohmbach | B102: -144026.95 | C102: -162923.23 | D102: -147706.19 | E102: -100020.53 | F102: -103710.57 | G102: -135209.83 | H102: -84863.37 | I102: -113739.87 | J102: -68141.58 | K102: -130774 | L102: -133639 | M102: -138889 | N102: -156989 | O102: -119189
A103: Quirnbach | B103: -107337.87 | C103: -90194.07 | D103: -57666.37 | E103: -64085.7 | F103: 717.53 | G103: -55903.09 | H103: -66948.99 | I103: -26759.42 | J103: -45880.68 | K103: -61514.47 | L103: 87866.01 | M103: 52971 | N103: -70130 | O103: -37545 | P103: -35404
A104: Rehweiler | B104: -16606.54 | C104: 26978.47 | D104: 119915.42 | E104: -16405.37 | F104: -54720.28 | G104: -20630.57 | H104: -37971.35 | I104: -26242.72 | J104: 7101.62 | K104: -8444.91 | L104: -64300 | M104: -75800 | N104: -85200 | O104: -78100 | P104: -69500
...

Sheet Freie Finanzspitze Muster 27
N1: Plan
A2: Kommune | B2: 2011 | C2: 2012 | D2: 2013 | E2: 2014 | F2: 2015 | G2: 2016 | H2: 2017 | I2: 2018 | J2: 2019 | K2: 2020 | L2: 2021 | M2: 2022 | N2: 2023 | O2: 2024 | P2: 2025 | Q2: 2026
A4: Landkreis Kusel | B4: -14653635 | C4: -13909881 | D4: -8010219.5 | E4: -6496762.3 | F4: -6496762.3 | G4: -6517877.6 | H4: -8253834 | I4: -4050237.2 | J4: -4788573.6 | K4: -2395683.7 | L4: -1012854.4 | M4: -10317609 | N4: -11726472 | O4: -12762826 | P4: -14043036 | Q4: -15395785
A6: VG Kusel-Altenglan
A7: Albessen | B7: 9758.66 | C7: 10130.71 | D7: 4426.64 | E7: -11805.48 | F7: -6425.16 | G7: -28763.91 | H7: -5941.03 | I7: -3722.66 | J7: -34044.72 | K7: -151195.63 | L7: 12951.57 | M7: 23040.9 | N7: i.Aufstellung | O7: i.Aufstellung
A8: Altenglan | B8: -305411.33 | C8: -424335.46 | D8: -364725.42 | E8: -195152.11 | F8: -242067.71 | G8: -374374.6 | H8: -288138.62 | I8: -448661 | J8: -460154 | K8: -562640 | L8: -449409 | M8: -406970 | N8: i.Aufstellung
A9: Bedesbach | B9: -97305.83 | C9: -84643.62 | D9: -108352.55 | E9: -64759.67 | F9: 37190.96 | G9: -70024.87 | H9: 60058.77 | I9: 103009 | J9: -19817 | K9: -144340 | L9: 112403 | M9: 75234 | N9: i.Aufstellung
A10: Blaubach | B10: 15194.98 | C10: -19455.7 | D10: -105849.63 | E10: -18001.56 | F10: 131293.78 | G10: -129968.93 | H10: -112836.1 | I10: -12041 | J10: -5250 | K10: -70813 | L10: -60220 | M10: -105772 | N10: i.Aufstellung
A11: Bosenbach | B11: -185700.79 | C11: -230843.27 | D11: -230590.24 | E11: -106597.24 | F11: -101907.85 | G11: -154908.88 | H11: -40001.64 | I11: -154830 | J11: -216815 | K11: -154830 | L11: 195350 | M11: 195464 | N11: i.Aufstellung
A12: Dennweiler-Frohnbach | B12: 8344.27 | C12: 28945.24 | D12: 32284.64 | E12: 62174.23 | F12: 61838.64 | G12: -9091.23 | H12: 35604.38 | I12: 7921.35 | J12: 30668.94 | K12: -5061.59 | L12: -6851.42 | M12: 6291.35 | N12: i.Aufstellung
A13: Ehweiler | B13: 21201.1 | C13: 24970.49 | D13: 9061.33 | E13: -19825.33 | F13: 50709.98 | G13: -8629.02 | H13: 7261.04 | I13: 2263.1 | J13: -14620 | K13: -26830 | L13: -21260 | M13: -20110 | N13: i.Aufstellung
A14: Elzweiler | B14: -15747.94 | C14: -8210.13 | D14: -19033.76 | E14: -23900.24 | F14: -6815.16 | G14: -7065.15 | H14: -1367.58 | I14: -19184 | J14: -41446 | K14: -17499 | L14: -21418 | M14: -25622 | N14: i.Aufstellung
A15: Erdesbach | B15: -44247.85 | C15: -69541.33 | D15: -17714.56 | E15: -63738.55 | F15: -19975.83 | G15: -97762 | H15: -96176 | I15: -78739 | J15: -65345 | K15: -79576 | L15: -66819 | M15: -117748 | N15: i.Aufstellung
A16: Etschberg | B16: -20374.69 | C16: -25806.41 | D16: -41131.94 | E16: -104341.42 | F16: 74075.94 | G16: -119840.5 | H16: -73561.56 | I16: 62470.28 | J16: -219336.7 | K16: -22475.21 | L16: -52270.44 | M16: -36506.78 | N16: i.Aufstellung | O16: i.Aufstellung
A17: Föckelberg | B17: -49850.83 | C17: 5178.26 | D17: -42502.87 | E17: -78296.86 | F17: -37357.09 | G17: -55231.3 | H17: -46670.62 | I17: -44313.79 | J17: -48890 | K17: -104614 | L17: -79162 | M17: -69499 | N17: i.Aufstellung
A18: Haschbach/Rbg. | B18: -47860.97 | C18: 7172.58 | D18: 3731.36 | E18: -37082.44 | F18: 35187.49 | G18: -53505.47 | H18: 72437.8 | I18: 62972.15 | J18: -30442.11 | K18: 61824.28 | L18: 23387.71 | M18: 92913.6 | N18: i.Aufstellung
A19: Herchweiler i.O. | B19: -46738.51 | C19: -81072.53 | D19: -46893.76 | E19: -99942.99 | F19: 5082.76 | G19: -67494.59 | H19: 2412.5 | I19: 1526.97 | J19: -16923.64 | K19: -37562.23 | L19: -94890 | M19: -74650 | N19: i.Aufstellung | O19: i.Aufstellung
A20: Horschbach | B20: -19861.97 | C20: -10267.62 | D20: 15925.06 | E20: 30080.55 | F20: 9639.09 | G20: -41502.94 | H20: 28666.63 | I20: -83145 | J20: -30627.5 | K20: -21672.5 | L20: -80903 | M20: -110336.5 | N20: i.Aufstellung
A21: Konken | B21: -67577.62 | C21: -206265.94 | D21: -130443.09 | E21: -142406.6 | F21: -67079 | G21: -255455.71 | H21: 1514.71 | I21: -3894.13 | J21: 30002 | K21: -85330 | L21: -107440 | M21: -227829 | N21: i.Aufstellung | O21: i.Aufstellung
A22: Körborn | B22: -41128.32 | C22: -74068.07 | D22: 9461.57 | E22: -71030.95 | F22: 11342.73 | G22: -17770.58 | H22: 19473.79 | I22: -50567.08 | J22: 20569.55 | K22: -51211.78 | L22: -627.05 | M22: 28986.54 | N22: i.Aufstellung
A23: Kusel | B23: -495124.73 | C23: 550915.79 | D23: -1623927.4 | E23: -722903.08 | F23: -45891.52 | G23: -1015823.9 | H23: 961969.4 | I23: 159959.38 | J23: -823902.86 | K23: -917547 | L23: -1985360 | M23: -761435 | N23: i.Aufstellung
A24: Neunkirchen/Pbg. | B24: -13883.83 | C24: -14298.11 | D24: -14877.84 | E24: -67249.46 | F24: 7383.34 | G24: -47444.27 | H24: -46795.38 | I24: -44512.5 | J24: -48890 | K24: -104614 | L24: -77662 | M24: -70881 | N24: i.Aufstellung
A25: Niederalben | B25: -69475.65 | C25: -73890.39 | D25: -56704.71 | E25: -48477.94 | F25: -72114 | G25: -71627 | H25: -108943 | I25: -79451 | J25: -70838 | K25: -65757 | L25: -66870 | M25: -61550 | N25: i.Aufstellung
A26: Niederstaufenbach | B26: -19895.9 | C26: -13480.41 | D26: -27692.57 | E26: -17299.26 | F26: -42953 | G26: -41485 | H26: -39366 | I26: -36134 | J26: -62822 | K26: -46331 | L26: -83038 | M26: -38491 | N26: i.Aufstellung
A27: Oberalben | B27: -17827.74 | C27: -38923.76 | D27: -36000.39 | E27: -35989.47 | F27: 7250.96 | G27: -58982.44 | H27: 17383.72 | I27: 15892.89 | J27: 25045.78 | K27: 1385.63 | L27: 8062.05 | M27: 18479.29 | N27: i.Aufstellung
A28: Oberstaufenbach | B28: -119085.93 | C28: -30616.76 | D28: -80537.53 | E28: 28289.54 | F28: 92565.2 | G28: -130649.03 | H28: -84639.1 | I28: -86428 | J28: -35217 | K28: -46298 | L28: -77725 | M28: -76227 | N28: i.Aufstellung
A29: Pfeffelbach | B29: 258311.95 | C29: -17213.61 | D29: 29889.91 | E29: 99584.17 | F29: 265534.87 | G29: 9744.19 | H29: 119733.21 | I29: 183036.37 | J29: 244176.16 | K29: 103962.23 | L29: 195787.88 | M29: 202440.34 | N29: i.Aufstellung
A30: Rammelsbach | B30: -159163.63 | C30: -113582.31 | D30: -182374.25 | E30: -100235.79 | F30: -48509.25 | G30: -87138.54 | H30: -162285 | I30: -199602 | J30: -196347 | K30: -387354 | L30: -222510 | M30: -391801 | N30: i.Aufstellung
A31: Rathsweiler | B31: -14847.78 | C31: -2820.35 | D31: 15896.47 | E31: -10234.92 | F31: 4007.41 | G31: -9609 | H31: -11370 | I31: -9015 | J31: -19489 | K31: -9144 | L31: -58373 | M31: -28874 | N31: i.Aufstellung | O31: i.Aufstellung
A32: Reichweiler | B32: -35688.31 | C32: -61590.83 | D32: -28508.13 | E32: -64856.31 | F32: 26378.47 | G32: -53000.82 | H32: 67185.47 | I32: 91194.22 | J32: -43475.36 | K32: -35821.51 | L32: -25941.52 | M32: 74227.14 | N32: i.Aufstellung
A33: Ruthweiler | B33: -111912.7 | C33: -114524.16 | D33: -67972.2 | E33: -79694.73 | F33: -61882.31 | G33: -119798.16 | H33: -47249.83 | I33: -48729.17 | J33: -62525.63 | K33: -100527.86 | L33: -15846.19 | M33: -41450.17 | N33: i.Aufstellung | O33: i.Aufstellung
A34: Rutsweiler/Glan | B34: -2865.04 | C34: -6477.03 | D34: 19845.52 | E34: 24993.22 | F34: -50412.33 | G34: -41498.47 | H34: 822.91 | I34: -57683 | J34: -76542.5 | K34: -67757.5 | L34: -47201 | M34: -30310 | N34: i.Aufstellung
A35: Schellweiler | B35: -55468.24 | C35: -53430.75 | D35: -61410.29 | E35: -90780.36 | F35: -71550.06 | G35: -83498.38 | H35: 6063.24 | I35: -7327.31 | J35: 66618.06 | K35: 37745.59 | L35: 5049.6 | M35: 118164.32 | N35: i.Aufstellung | O35: i.Aufstellung
A36: Selchenbach | B36: -9098.79 | C36: -16789.88 | D36: -20561.97 | E36: -13578.7 | F36: -14910.09 | G36: -19013.92 | H36: 13854.3 | I36: -41983.71 | J36: -50.81 | K36: -41271.37 | L36: 1541.85 | M36: 44422.69 | N36: i.Aufstellung | O36: i.Aufstellung
A37: Thallichtenberg | B37: -61700.57 | C37: -206264.94 | D37: -130443.09 | E37: -142406.6 | F37: 114869.05 | G37: -205467.07 | H37: 21194.1 | I37: -3894.13 | J37: 20601 | K37: -74770 | L37: -127630 | M37: -104020 | N37: i.Aufstellung | O37: i.Aufstellung
A38: Theisbergstegen | B38: -49375.84 | C38: -129772.47 | D38: -76758.34 | E38: -162692.59 | F38: 95405.76 | G38: -136120.05 | H38: -38625.3 | I38: 122768.13 | J38: -100360 | K38: -107760 | L38: -106500 | M38: -134424 | N38: i.Aufstellung
A39: Ulmet | B39: -51991.7 | C39: -233795.02 | D39: -41785.9 | E39: -112742.72 | F39: -137200 | G39: -131150 | H39: -111767 | I39: -121364 | J39: -120840 | K39: 121236 | L39: -98525 | M39: -86948 | N39: i.Aufstellung
A40: Welchweiler | B40: -6477.03 | C40: 19324.52 | D40: 24993.22 | E40: -3895.39 | F40: -22170.72 | G40: -22170.72 | H40: -3524.4 | I40: -42186 | J40: -39921 | K40: -40420 | L40: -48307 | M40: -48277 | N40: i.Aufstellung
A42: VG Lauterecken-Wolfstein
A43: Adenbach | B43: -13753.25 | C43: -42794.15 | D43: -18701.63 | E43: -17945.88 | F43: -11741.98 | G43: -20067.39 | H43: -7220 | I43: -9568.64 | J43: -27152.11 | K43: -14005.38 | L43: -27152.11 | M43: -1382.78 | N43: -21521 | O43: -24846 | P43: -24486
A44: Aschbach | B44: -15972.89 | C44: -46962.5 | D44: -57512.75 | E44: -750.18 | F44: 23436.01 | G44: -58567.99 | H44: 3823.58 | I44: -15797.31 | J44: 3328.12 | K44: -2402.91 | L44: -12840.84 | M44: -13230.95 | N44: -25790 | O44: -28298 | P44: -28817
A45: Buborn | B45: -17904.47 | C45: -1775.39 | D45: -196.83 | E45: 1138.48 | F45: 136.52 | G45: -28310.78 | H45: 863 | I45: 25419.83 | J45: -23188.81 | K45: 20809.77 | L45: -8678.05 | M45: -6792 | N45: -32205 | O45: -32255 | P45: -32225
A46: Cronenberg | B46: -3227.23 | C46: -12669.63 | D46: 14845.16 | E46: -2620.58 | F46: -15243.87 | G46: -11439.97 | H46: 16379 | I46: 875.8 | J46: 6089.21 | K46: -10195.16 | L46: -28433.01 | M46: -1433.22 | N46: -2931 | O46: 458 | P46: 1595
A47: Deimberg | B47: -86972.47 | C47: -30770.66 | D47: -125377.61 | E47: 4330.96 | F47: -19257.99 | G47: -11494.49 | H47: -3490 | I47: 3178.83 | J47: -24972.41 | K47: -10052.98 | L47: 27117.67 | M47: -6936.1 | N47: -17950 | O47: -16450 | P47: -16200
A48: Einöllen | B48: 16638.66 | C48: -17286.66 | D48: -30489.02 | E48: -39693.67 | F48: 17392.87 | G48: -8918.41 | H48: -11162 | I48: 10372.52 | J48: 2446.62 | K48: -1784.6 | L48: -25486.98 | M48: 41599.72 | N48: 7995 | O48: 10045 | P48: 10195
A49: Eßweiler | B49: -96278.38 | C49: -50420.04 | D49: -48786.39 | E49: -1044.01 | F49: -68981.87 | G49: -103238.25 | H49: -36285.55 | I49: -30546.43 | J49: -1083.72 | K49: -21116.56 | L49: -26104.97 | M49: 20742.65 | N49: -56627 | O49: -51550 | P49: -50300
A50: Ginsweiler | B50: -8023.07 | C50: 40775.88 | D50: 74842.68 | E50: -100749.38 | F50: 99524.64 | G50: -40894.9 | H50: -2205.89 | I50: -28817.61 | J50: -12813.29 | K50: 19794.41 | L50: -21858.43 | M50: -3423.03 | N50: -33061 | O50: -34071 | P50: -34181
A51: Glanbrücken | B51: -43592.35 | C51: -96084.43 | D51: -26418.59 | E51: -18279.54 | F51: -23553.61 | G51: -108564.36 | H51: -37870.01 | I51: 22439.94 | J51: -92957.29 | K51: 1306.19 | L51: -92397.59 | M51: -12654.61 | N51: -69994 | O51: -63035 | P51: -62838
A52: Grumbach | B52: -157142.32 | C52: -47436.21 | D52: -85662.91 | E52: -205187.6 | F52: -60339.62 | G52: -174916.6 | H52: -1724.9 | I52: -152771.24 | J52: -127129.23 | K52: -150208.23 | L52: -66538.28 | M52: -161582.6 | N52: -214094 | O52: -201392
A53: Hausweiler | B53: -2112.01 | C53: -3885.06 | D53: -1487.83 | E53: -5099.29 | F53: -8660.63 | G53: -7383.15 | H53: -3182 | I53: 11396.34 | J53: -25768.42 | K53: -21.72 | L53: -12030.18 | M53: 3392.16 | N53: -4125 | O53: -3965 | P53: -3715
A54: Hefersweiler | B54: -21900.65 | C54: -39691.37 | D54: -22816.73 | E54: -48691.35 | F54: 2425.33 | G54: -60649.35 | H54: -30876 | I54: 41098.6 | J54: 114267.67 | K54: -15790.58 | L54: -125414.14 | M54: -18122.03 | N54: -102482 | O54: -83818 | P54: -85244
A55: Heinzenhausen | B55: -95.07 | C55: -18567.69 | D55: 817.95 | E55: 4490.94 | F55: 4251.72 | G55: -53184.64 | H55: -3416 | I55: 1389.43 | J55: 8208.51 | K55: -5439.53 | L55: -7898.09 | M55: -14520.8 | N55: -21277 | O55: -22481 | P55: -20385
A56: Herren-Sulzbach | B56: -23695.39 | C56: -15128.19 | D56: -15974.08 | E56: -15757.87 | F56: -20451.27 | G56: -32673.93 | H56: -16449.69 | I56: -214.89 | J56: -19342.57 | K56: -10725.78 | L56: -4306.54 | M56: -1972.45 | N56: -13565 | O56: -12951 | P56: -12511
A57: Hinzweiler | B57: -42144.99 | C57: -29847.4 | D57: -93433.88 | E57: 3030.81 | F57: 9885.13 | G57: -56331.31 | H57: -11563.46 | I57: 17138.63 | J57: -16785.24 | K57: 8431.55 | L57: -34611.3 | M57: -9255.83 | N57: -131384 | O57: -68628 | P57: -64424
A58: Hohenöllen | B58: 15194.81 | C58: 13756.67 | D58: -3357.36 | E58: 28123.77 | F58: 34421.84 | G58: -52434.77 | H58: 10242.25 | I58: 8526.63 | J58: 8383.6 | K58: 8206.23 | L58: -25937.62 | M58: -31059.41 | N58: -5076 | O58: -11554 | P58: -15202
A59: Homberg | B59: -22575.3 | C59: 141.43 | D59: -629.43 | E59: -8250.48 | F59: 13611.57 | G59: -5166.97 | H59: -23526.58 | I59: -2234.71 | J59: -8802.57 | K59: 6767.34 | L59: -985.4 | M59: -2716.23 | N59: -2020 | O59: -2020 | P59: -2020
A60: Hoppstädten | B60: 7953.7 | C60: 9590.83 | D60: -9908.97 | E60: 44178.92 | F60: 19186.67 | G60: -32206.23 | H60: -25340.17 | I60: 6274.64 | J60: -56664.06 | K60: -7094.41 | L60: 6239.73 | M60: -40176.79 | N60: -40010 | O60: -24420 | P60: -24240
A61: Jettenbach | B61: -47033.87 | C61: -59850.68 | D61: -55980.43 | E61: 89271.07 | F61: 59968.6 | G61: -168751.72 | H61: 43189.19 | I61: 100139.08 | J61: 16806.8 | K61: 95486.11 | L61: 106714.9 | M61: 147690.21 | N61: 88138 | O61: 47478 | P61: 13898
A62: Kappeln | B62: -20534.17 | C62: -15672.99 | D62: -22246.5 | E62: 18462.91 | F62: -3385.86 | G62: -41647.93 | H62: 2407.33 | I62: 28287.68 | J62: -10645.7 | K62: 8475.96 | L62: -14775.63 | M62: -34686.08 | N62: -28466 | O62: -27296 | P62: -29506
A63: Kirrweiler | B63: 92.3 | C63: -26138.64 | D63: 2077.46 | E63: -974.77 | F63: 59176.07 | G63: 120711.93 | H63: 83872.45 | I63: 11669.22 | J63: 83270.73 | K63: 66299.67 | L63: 86964.41 | M63: 71371.69 | N63: 68033 | O63: 57243 | P63: 67603
A64: Kreimbach-Kaulbach | B64: 117038.86 | C64: 35434.16 | D64: -28337.06 | E64: -101279.09 | F64: 192934.03 | G64: 164677.51 | H64: 10511.05 | I64: -121496.86 | J64: -60844.74 | K64: 113315.1 | L64: -15299.96 | M64: -33480.95 | N64: -122027 | O64: -94987 | P64: -97267
A65: Langweiler | B65: -2435.74 | C65: 6029.86 | D65: -917.04 | E65: 10110.58 | F65: 8190.43 | G65: -35588.32 | H65: -15522.3 | I65: 6436.06 | J65: 507.19 | K65: -11212.9 | L65: -15267.91 | M65: -20245.51 | N65: -32938 | O65: -42817 | P65: -42537
A66: Lauterecken | B66: -291172.82 | C66: -402286.57 | D66: -352820.67 | E66: -478728.55 | F66: -17724.14 | G66: -357200.96 | H66: -579166.42 | I66: 147615.01 | J66: 267560.76 | K66: -614164.74 | L66: 70677.6 | M66: -404761.83 | N66: -65077 | O66: -32770
A67: Lohnweiler | B67: -31880.9 | C67: -24071.84 | D67: -5197.96 | E67: -33490.3 | F67: -23957.45 | G67: -78891.15 | H67: 5.11 | I67: -14058.13 | J67: -2367.62 | K67: -22365.32 | L67: 1361.83 | M67: -20029.65 | N67: -100199 | O67: -47537 | P67: -47487
A68: Medard | B68: -69025.74 | C68: -98398.86 | D68: -18104.98 | E68: -78171.56 | F68: 69375.48 | G68: 157803.13 | H68: -133508.73 | I68: 129984.15 | J68: -35835.94 | K68: 52429.23 | L68: 431864.17 | M68: 14005.24 | N68: 34043 | O68: 46624
A69: Merzweiler | B69: 22780.26 | C69: -10139.02 | D69: 38683.35 | E69: 43913.72 | F69: 30396.05 | G69: -48464.9 | H69: 357.03 | I69: 44209.27 | J69: -15237.09 | K69: -9134.28 | L69: 82548.86 | M69: -62030.28 | N69: -39068 | O69: -39528 | P69: -38888
A70: Nerzweiler | B70: -25756.8 | C70: -7113.49 | D70: 14126.91 | E70: 284 | F70: 6733.52 | G70: -17576.53 | H70: 2029.08 | I70: 31092.29 | J70: -1844.26 | K70: -9128.66 | L70: -712.42 | M70: 3915.8 | N70: -7151 | O70: -7731 | P70: -7461
A71: Nußbach | B71: -66621.55 | C71: 14545.67 | D71: -41838.06 | E71: -18080.43 | F71: -89515.05 | G71: -72088.31 | H71: -50355.5 | I71: 79301.88 | J71: 48018.58 | K71: -42592.37 | L71: 57042.95 | M71: 12188.72 | N71: -35280 | O71: -2251 | P71: -20659
A72: Oberweiler i.T. | B72: -39804.1 | C72: -3998.8 | D72: -8930.26 | E72: -6590.62 | F72: -13565.5 | G72: -47754.3 | H72: -589.27 | I72: -12539.99 | J72: -34655.58 | K72: -25142.73 | L72: 1417.06 | M72: -3572.4 | N72: -35800 | O72: -36950 | P72: -36400
A73: Oberweiler-Tiefenb. | B73: 142095.13 | C73: 114325.8 | D73: -227400.97 | E73: 24458.15 | F73: 42309.5 | G73: 148659.69 | H73: 63775.74 | I73: -33212.2 | J73: 117853.02 | K73: 5595.82 | L73: 115026.69 | M73: -252630.4 | N73: -13803 | O73: -12403 | P73: -11153
A74: Odenbach | B74: 3715.6 | C74: 47869.46 | D74: -13398.21 | E74: -66657.15 | F74: 15331.23 | G74: -13880.49 | H74: 55209.78 | I74: -17143.46 | J74: -58433.86 | K74: -14803.12 | L74: -79677.49 | M74: -108169.99 | N74: -86847 | O74: -100585
A75: Offenbach-Hundheim | B75: -91317.22 | C75: 37603.56 | D75: -74071.96 | E75: -68262.75 | F75: 26098.36 | G75: -169777.13 | H75: -49152.38 | I75: -117915.03 | J75: 46313.67 | K75: -64030.99 | L75: -165355.13 | M75: -182667.93 | N75: -271384 | O75: -262643
A76: Reipoltskirchen | B76: -31221.53 | C76: -30229 | D76: -16174.49 | E76: -42715.06 | F76: -5400.45 | G76: -42113.94 | H76: -6313.14 | I76: 1475.8 | J76: 22204.4 | K76: 3543.99 | L76: 21007.79 | M76: -52186.02 | N76: -44970 | O76: -36770 | P76: -36070
A77: Relsberg | B77: -3136.88 | C77: -2843.85 | D77: -7019.2 | E77: -27394.7 | F77: 20526.33 | G77: -15947.29 | H77: -16154.11 | I77: 26847.98 | J77: 23654.62 | K77: -11315.43 | L77: 10188.9 | M77: 5455.79 | N77: -23992 | O77: -8349 | P77: -8099
A78: Rothselberg | B78: 5501.55 | C78: 7521.39 | D78: -34933.76 | E78: 143951.1 | F78: 252190.7 | G78: 221896.36 | H78: 140648.57 | I78: 67604.63 | J78: 79136.39 | K78: 159699.97 | L78: 157498.54 | M78: 84785.7 | N78: 111457 | O78: 111945 | P78: 111819
A79: Rutsweiler/Lauter | B79: -104628.34 | C79: -36228.44 | D79: -55170.08 | E79: -68641.6 | F79: 1327.93 | G79: -56786.78 | H79: -88410.94 | I79: -37367.61 | J79: -3328.65 | K79: -27394.6 | L79: -60413.24 | M79: -50114.09 | N79: -54895 | O79: -55562 | P79: -55005
A80: St.Julian | B80: -43439.87 | C80: -50145.64 | D80: -107416.53 | E80: -70344.3 | F80: 30203.16 | G80: -289730.58 | H80: 100674.9 | I80: -185546.66 | J80: -32176.93 | K80: -119152.84 | L80: -128232.96 | M80: -279885.5 | N80: -93282 | O80: -129515 | P80: -120511 | Q80: -101340
A81: Unterjeckenbach | B81: 13335.27 | C81: -15010.22 | D81: 1409.3 | E81: 18251.31 | F81: -24928.6 | G81: -11882.46 | H81: 1925.62 | I81: -1165.35 | J81: 7560.56 | K81: 5694.8 | L81: -9061.7 | M81: 436.24 | N81: -2017 | O81: -2557 | P81: -2317
A82: Wiesweiler | B82: -38549.78 | C82: -33556.55 | D82: -36664.52 | E82: -25276.03 | F82: -35563.33 | G82: -71256.46 | H82: -10465.17 | I82: -10151.05 | J82: -42745.31 | K82: -73393.46 | L82: -19179.36 | M82: 5531.89 | N82: -44322 | O82: -40057 | P82: -40614
A83: Wolfstein | B83: -116425.31 | C83: -157567.81 | D83: -1607668.3 | E83: -308411.58 | F83: -288457.96 | G83: 157185.65 | H83: -287618.21 | I83: -285260.36 | J83: 74515.81 | K83: -342187.85 | L83: 130066.47 | M83: -960365.31 | N83: 292557 | O83: 368595
A85: VG Oberes Glantal
A86: Altenkirchen | B86: -43121.56 | C86: 54581.68 | D86: -132011.35 | E86: -205783.82 | F86: -67606.17 | G86: -83832.03 | H86: -76574.87 | I86: -81066.28 | J86: -5889.31 | K86: -131120.06 | L86: -282402 | M86: -215140 | N86: -177610 | O86: -156930 | P86: -121290
A87: Börsborn | B87: -10783.34 | C87: 15356.43 | D87: -13731.01 | E87: -6412.33 | F87: -7152.26 | G87: -2466.14 | H87: 34831.13 | I87: 76304.09 | J87: 13255.3 | K87: 39706.25 | L87: -7650 | M87: -48350 | N87: 1000 | O87: -8300 | P87: -17800 | Q87: -
A88: Breitenbach | B88: -98641.42 | C88: -260696.46 | D88: 65873.47 | E88: -248870.51 | F88: -19004.87 | G88: 22652.33 | H88: 19292.6 | I88: -57768.09 | J88: -160612.44 | K88: -182996.54 | L88: -410668 | M88: -383979
A89: Brücken/Pfalz | B89: -166300.34 | C89: -203110.24 | D89: -112726.73 | E89: -55097.17 | F89: -21048.88 | G89: -97580.5 | H89: -91248.38 | I89: 82918.53 | J89: -124624 | K89: -261858 | L89: 7130 | M89: 14910 | N89: -26640 | O89: 53580 | P89: 96230
A90: Dittweiler | B90: -106848.83 | C90: -14927.63 | D90: 29096.39 | E90: -169097.36 | F90: -47845.16 | G90: -96602.15 | H90: 14196.72 | I90: -247991.77 | J90: -249046.13 | K90: -154526.74 | L90: 47475.02 | M90: -96511.88 | N90: -239915 | O90: -249145
A91: Dunzweiler | B91: -148152.8 | C91: -219147.49 | D91: 31457.97 | E91: -199544.95 | F91: -104480.81 | G91: 19378.42 | H91: -25594.43 | I91: -156778.35 | J91: -136577.75 | K91: -200299.17 | L91: -146987.35 | M91: -46809.17 | N91: -244760 | O91: -215860
A92: Frohnhofen | B92: -48092.41 | C92: -28837.35 | D92: -33840.46 | E92: -47979.84 | F92: -44842.22 | G92: -42299.46 | H92: -111622.38 | I92: 63540.8 | J92: -64035.02 | K92: -72890.49 | L92: -22089.41 | M92: -92940.76 | N92: 34473 | O92: 12313
A93: Glan-Münchweiler | B93: 139686.15 | C93: 131168.04 | D93: 153955.21 | E93: 43173.44 | F93: 76736.26 | G93: 228787.3 | H93: -372185.92 | I93: -110781.29 | J93: 341611.53 | K93: 167098.3 | L93: -11120 | M93: -250660 | N93: -237610
A94: Gries | B94: -153749.92 | C94: -150210.5 | D94: -103818.46 | E94: 14351.96 | F94: -110558.37 | G94: -23521.64 | H94: -62659.89 | I94: 21478.25 | J94: -81023.2 | K94: -156630.81 | L94: -146300 | M94: -184850 | N94: -140350 | O94: -129850
A95: Henschtal | B95: -32013.77 | C95: 13383.49 | D95: 15883.83 | E95: -13955 | F95: -18323.67 | G95: -13247.35 | H95: -9741.64 | I95: -33736.75 | J95: -13881.64 | K95: 5333.31 | L95: -90250 | M95: -100950 | N95: -86950 | O95: -77950 | P95: - | Q95: -
A96: Herschw.-Pettersh. | B96: -51943.96 | C96: -156129.08 | D96: -78615.51 | E96: 28404.55 | F96: -8952.9 | G96: 158453.26 | H96: 18833.58 | I96: -69664.85 | J96: 144718.49 | K96: -326658.31 | L96: -101800 | M96: -4400 | N96: -108200 | O96: -72050 | P96: -45100 | Q96: -
A97: Hüffler | B97: -19160.81 | C97: -6304.51 | D97: 104570.01 | E97: -25943.21 | F97: -95593.69 | G97: -29091.28 | H97: 142243.07 | I97: 36830.79 | J97: 50342.86 | K97: -29055.01 | L97: -17750 | M97: -13800 | N97: -8750 | O97: 850 | P97: 16950
A98: Krottelbach | B98: 1019.44 | C98: 12447.15 | D98: -60267.04 | E98: -23394.43 | F98: -15631.77 | G98: -15008.29 | H98: 64833.41 | I98: 38340.65 | J98: -125164.45 | K98: 3821.39 | L98: -127900 | M98: -121750 | N98: -109100 | O98: -33550
A99: Langenbach | B99: 3775.24 | C99: -19062.7 | D99: -19599.42 | E99: -47667.14 | F99: -6077.61 | G99: -34384.78 | H99: -30591.41 | I99: -48207.88 | J99: -32405.94 | K99: -16949.94 | L99: -91950 | M99: -85150 | N99: -127000 | O99: -101800 | P99: - | Q99: -
A100: Matzenbach | B100: -21843.84 | C100: -27631.02 | D100: -53661.93 | E100: -11771.42 | F100: -2077.81 | G100: -17243.74 | H100: -16162.96 | I100: 101449.72 | J100: -17078.09 | K100: 56.71 | L100: -231200 | M100: -107200 | N100: -121350 | O100: -110850 | P100: -91800
A101: Nanzdietschweiler | B101: -74214.17 | C101: -81185.73 | D101: -51842.03 | E101: -9766.82 | F101: -13042.83 | G101: -105989.67 | H101: 16729.6 | I101: -74143.2 | J101: 4977.99 | K101: -112900.4 | L101: -209769.96 | M101: -124917.61 | N101: -160800 | O101: -177800 | P101: -122800
A102: Ohmbach | B102: -148789.14 | C102: -159997.04 | D102: -117540.96 | E102: -72556.07 | F102: -140069.36 | G102: -95929.99 | H102: -132163.14 | I102: -118334.43 | J102: -103276.86 | K102: -136324 | L102: -141689 | M102: -157289 | N102: -160089 | O102: -122139
A103: Quirnbach | B103: -98760.58 | C103: -80327.56 | D103: -24695.98 | E103: -63507.25 | F103: 12080.24 | G103: -34385.09 | H103: -9693.65 | I103: -80866.96 | J103: -54607.22 | K103: 36211.05 | L103: -99549 | M103: 3011 | N103: -64920
A104: Rehweiler | B104: -14260.84 | C104: 4977.99 | D104: 98531.22 | E104: -41688.26 | F104: 9184.78 | G104: -21802.98 | H104: -38557.06 | I104: -66810.07 | J104: 14825.09 | K104: -10297.67 | L104: 73724.16 | M104: 55658.29 | N104: -75200 | O104: -68400 | P104: -60200
...

Sheet Eigenkapital zum 31.12.
N1: Plan
A2: Kommune | B2: 2011 | C2: 2012 | D2: 2013 | E2: 2014 | F2: 2015 | G2: 2016 | H2: 2017 | I2: 2018 | J2: 2019 | K2: 2020 | L2: 2021 | M2: 2022 | N2: 2023 | O2: 2024 | P2: 2025 | Q2: 2026
A4: Landkreis Kusel | B4: -75119438 | C4: -89584598 | D4: -97306648 | E4: -1.0399764e+08 | F4: -1.113949e+08 | G4: -1.1935602e+08 | H4: -1.3083906e+08 | I4: -1.3623976e+08 | J4: -1.4070936e+08 | K4: -1.4295813e+08 | L4: -1.4989167e+08 | M4: -1.5863481e+08
A6: VG Kusel-Altenglan
A7: Albessen | B7: 1456397.3 | C7: 1442453.9 | D7: 1413580.4 | E7: 1390515.8 | F7: 1349827.9 | G7: 1375125.9 | H7: 1304091.8 | I7: 1260514 | J7: 1156669.5 | K7: 1067922.1 | L7: 1057678.9 | M7: 986978.86 | N7: i.Aufstellung | O7: i.Aufstellung
A8: Altenglan | B8: -211911.13 | C8: -729349.88 | D8: -1129819.4 | E8: -1207499.9 | F8: -1521233.2 | G8: -1850271.2 | H8: -2166457.5 | I8: -2557593.5 | J8: -2955245.5 | K8: -3820831.2 | L8: -4229888.2 | M8: -4979432.2 | N8: i.Aufstellung
A9: Bedesbach | B9: 451733.58 | C9: 331895.43 | D9: 231866.29 | E9: 161208.01 | F9: 171501.97 | G9: 112714.52 | H9: 121278.04 | I9: 174066.98 | J9: 125115 | K9: 178703.56 | L9: 408838.05 | M9: 993176.17 | N9: i.Aufstellung
A10: Blaubach | B10: 578751.3 | C10: 545655.87 | D10: 257680.22 | E10: 311292.46 | F10: 330657.68 | G10: 293685.06 | H10: 166273.42 | I10: 101874.95 | J10: 48020.91 | K10: -2606.69 | L10: -56586.99 | M10: -154211.69 | N10: i.Aufstellung
A11: Bosenbach | B11: -916122.56 | C11: -1190230.6 | D11: -1431111.4 | E11: -1558245.3 | F11: -1682716.2 | G11: -1812761.1 | H11: -1885597.7 | I11: -2029278.1 | J11: -2198163.9 | K11: -2405121.7 | L11: 2585576.3 | M11: -2769164.3 | N11: i.Aufstellung
A12: Dennweiler-Frohnbach | B12: 733252.19 | C12: 746024.32 | D12: 749920.61 | E12: 697555.09 | F12: 716504.04 | G12: 671980.58 | H12: 653446.42 | I12: 653743.9 | J12: 651129.52 | K12: 669039.91 | L12: 664288.97 | M12: 573498.97 | N12: i.Aufstellung
A13: Ehweiler | B13: 1201325.7 | C13: 1193188.1 | D13: 1190402 | E13: 1158731.8 | F13: 1148397.4 | G13: 1117534.4 | H13: 1085784.2 | I13: 1054431.2 | J13: 1031508.1 | K13: 970368.08 | L13: 915348.08 | M13: 861428.08 | N13: i.Aufstellung
A14: Elzweiler | B14: 324398.55 | C14: 308664.04 | D14: 302512.9 | E14: 290025.73 | F14: 274855.72 | G14: 259361.74 | H14: 242123.05 | I14: 216316.05 | J14: 179619.05 | K14: 155491.05 | L14: 127608.07 | M14: 96798.07 | N14: i.Aufstellung
A15: Erdesbach | B15: 79924.54 | C15: 25984.64 | D15: -8920.43 | E15: -49893.43 | F15: -90808.01 | G15: -179123.01 | H15: -266989.01 | I15: -338241.01 | J15: -394813.01 | K15: -464722.01 | L15: -520792.01 | M15: -629890.01 | N15: i.Aufstellung
A16: Etschberg | B16: 1282847.9 | C16: 1202441.2 | D16: 1060085.8 | E16: 952255.25 | F16: 889480.41 | G16: 725218.82 | H16: 602692.24 | I16: 533605.01 | J16: 352730.63 | K16: 318485.16 | L16: 265521.52 | M16: 94101.52 | N16: i.Aufstellung | O16: i.Aufstellung
A17: Föckelberg | B17: 720408.65 | C17: 712510.95 | D17: 664573 | E17: 660379.8 | F17: 643310.93 | G17: 593231.66 | H17: 569326.79 | I17: 545035.04 | J17: 565820.13 | K17: 483017.13 | L17: 432990.13 | M17: 383682.13 | N17: i.Aufstellung
A18: Haschbach/Rbg. | B18: 1207617 | C18: 1180444.1 | D18: 1169195.1 | E18: 1124364.8 | F18: 1115906.9 | G18: 1033518.3 | H18: 1074660.8 | I18: 1027878.5 | J18: 1018622 | K18: 1076769.2 | L18: 1127611.8 | M18: 1025361.8 | N18: i.Aufstellung
A19: Herchweiler i.O. | B19: 476470.04 | C19: 384805.03 | D19: 288030.37 | E19: 238662.05 | F19: 110357.6 | G19: 32444.36 | H19: 14986.65 | I19: -45399.1 | J19: -82470.75 | K19: -207350.75 | L19: -315580.75 | M19: -405040.75 | N19: i.Aufstellung | O19: i.Aufstellung
A20: Horschbach | B20: 1276173.9 | C20: 1233373.5 | D20: 1220,535,71 | E20: 1227128.1 | F20: 1201077 | G20: 1153789.9 | H20: 1164387.3 | I20: 1075428.3 | J20: 1031014.3 | K20: 997130.33 | L20: 906598.33 | M20: 789375.33 | N20: i.Aufstellung
A21: Konken | B21: 643086.01 | C21: 370358.19 | D21: 143211.13 | E21: -91262.06 | F21: -151237.85 | G21: -409108.51 | H21: -470482.26 | I21: -392555.88 | J21: -575505 | K21: -610262 | L21: -747582 | M21: -971356 | N21: i.Aufstellung | O21: i.Aufstellung
A22: Körborn | B22: 850127.95 | C22: 757121.09 | D22: 729367.93 | E22: 687426.45 | F22: 640564.85 | G22: 564620.22 | H22: 562327.66 | I22: 491636.9 | J22: 469557.03 | K22: 479042.82 | L22: 492300.16 | M22: 377730.16 | N22: i.Aufstellung
A23: Kusel | B23: 9621269.1 | C23: 9353786.2 | D23: 8619437.4 | E23: 7595607.1 | F23: 6365831.6 | G23: 5905662.8 | H23: 6074115.2 | I23: 5734430.5 | J23: 4708271.8 | K23: 3711054.8 | L23: 2265957.8 | M23: 1527049.8 | N23: i.Aufstellung
A24: Neunkirchen/Pbg. | B24: 1031544 | C24: 994121 | D24: 955192 | E24: 903069 | F24: 882119 | G24: 809798 | H24: 766875 | I24: 716284 | J24: 660123 | K24: 553035 | L24: 468075.41 | M24: 389742.41 | N24: i.Aufstellung
A25: Niederalben | B25: -159844.1 | C25: -220250.44 | D25: -278819.26 | E25: -294536.94 | F25: -355530.94 | G25: -416256.94 | H25: -505297.94 | I25: -570172.94 | J25: -620242.94 | K25: -667632.94 | L25: -716901.94 | M25: -767613.94 | N25: i.Aufstellung
A26: Niederstaufenbach | B26: 298485.3 | C26: 271420.9 | D26: 236855.67 | E26: 214470.31 | F26: 169258.31 | G26: 128668.31 | H26: 92136.31 | I26: 60425.31 | J26: -6606.69 | K26: -54997.69 | L26: -131375.69 | M26: -170664.69 | N26: i.Aufstellung
A27: Oberalben | B27: -111772.18 | C27: -158216.04 | D27: -227574.71 | E27: -238296.93 | F27: -286031.09 | G27: -326382.62 | H27: -325517.82 | I27: -317908.69 | J27: -334221.8 | K27: -328760.86 | L27: -314139.28 | M27: -444069.28 | N27: i.Aufstellung
A28: Oberstaufenbach | B28: 246485.22 | C28: 216685.87 | D28: 168305.88 | E28: 284582 | F28: 291668.28 | G28: 169875.55 | H28: 96823.61 | I28: 32256.61 | J28: 11688.61 | K28: -21647.39 | L28: -89924.39 | M28: -151414.39 | N28: i.Aufstellung
A29: Pfeffelbach | B29: 7194898 | C29: 7064498.5 | D29: 6958814.7 | E29: 6900040.2 | F29: 6926270.1 | G29: 6790952.3 | H29: 6709843.9 | I29: 6660661.9 | J29: 6812701.4 | K29: 6805266 | L29: 6853647.3 | M29: 6797647.3 | N29: i.Aufstellung
A30: Rammelsbach | B30: 833312.28 | C30: 608822.27 | D30: 358337.38 | E30: 250030.18 | F30: 133261.89 | G30: -35117.13 | H30: -145934.22 | I30: -399075.22 | J30: -638967.59 | K30: -1040607.3 | L30: -1286983.6 | M30: -1690600.6 | N30: i.Aufstellung
A31: Rathsweiler | B31: 429848.52 | C31: 416799.14 | D31: 414263.84 | E31: 410627.6 | F31: 395690.66 | G31: 375969.66 | H31: 355477.66 | I31: 337999.66 | J31: 310164.66 | K31: 292700.66 | L31: 222748.55 | M31: 193874.55 | N31: i.Aufstellung | O31: i.Aufstellung
A32: Reichweiler | B32: 1249697.6 | C32: 1236831.3 | D32: 1205383 | E32: 1136754.2 | F32: 1083102.2 | G32: 1028620.9 | H32: 1033603.7 | I32: 1078199.8 | J32: 1066345.6 | K32: 1071961.3 | L32: 1125963.2 | M32: 940153.19 | N32: i.Aufstellung
A33: Ruthweiler | B33: -422084.03 | C33: -545407.22 | D33: -656421.64 | E33: -763869.03 | F33: -851595.76 | G33: -980322.66 | H33: -1056975.3 | I33: -1170660 | J33: -1207545.2 | K33: -1277303.9 | L33: -1277999.3 | M33: -1525629.3 | N33: i.Aufstellung | O33: i.Aufstellung
A34: Rutsweiler/Glan | B34: 376773.71 | C34: 400871.26 | D34: 426196.14 | E34: 378085.87 | F34: 320450.92 | G34: 276618.44 | H34: 266954.01 | I34: 228419.38 | J34: 146602.38 | K34: 73646.38 | L34: 29733.38 | M34: -5165.62 | N34: i.Aufstellung
A35: Schellweiler | B35: 960944.02 | C35: 889829.32 | D35: 816565.68 | E35: 766979.85 | F35: 643545.67 | G35: 566795.47 | H35: 540549.06 | I35: 478173.27 | J35: 518278.96 | K35: 606501.97 | L35: 607165.47 | M35: 450395.47 | N35: i.Aufstellung | O35: i.Aufstellung
A36: Selchenbach | B36: 917603.06 | C36: 857447.15 | D36: 807067.48 | E36: 788742.86 | F36: 721669.47 | G36: 674500.95 | H36: 639272.39 | I36: 602627.49 | J36: 566719.23 | K36: 554596.07 | L36: 566669.27 | M36: 493439.27 | N36: i.Aufstellung | O36: i.Aufstellung
A37: Thallichtenberg | B37: 1278990.8 | C37: 1255963.3 | D37: 1125540 | E37: 1145114.1 | F37: 1161320.5 | G37: 1112992.2 | H37: 1139196.4 | I37: 1140510 | J37: 1030700 | K37: 939460.04 | L37: 805130.04 | M37: 694520.04 | N37: i.Aufstellung | O37: i.Aufstellung
A38: Theisbergstegen | B38: 1361343.3 | C38: 1470454.4 | D38: 1306902.8 | E38: 1115261 | F38: 1079678.6 | G38: 850005.13 | H38: 747844.27 | I38: 647032.68 | J38: 597469.46 | K38: 583187 | L38: 457617.44 | M38: 319158.44 | N38: i.Aufstellung
A39: Ulmet | B39: 924442.18 | C39: 753253.47 | D39: 659627.43 | E39: 572198.95 | F39: 421589.95 | G39: 290389.95 | H39: 185418.95 | I39: 67371.95 | J39: -45103.05 | K39: -155582.05 | L39: -317307.05 | M39: -307751.05 | N39: i.Aufstellung
A40: Welchweiler | B40: 297281.1 | C40: 295375.97 | D40: 287651.42 | E40: 303960.7 | F40: 286938.61 | G40: 278428.72 | H40: 280904.38 | I40: 253876.38 | J40: 22481.88 | K40: 194221.88 | L40: 165557.88 | M40: 131079.88 | N40: i.Aufstellung
A42: VG Lauterecken-Wolfstein
A43: Adenbach | B43: -58110.74 | C43: -101358.93 | D43: -125722.52 | E43: -154775.64 | F43: -182980.29 | G43: -203848.84 | H43: -230559.4 | I43: -249857.67 | J43: -279270.67 | K43: -316645.67 | L43: -354695.67 | M43: -374493.67 | N43: -394711.67 | O43: -415889.67 | P43: -436007.67
A44: Aschbach | B44: 633412.35 | C44: 551842.56 | D44: 529507.21 | E44: 510825.82 | F44: 503505.03 | G44: 471552.07 | H44: 454254.28 | I44: 413725.01 | J44: 403880.74 | K44: 371498.74 | L44: 338870.74 | M44: 270735.74 | N44: 242050.74 | O44: 213265.74 | P44: 183830.74
A45: Buborn | B45: 294203.2 | C45: 294768.15 | D45: 281358.78 | E45: 273408.58 | F45: 266479.88 | G45: 242444.8 | H45: 235007.25 | I45: 235644.23 | J45: 225172.12 | K45: 212825.12 | L45: 200996.12 | M45: 174091.12 | N45: 144806.12 | O45: 117211.12 | P45: 89686.12
A46: Cronenberg | B46: 193298.08 | C46: 175145.36 | D46: 170484.19 | E46: 79130.55 | F46: 93874.48 | G46: 107866.41 | H46: 115677.03 | I46: 113754.03 | J46: 113395.03 | K46: 101027.03 | L46: 85221.03 | M46: 70702.03 | N46: 65623.03 | O46: 60004.03 | P46: 55305.03
A47: Deimberg | B47: 62487.26 | C47: 46841.99 | D47: 34019.15 | E47: 28073.64 | F47: 15812.49 | G47: 6420.55 | H47: 4246.53 | I47: -6359.81 | J47: -18102.81 | K47: -39714.81 | L47: -61433.81 | M47: -80488.81 | N47: -95773.81 | O47: -111378.81 | P47: -126653.81
A48: Einöllen | B48: 462458.11 | C48: 398200.86 | D48: 389119.03 | E48: 376558.8 | F48: 376953.29 | G48: 343812.43 | H48: 362125.66 | I48: 334471.5 | J48: 337225.87 | K48: 312975.87 | L48: 289083.87 | M48: 314608.87 | N48: 341233.87 | O48: 370858.87 | P48: 402333.87
A49: Eßweiler | B49: 1185988.9 | C49: 1117256.4 | D49: 1078840.2 | E49: 996757.56 | F49: 907938.21 | G49: 831020.21 | H49: 799472.66 | I49: 744050.53 | J49: 748379.54 | K49: 692742.54 | L49: 639391.54 | M49: 589489.54 | N49: 541001.54 | O49: 499437.54 | P49: 457089.54
A50: Ginsweiler | B50: 162132.86 | C50: 241300.55 | D50: 226599.14 | E50: 229480.79 | F50: 365958.84 | G50: 160710.2 | H50: 152888.73 | I50: 131924.73 | J50: 112016.73 | K50: 88744.73 | L50: 65182.73 | M50: 31431.73 | N50: 467.73 | O50: -30294.27 | P50: -61255.27
A51: Glanbrücken | B51: 384583.88 | C51: 305799.8 | D51: 293986.81 | E51: 271951.98 | F51: 241599.73 | G51: 192813.95 | H51: 171666.26 | I51: 151507.26 | J51: 110047.26 | K51: 33529.26 | L51: -32035.74 | M51: -85281.74 | N51: -136967.74 | O51: -177143.74 | P51: -216359.74
A52: Grumbach | B52: -233074.12 | C52: -245277.67 | D52: -330623.44 | E52: -409924.13 | F52: -483312.08 | G52: -548622.71 | H52: -615763.3 | I52: -701940.3 | J52: -819828.3 | K52: -888741.3 | L52: -1006957.3 | M52: -1214911.3 | N52: -1389701.3 | O52: -1551311.3
A53: Hausweiler | B53: 154440.02 | C53: 153676.19 | D53: 147027.02 | E53: 137894.86 | F53: 128664.33 | G53: 121566.95 | H53: 118453.6 | I53: 108568.6 | J53: 98166.6 | K53: 85974.6 | L53: 73617.6 | M53: 63402.6 | N53: 54997.6 | O53: 47902.6 | P53: 42207.6
A54: Hefersweiler | B54: 854881.95 | C54: 774327.92 | D54: 724425.79 | E54: 693270.67 | F54: 636397.44 | G54: 592864.56 | H54: 553667.74 | I54: 552304.96 | J54: 478807.96 | K54: 419755.96 | L54: 359216.96 | M54: 246387.96 | N54: 138369.96 | O54: 50601.96 | P54: -37905.04
A55: Heinzenhausen | B55: 83677.57 | C55: 50811.51 | D55: 35924.28 | E55: 48508.84 | F55: 37853.17 | G55: -2425.89 | H55: -10278.07 | I55: -21573.07 | J55: -33370.07 | K55: -55009.07 | L55: -77496.07 | M55: -89449.07 | N55: -101469.07 | O55: -113575.07 | P55: -125267.07
A56: Herren-Sulzbach | B56: 129763.82 | C56: 87240.23 | D56: 89434.85 | E56: 47468.49 | F56: 20533.28 | G56: 3396.71 | H56: -11339.08 | I56: -35915.08 | J56: -61716.08 | K56: -82782.08 | L56: -114447.08 | M56: -121247.08 | N56: -131797.08 | O56: -141517.08 | P56: -150557.08
A57: Hinzweiler | B57: 2069865.7 | C57: 2000540.1 | D57: 1958628.5 | E57: 1929110.4 | F57: 1907737.7 | G57: 1858887.1 | H57: 1803199.5 | I57: 1796948.1 | J57: 1790168.2 | K57: 1739598.1 | L57: 1616565.1 | M57: 1520462.1 | N57: 1390839.1 | O57: 1315196.1 | P57: 1239533.1
A58: Hohenöllen | B58: 509760.42 | C58: 517647.48 | D58: 507774.05 | E58: 522755.22 | F58: 512818.15 | G58: 495358.05 | H58: 507638.66 | I58: 503082.49 | J58: 531170.46 | K58: 532543.46 | L58: 535992.46 | M58: 533072.46 | N58: 529532.46 | O58: 520302.46 | P58: 505772.46
A59: Homberg | B59: 534129.35 | C59: 532094.28 | D59: 524239.75 | E59: 503393.09 | F59: 496590.62 | G59: 489050.94 | H59: 483880.08 | I59: 468705.08 | J59: 454185.08 | K59: 429251.08 | L59: 404376.08 | M59: 406181.08 | N59: 413856.08 | O59: 420851.08 | P59: 427756.08
A60: Hoppstädten | B60: 1407864.3 | C60: 1458920.6 | D60: 1431966.2 | E60: 1431917.4 | F60: 1394599.1 | G60: 1361224 | H60: 1337197.4 | I60: 1313557.8 | J60: 1283231.8 | K60: 1258353.8 | L60: 1233208.8 | M60: 1188053.8 | N60: 1133058.8 | O60: 1092033.8 | P60: 1051228.8
A61: Jettenbach | B61: 3559188.5 | C61: 3459099.6 | D61: 3463632 | E61: 3499697.8 | F61: 3450630.6 | G61: 3413787.3 | H61: 3522024.1 | I61: 3604042.6 | J61: 3648771.3 | K61: 3609289.3 | L61: 3569089.3 | M61: 3550479.3 | N61: 3658009.3 | O61: 3724749.3 | P61: 3759219.3
A62: Kappeln | B62: 541887.16 | C62: 521577.65 | D62: 504531.14 | E62: 492113.36 | F62: 469533.01 | G62: 439193.11 | H62: 431826.12 | I62: 403855.12 | J62: 376084.12 | K62: 357868.12 | L62: 341321.12 | M62: 300259.12 | N62: 267788.12 | O62: 238507.12 | P62: 208546.12
A63: Kirrweiler | B63: 405767.31 | C63: 387445.26 | D63: 364342.75 | E63: 342516.2 | F63: 374416.51 | G63: 506728.57 | H63: 575952.57 | I63: 664854.31 | J63: 740306.31 | K63: 783586.31 | L63: 830348.31 | M63: 868911.31 | N63: 921274.31 | O63: 972927.31 | P63: 1025670.3
A64: Kreimbach-Kaulbach | B64: 4504351.3 | C64: 4349797.2 | D64: 4229785.6 | E64: 4097330.1 | F64: 4133685 | G64: 4237156.1 | H64: 4089944 | I64: 3980681.2 | J64: 3860923.2 | K64: 3775824.2 | L64: 3694416.2 | M64: 3551737.2 | N64: 3409668.2 | O64: 3285489.2 | P64: 3165130.2
A65: Langweiler | B65: 343949.56 | C65: 345122.35 | D65: 341085.69 | E65: 332010.48 | F65: 317511.47 | G65: 300322.29 | H65: 307793.77 | I65: 293864.87 | J65: 272506.87 | K65: 246936.87 | L65: 220080.87 | M65: 182683.87 | N65: 158091.87 | O65: 130419.87 | P65: 103287.87
A66: Lauterecken | B66: 1009471.4 | C66: 628662.86 | D66: 293362.55 | E66: -279549.84 | F66: -408413.61 | G66: -617524.6 | H66: -956345.56 | I66: -804530.35 | J66: -787916.35 | K66: -1352650.4 | L66: -1864186.4 | M66: -2139438.4 | N66: -2378283.4 | O66: -2618654.4
A67: Lohnweiler | B67: 822341.92 | C67: 817979.71 | D67: 759195.72 | E67: 738079.8 | F67: 716831.37 | G67: 691976.53 | H67: 677287.56 | I67: 646668.56 | J67: 615690.56 | K67: 589792.56 | L67: 563349.56 | M67: 496916.56 | N67: 429866.56 | O67: 390372.56 | P67: 351252.56
A68: Medard | B68: 92738.64 | C68: 30429.16 | D68: -46100.89 | E68: -56031.883 | F68: 34765.89 | G68: 133462.98 | H68: 195769.62 | I68: 217580.62 | J68: 274798.62 | K68: 330807.62 | L68: 367682.62 | M68: 407947.62 | N68: 449941.62 | O68: 491714.62
A69: Merzweiler | B69: 409194.16 | C69: 411815.97 | D69: 435775.27 | E69: 423582.33 | F69: 396697.27 | G69: 401341.9 | H69: 404106.44 | I69: 440302.62 | J69: 436561.62 | K69: 402735.62 | L69: 376377.62 | M69: 323102.62 | N69: 279817.62 | O69: 236212.62 | P69: 193287.62
A70: Nerzweiler | B70: -58228.19 | C70: -66926.86 | D70: -59494.44 | E70: -68592.18 | F70: -72429.99 | G70: -79239.83 | H70: -71804.13 | I70: -69690.13 | J70: -67379.13 | K70: -69967.13 | L70: -72512.13 | M70: -76985.13 | N70: -87788.13 | O70: -99111.13 | P70: -109604.13
A71: Nußbach | B71: 103065.8 | C71: 67802.87 | D71: 53148.05 | E71: 40492.78 | F71: -34258.23 | G71: 11246.07 | H71: 12774.15 | I71: -25837.01 | J71: 16155.11 | K71: -23785.89 | L71: -65975.89 | M71: -53888.89 | N71: -52033.89 | O71: -40740.89 | P71: -28965.89
A72: Oberweiler i.T. | B72: 650626.39 | C72: 620375.95 | D72: 597605.1 | E72: 578301.25 | F72: 545859.84 | G72: 516210.95 | H72: 503089.37 | I72: 475278.15 | J72: 445595.15 | K72: 411143.15 | L72: 375440.15 | M72: 343730.15 | N72: 310270.15 | O72: 275360.15 | P72: 241000.15
A73: Oberweiler-Tiefenb. | B73: 1653853.8 | C73: 1634492.5 | D73: 1585958.5 | E73: 1565871 | F73: 1534400.2 | G73: 1521255.4 | H73: 1554633 | I73: 1627193.2 | J73: 1716248 | K73: 1687297 | L73: 1659791 | M73: 1618338 | N73: 1586285 | O73: 1552932 | P73: 1520329
A74: Odenbach | B74: 473506.39 | C74: 491386.31 | D74: 497428.52 | E74: 468868.7 | F74: 447731.83 | G74: 471244.46 | H74: 433896.07 | I74: 398555.58 | J74: 375455.72 | K74: 297309.72 | L74: 221859.72 | M74: 167656.72 | N74: 101760.72 | O74: 26758.72
A75: Offenbach-Hundheim | B75: -58140.03 | C75: -52295.63 | D75: -136266.5 | E75: -174121.17 | F75: -146107.51 | G75: -230460.34 | H75: -275598.49 | I75: -364643.29 | J75: -372785.74 | K75: -526635.74 | L75: -1242877.7 | M75: -1531228.7 | N75: -1805031.7 | O75: -2076693.7
A76: Reipoltskirchen | B76: 137559.46 | C76: 70632.6 | D76: 54608.17 | E76: 22176.12 | F76: -13903.92 | G76: -54661.44 | H76: -73181.96 | I76: -88925.43 | J76: -86083.03 | K76: -122452.03 | L76: -158342.03 | M76: -184342.03 | N76: -229892.03 | O76: -263492.03 | P76: -295892.03
A77: Relsberg | B77: 214242.12 | C77: 190246.99 | D77: 188881.3 | E77: 173734.15 | F77: 180578.65 | G77: 162740.62 | H77: 167584.29 | I77: 174889.92 | J77: 173464.09 | K77: 147601.09 | L77: 128308.09 | M77: 98933.09 | N77: 69808.09 | O77: 56233.09 | P77: 46408.09
A78: Rothselberg | B78: 1923458.9 | C78: 1876950.5 | D78: 1860518.8 | E78: 1979453.2 | F78: 2091015.3 | G78: 2203139.7 | H78: 2477475.4 | I78: 2658323.5 | J78: 2701033.2 | K78: 2799490.2 | L78: 2898602.2 | M78: 2989191.2 | N78: 3075119.2 | O78: 3159546.2 | P78: 3244634.2
A79: Rutsweiler/Lauter | B79: 694778.03 | C79: 628965.46 | D79: 600294.24 | E79: 556401.39 | F79: 512784.33 | G79: 455298.04 | H79: 397501.67 | I79: 348734.93 | J79: 327758.07 | K79: 255771.07 | L79: 185836.07 | M79: 122747.07 | N79: 74431.07 | O79: 25921.07 | P79: -22151.93
A80: St.Julian | B80: 1518582.4 | C80: 1417032.7 | D80: 1340521.3 | E80: 1322215.3 | F80: 1282374.3 | G80: 1121237 | H80: 1069952.5 | I80: 959577.46 | J80: 857483.46 | K80: 732219.46 | L80: 541941.46 | M80: 420627.46 | N80: 338320.46 | O80: 248928.46 | P80: 149711.46 | Q80: 61694
A81: Unterjeckenbach | B81: 306799.06 | C81: 289962.1 | D81: 267596.13 | E81: 273072.56 | F81: 264540.25 | G81: 255570.89 | H81: 247568.32 | I81: 241349.61 | J81: 231801.61 | K81: 217915.61 | L81: 205346.61 | M81: 197599.61 | N81: 189792.61 | O81: 181525.61 | P81: 173578.61
A82: Wiesweiler | B82: 62270.41 | C82: 27978.36 | D82: -2378.19 | E82: -32199.27 | F82: -74945.62 | G82: -125785.54 | H82: -165068.81 | I82: -207711.81 | J82: -247972.81 | K82: -280320.81 | L82: -310645.81 | M82: -348235.81 | N82: -372355.81 | O82: -388345.81 | P82: -403805.81
A83: Wolfstein | B83: -231676.09 | C83: -162591.43 | D83: -1063020.8 | E83: -1171251.3 | F83: -1373747.4 | G83: -1440550.4 | H83: -1325245.3 | I83: -1338597.1 | J83: -1104676.1 | K83: -1352746.1 | L83: -1229291.1 | M83: -1089790.1 | N83: -810276.12 | O83: -510373.12
A85: VG Oberes Glantal
A86: Altenkirchen | B86: 1581225.9 | C86: 1626845.3 | D86: 1484183.2 | E86: 1420322.5 | F86: 1348752.3 | G86: 1219789.3 | H86: 1198115.2 | I86: 1136456.3 | J86: 1190803.1 | K86: 1096562.9 | L86: 872913.86 | M86: 698653.86 | N86: 574673.86 | O86: 470673.86 | P86: 390483.86
A87: Börsborn | B87: 707543.12 | C87: 728506.63 | D87: 711849.71 | E87: 714147.83 | F87: 706309.8 | G87: 698512.61 | H87: 719091.6 | I87: 777495.42 | J87: 790201.73 | K87: 799341.87 | L87: 837606.63 | M87: 730142.82 | N87: 734142.82 | O87: 734292.82 | P87: 726142.82
A88: Breitenbach | B88: 1938924.1 | C88: 1936923.9 | D88: 1814349.2 | E88: 1853178.4 | F88: 1797001.4 | G88: 1577366.6 | H88: 1593945.1 | I88: 1441143.4 | J88: 1428757.8 | K88: 1316982.6 | L88: 1346146.1 | M88: 1234871.6
A89: Brücken/Pfalz | B89: 2461861.2 | C89: 2266891.9 | D89: 2084892.6 | E89: 2010105 | F89: 2034565.6 | G89: 1937724.4 | H89: 1884130.1 | I89: 1920085 | J89: 1944366 | K89: 1733788 | L89: 1795608 | M89: 2016318 | N89: 2075478 | O89: 2217508 | P89: 2403688
A90: Dittweiler | B90: 1258013 | C90: 1309446.8 | D90: 1305673.3 | E90: 1578553.9 | F90: 1458870 | G90: 1306911.1 | H90: 1057357.6 | I90: 817470.69 | J90: 655239.42 | K90: 555077.93 | L90: 623413.78 | M90: 415638 | N90: 223123 | O90: 57028
A91: Dunzweiler | B91: 339481.33 | C91: 261268.04 | D91: 188701.4 | E91: 90457.97 | F91: -27336.01 | G91: -83405.18 | H91: -131247.07 | I91: -315768.18 | J91: -328342.34 | K91: -467768.51 | L91: -668513.82 | M91: -970424 | N91: -1194134 | O91: -1400244 | P91: -1587154
A92: Frohnhofen | B92: 1072016.7 | C92: 1050825.8 | D92: 981529.94 | E92: 959303.26 | F92: 595642.29 | G92: 797928.47 | H92: 710685.82 | I92: 772515.43 | J92: 754419.81 | K92: 793725.93 | L92: 706191.12 | M92: 619675.12 | N92: 514630.12
A93: Glan-Münchweiler | B93: 2019933.7 | C93: 2116025.7 | D93: 2121389.9 | E93: 2157073 | F93: 2171494 | G93: 2293213.1 | H93: 1944672.6 | I93: 1739658.6 | J93: 2036432 | K93: 2053695.4 | L93: 2025716.4 | M93: 1732206.4 | N93: 1505396.4 | O93: 1333816.4 | P93: 1200976.4
A94: Gries | B94: 194803.27 | C94: 94853.9 | D94: 525.15 | E94: 105135.79 | F94: 134569.79 | G94: 162270.04 | H94: 199651.37 | I94: 254223.51 | J94: 194542.91 | K94: 172492.88 | L94: 6843.51 | M94: -108006.49 | N94: -173606.49 | O94: -218856.49
A95: Henschtal | B95: 424993.16 | C95: 423538.11 | D95: 423808.09 | E95: 374903.23 | F95: 351147.56 | G95: 336603.82 | H95: 296949.28 | I95: 272315.94 | J95: 244636.72 | K95: 197571.65 | L95: 66924.8 | M95: -46825.2 | N95: -135775.2 | O95: -213625.2
A96: Herschw.-Pettersh. | B96: 1456350.1 | C96: 1299749.1 | D96: 1302133.5 | E96: 1371906.9 | F96: 1344265.7 | G96: 1423684.2 | H96: 1448059.5 | I96: 1419533.3 | J96: 1397795.2 | K96: 1380512.9 | L96: 1386007.3 | M96: 1241812.9 | N96: 1116312.9 | O96: 1034512.9 | P96: 964412.88
A97: Hüffler | B97: 376160.97 | C97: 370990.69 | D97: 467571.5 | E97: 452130.05 | F97: 374512.18 | G97: 349413.02 | H97: 507675.91 | I97: 527924.54 | J97: 560764.78 | K97: 535367.88 | L97: 536741.96 | M97: 526291.96 | N97: 526141.96 | O97: 542091.96 | P97: 572341.96
A98: Krottelbach | B98: 1747534 | C98: 1746480.1 | D98: 1632475.2 | E98: 1620171.2 | F98: 1567505.7 | G98: 1514510.6 | H98: 1526963.6 | I98: 1556988.6 | J98: 1503295.8 | K98: 1429574.9 | L98: 1300245.8 | M98: 1256645.8 | N98: 1221695.8 | O98: 1197095.8
A99: Langenbach | B99: 1562668.3 | C99: 1567091.8 | D99: 1528157.9 | E99: 1481296.1 | F99: 1479408.6 | G99: 1466943.9 | H99: 1432966.2 | I99: 1409824 | J99: 1409957.7 | K99: 1388688.7 | L99: 1245633.5 | M99: 1173283.5 | N99: 1075533.5 | O99: 1004733.5
A100: Matzenbach | B100: 1562629.9 | C100: 1487715 | D100: 1455867.3 | E100: 1416686.3 | F100: 1388995.5 | G100: 1344747.2 | H100: 1289682.8 | I100: 1329265.2 | J100: 1258210.6 | K100: 1198413.4 | L100: 961105.69 | M100: 828655.69 | N100: 684455.69 | O100: 545105.69 | P100: 419755.69
A101: Nanzdietschweiler | B101: 2292199.2 | C101: 2150338.2 | D101: 2036603.8 | E101: 1941344.1 | F101: 1859554.4 | G101: 1738926.5 | H101: 1631398.5 | I101: 1535324.5 | J101: 1438722.5 | K101: 1240985.6 | L101: 1049485.6 | M101: 800985.6 | N101: 610885.6 | O101: 416185.6 | P101: 244285.6
A102: Ohmbach | B102: 779414.15 | C102: 616490.92 | D102: 477717.82 | E102: 377697.29 | F102: 273986.72 | G102: 138776.89 | H102: 53913.52 | I102: -59826.35 | J102: -127967.93 | K102: -200904.29 | L102: -334543.29 | M102: -473432.29 | N102: -630421.29 | O102: -749610.29
A103: Quirnbach | B103: 634085.15 | C103: 544498.56 | D103: 487609.42 | E103: 384117.21 | F103: 384834.74 | G103: 328931.65 | H103: 261982.66 | I103: 235223.24 | J103: 189342.56 | K103: 127828.09 | L103: -14086.91 | M103: 38884.09 | N103: -31245.91 | O103: -68790.91 | P103: -104194.91
A104: Rehweiler | B104: 743178.36 | C104: 770156.83 | D104: 890072.25 | E104: 873666.88 | F104: 818946.6 | G104: 798316.03 | H104: 760344.68 | I104: 734101.96 | J104: 741203.58 | K104: 732758.67 | L104: 668458.67 | M104: 592658.67 | N104: 507458.67 | O104: 429358.67 | P104: 359858.67
...

Sheet Hebesatz Grundsteuer A
A1: Kommune | B1: 2011 | C1: 2012 | D1: 2013 | E1: 2014 | F1: 2015 | G1: 2016 | H1: 2017 | I1: 2018 | J1: 2019 | K1: 2020 | L1: 2021 | M1: 2022 | N1: 2023
A3: Landkreis Kusel
A5: VG Kusel-Altenglan
A6: Albessen | B6: 2.9 | C6: 2.9 | D6: 2.9 | E6: 2.9 | F6: 3 | G6: 3 | H6: 3 | I6: 3 | J6: 3 | K6: 3 | L6: 3 | M6: 3.2 | N6: 3.2
A7: Altenglan | B7: 2.9 | C7: 2.9 | D7: 2.9 | E7: 2.9 | F7: 3 | G7: 3 | H7: 3 | I7: 3 | J7: 3 | K7: 3 | L7: 3 | M7: 3.2 | N7: 3.2
A8: Bedesbach | B8: 2.9 | C8: 2.9 | D8: 2.9 | E8: 2.9 | F8: 3 | G8: 3 | H8: 3 | I8: 3 | J8: 3 | K8: 3 | L8: 3 | M8: 3.2 | N8: 3.2
A9: Blaubach | B9: 2.9 | C9: 2.9 | D9: 2.9 | E9: 2.9 | F9: 3 | G9: 3 | H9: 3 | I9: 3 | J9: 3 | K9: 3 | L9: 3 | M9: 3.2 | N9: 3.2
A10: Bosenbach | B10: 2.9 | C10: 2.9 | D10: 2.9 | E10: 2.9 | F10: 3 | G10: 3 | H10: 3 | I10: 3 | J10: 3 | K10: 3 | L10: 3 | M10: 3.2 | N10: 3.2
A11: Dennweiler-Frohnbach | B11: 2.9 | C11: 2.9 | D11: 2.9 | E11: 2.9 | F11: 3 | G11: 3 | H11: 3 | I11: 3 | J11: 3 | K11: 3 | L11: 3 | M11: 3.2 | N11: 3.2
A12: Ehweiler | B12: 2.9 | C12: 2.9 | D12: 2.9 | E12: 2.9 | F12: 2.9 | G12: 3 | H12: 3 | I12: 3 | J12: 3 | K12: 3 | L12: 3 | M12: 3.2 | N12: 3.2
A13: Elzweiler | B13: 2.9 | C13: 3.5 | D13: 3.5 | E13: 3.5 | F13: 3.5 | G13: 3.5 | H13: 3.5 | I13: 3.5 | J13: 3.5 | K13: 3.5 | L13: 3.5 | M13: 3.7 | N13: 3.7
A14: Erdesbach | B14: 2.9 | C14: 2.9 | D14: 2.9 | E14: 2.9 | F14: 3 | G14: 3 | H14: 3 | I14: 3 | J14: 3 | K14: 3 | L14: 3 | M14: 3.2 | N14: 3.2
A15: Etschberg | B15: 2.9 | C15: 2.9 | D15: 2.9 | E15: 2.9 | F15: 3 | G15: 3 | H15: 3 | I15: 3 | J15: 3 | K15: 3 | L15: 3 | M15: 3.25 | N15: 3.25
A16: Föckelberg | B16: 2.9 | C16: 2.9 | D16: 2.9 | E16: 2.9 | F16: 3 | G16: 3 | H16: 3 | I16: 3 | J16: 3 | K16: 3 | L16: 3 | M16: 3.2 | N16: 3.2
A17: Haschbach/Rbg. | B17: 2.9 | C17: 2.9 | D17: 2.9 | E17: 3 | F17: 3 | G17: 3 | H17: 3 | I17: 3 | J17: 3 | K17: 3 | L17: 3 | M17: 3.2 | N17: 3.2
... A39: Welchweiler | B39: 2.9 | C39: 2.9 | D39: 2.9 | E39: 2.9 | F39: 3 | G39: 3 | H39: 3 | I39: 3 | J39: 3 | K39: 3 | L39: 3 | M39: 3.2 | N39: 3.2
A41: VG Lauterecken-Wolfstein
A42: Adenbach | B42: 2.9 | C42: 3.35 | D42: 3.35 | E42: 3.35 | F42: 3.35 | G42: 3.35 | H42: 3.35 | I42: 3.35 | J42: 3.35 | K42: 3.35 | L42: 3.35 | M42: 4.02 | N42: 4.02
A43: Aschbach | B43: 2.9 | C43: 3.3 | D43: 3 | E43: 3 | F43: 3 | G43: 3 | H43: 3 | I43: 3 | J43: 3 | K43: 3 | L43: 3 | M43: 3.2 | N43: 3.2
A44: Buborn | B44: 2.9 | C44: 2.9 | D44: 2.9 | E44: 3 | F44: 3 | G44: 3 | H44: 3 | I44: 3 | J44: 3 | K44: 3 | L44: 3 | M44: 3.2 | N44: 3.2
A45: Cronenberg | B45: 2.9 | C45: 3.2 | D45: 3.2 | E45: 3.2 | F45: 3.2 | G45: 3.2 | H45: 3.2 | I45: 3.2 | J45: 3.2 | K45: 3.2 | L45: 3.2 | M45: 3.4 | N45: 3.4
A46: Deimberg | B46: 2.9 | C46: 2.9 | D46: 2.9 | E46: 2.9 | F46: 3 | G46: 3 | H46: 3 | I46: 3 | J46: 3 | K46: 3 | L46: 3 | M46: 3.2 | N46: 3.2
A47: Einöllen | B47: 2.9 | C47: 2.9 | D47: 2.9 | E47: 3.03 | F47: 3.03 | G47: 3.03 | H47: 3.03 | I47: 3.03 | J47: 3.03 | K47: 3.03 | L47: 3.03 | M47: 3.13 | N47: 3.13
A48: Eßweiler | B48: 3.1 | C48: 3.3 | D48: 3.3 | E48: 3.4 | F48: 3.4 | G48: 3.4 | H48: 3.4 | I48: 3.4 | J48: 3.4 | K48: 3.4 | L48: 3.4 | M48: 3.6 | N48: 3.6
A49: Ginsweiler | B49: 2.8 | C49: 2.9 | D49: 2.9 | E49: 3 | F49: 3 | G49: 3 | H49: 3 | I49: 3 | J49: 3 | K49: 3 | L49: 3 | M49: 3.1 | N49: 3.1
A50: Glanbrücken | B50: 2.9 | C50: 3.22 | D50: 3.22 | E50: 3.22 | F50: 3.22 | G50: 3.22 | H50: 3.22 | I50: 3.22 | J50: 3.22 | K50: 3.22 | L50: 3.22 | M50: 3.42 | N50: 3.42
A51: Grumbach | B51: 2.8 | C51: 3.75 | D51: 3.75 | E51: 3.75 | F51: 3.75 | G51: 3.75 | H51: 3.75 | I51: 3.75 | J51: 3.75 | K51: 3.75 | L51: 3.75 | M51: 3.95 | N51: 3.95
A52: Hausweiler | B52: 2.9 | C52: 2.9 | D52: 2.9 | E52: 3 | F52: 3 | G52: 3 | H52: 3 | I52: 3 | J52: 3 | K52: 3 | L52: 3 | M52: 3.2 | N52: 3.2
A53: Hefersweiler | B53: 2.9 | C53: 2.9 | D53: 2.9 | E53: 2.9 | F53: 3 | G53: 3 | H53: 3 | I53: 3 | J53: 3 | K53: 3 | L53: 3 | M53: 3.2 | N53: 3.2
... A82: Wolfstein | B82: 2.9 | C82: 3.2 | D82: 3.2 | E82: 3.33 | F82: 3.33 | G82: 3.33 | H82: 3.33 | I82: 3.33 | J82: 3.33 | K82: 3.33 | L82: 3.33 | M82: 3.33 | N82: 3.33
A84: VG Oberes Glantal
A85: Altenkirchen | B85: 2.9 | C85: 2.9 | D85: 2.9 | E85: 3 | F85: 3 | G85: 3 | H85: 3 | I85: 3 | J85: 3 | K85: 3 | L85: 3 | M85: 3.2
A86: Börsborn | B86: 2.9 | C86: 3 | D86: 3 | E86: 3 | F86: 3 | G86: 3 | H86: 3 | I86: 3 | J86: 3 | K86: 3 | L86: 3 | M86: 3.2 | N86: 3.45
A87: Breitenbach | B87: 2.9 | C87: 2.9 | D87: 3.1 | E87: 3.1 | F87: 3.1 | G87: 3.1 | H87: 3.1 | I87: 3.1 | J87: 3.1 | K87: 3.1 | L87: 3.1 | M87: 3.3 | N87: 3.45
A88: Brücken/Pfalz | B88: 2.9 | C88: 3.1 | D88: 3.1 | E88: 3.1 | F88: 3.1 | G88: 3.1 | H88: 3.1 | I88: 3.1 | J88: 3.1 | K88: 3.1 | L88: 3.1 | M88: 3.3
A89: Dittweiler | B89: 2.85 | C89: 2.85 | D89: 2.85 | E89: 2.85 | F89: 2.85 | G89: 2.85 | H89: 2.85 | I89: 2.85 | J89: 2.85 | K89: 2.85 | L89: 2.85 | M89: 2.85
A90: Dunzweiler | B90: 2.85 | C90: 2.85 | D90: 2.85 | E90: 2.85 | F90: 2.85 | G90: 2.85 | H90: 2.85 | I90: 2.85 | J90: 2.85 | K90: 2.85 | L90: 2.85 | M90: 2.85 | N90: 3.45
A91: Frohnhofen | B91: 2.85 | C91: 2.85 | D91: 2.85 | E91: 2.85 | F91: 2.85 | G91: 2.85 | H91: 2.85 | I91: 2.85 | J91: 2.85 | K91: 2.85 | L91: 2.85 | M91: 2.85 | N91: 4.01
A92: Glan-Münchweiler | B92: 2.85 | C92: 3 | D92: 3 | E92: 3 | F92: 3 | G92: 3 | H92: 3 | I92: 3 | J92: 3 | K92: 3 | L92: 3 | M92: 3.2 | N92: 3.45
A93: Gries | B93: 2.9 | C93: 2.9 | D93: 2.9 | E93: 2.9 | F93: 3 | G93: 3 | H93: 3 | I93: 3 | J93: 3 | K93: 3.1 | L93: 3.1 | M93: 3.3
A94: Henschtal | B94: 2.9 | C94: 3 | D94: 3 | E94: 3 | F94: 3 | G94: 3 | H94: 3 | I94: 3 | J94: 3 | K94: 3 | L94: 3 | M94: 3.2
A95: Herschw.-Pettersh. | B95: 2.9 | C95: 2.9 | D95: 2.9 | E95: 3 | F95: 3 | G95: 3 | H95: 3 | I95: 3 | J95: 3 | K95: 3 | L95: 3 | M95: 3.2
A96: Hüffler | B96: 2.9 | C96: 3.1 | D96: 3.1 | E96: 3.1 | F96: 3.1 | G96: 3.1 | H96: 3.1 | I96: 3.1 | J96: 3.1 | K96: 3.1 | L96: 3.1 | M96: 3.2 | N96: 3.45
A97: Krottelbach | B97: 2.9 | C97: 3 | D97: 3 | E97: 3 | F97: 3 | G97: 3 | H97: 3 | I97: 3 | J97: 3 | K97: 3 | L97: 3 | M97: 3.2 | N97: 3.45
A98: Langenbach | B98: 2.9 | C98: 2.9 | D98: 2.9 | E98: 2.9 | F98: 3 | G98: 3 | H98: 3 | I98: 3 | J98: 3 | K98: 3 | L98: 3 | M98: 3.2 | N98: 3.45
A99: Matzenbach | B99: 2.85 | C99: 3 | D99: 3 | E99: 3 | F99: 3 | G99: 3.3 | H99: 3.3 | I99: 3.3 | J99: 3.3 | K99: 3.3 | L99: 3.3 | M99: 3.3 | N99: 3.45
A100: Nanzdietschweiler | B100: 2.9 | C100: 3 | D100: 3 | E100: 3 | F100: 3 | G100: 3 | H100: 3 | I100: 3 | J100: 3 | K100: 3 | L100: 3 | M100: 3
A101: Ohmbach | B101: 2.9 | C101: 2.9 | D101: 3 | E101: 3 | F101: 3 | G101: 3 | H101: 3 | I101: 3 | J101: 3 | K101: 3 | L101: 3 | M101: 3.2
A102: Quirnbach | B102: 2.9 | C102: 3 | D102: 3 | E102: 3 | F102: 3 | G102: 3 | H102: 3 | I102: 3 | J102: 3 | K102: 3 | L102: 3 | M102: 3.2 | N102: 3.45
A103: Rehweiler | B103: 2.8 | C103: 2.9 | D103: 2.9 | E103: 2.9 | F103: 3 | G103: 3 | H103: 3 | I103: 3 | J103: 3 | K103: 3 | L103: 3 | M103: 3
A104: Schönenberg-Kbg. | B104: 2.9 | C104: 2.9 | D104: 2.9 | E104: 3 | F104: 3 | G104: 3 | H104: 3 | I104: 3 | J104: 3 | K104: 3 | L104: 3 | M104: 3.2
A105: Steinbach/Glan | B105: 2.85 | C105: 2.85 | D105: 2.85 | E105: 2.85 | F105: 2.85 | G105: 3 | H105: 3 | I105: 3 | J105: 3 | K105: 3 | L105: 3 | M105: 3
A106: Wahnwegen | B106: 2.85 | C106: 2.85 | D106: 3 | E106: 3 | F106: 3 | G106: 3 | H106: 3 | I106: 3 | J106: 3 | K106: 3 | L106: 3 | M106: 3.4
A107: Waldmohr | B107: 2.8 | C107: 2.9 | D107: 2.9 | E107: 2.9 | F107: 3 | G107: 3 | H107: 3 | I107: 3 | J107: 3 | K107: 3 | L107: 3 | M107: 3.2 | N107: 3.85
A109: Durchschnitt | B109: =AVERAGE(B6:B107) -> 2.8805102 | C109: =AVERAGE(C6:C107) -> 3.0393878 | D109: =AVERAGE(D6:D107) -> 3.045 | E109: =AVERAGE(E6:E107) -> 3.0752041 | F109: =AVERAGE(F6:F107) -> 3.1042857 | G109: =AVERAGE(G6:G107) -> 3.109898 | H109: =AVERAGE(H6:H107) -> 3.109898 | I109: =AVERAGE(I6:I107) -> 3.109898 | ... N109: =AVERAGE(N6:N107) -> 3.3552326
B111: Ist
B112: vorläufiges IST
B113: Plan

Sheet Hebesatz Grundsteuer B
A1: Kommune | B1: 2011 | C1: 2012 | D1: 2013 | E1: 2014 | F1: 2015 | G1: 2016 | H1: 2017 | I1: 2018 | J1: 2019 | K1: 2020 | L1: 2021 | M1: 2022 | N1: 2023
A3: Landkreis Kusel
A5: VG Kusel-Altenglan
A6: Albessen | B6: 3.4 | C6: 3.4 | D6: 3.4 | E6: 3.4 | F6: 3.65 | G6: 3.65 | H6: 3.65 | I6: 3.65 | J6: 3.65 | K6: 3.65 | L6: 3.65 | M6: 3.85 | N6: 3.85
A7: Altenglan | B7: 3.4 | C7: 3.75 | D7: 3.75 | E7: 3.75 | F7: 3.75 | G7: 3.75 | H7: 3.75 | I7: 3.75 | J7: 3.75 | K7: 3.75 | L7: 3.75 | M7: 3.95 | N7: 3.95
A8: Bedesbach | B8: 3.4 | C8: 3.95 | D8: 3.95 | E8: 3.95 | F8: 3.95 | G8: 3.95 | H8: 3.95 | I8: 3.95 | J8: 3.95 | K8: 3.95 | L8: 3.95 | M8: 4.15 | N8: 4.15
A9: Blaubach | B9: 3.4 | C9: 3.4 | D9: 3.4 | E9: 3.65 | F9: 3.65 | G9: 3.65 | H9: 3.65 | I9: 3.65 | J9: 3.65 | K9: 3.65 | L9: 3.65 | M9: 3.85 | N9: 3.85
A10: Bosenbach | B10: 3.4 | C10: 4 | D10: 4.8 | E10: 4.8 | F10: 4.8 | G10: 4.8 | H10: 4.8 | I10: 4.8 | J10: 4.8 | K10: 4.8 | L10: 4.8 | M10: 4.8 | N10: 4.8
A11: Dennweiler-Frohnbach | B11: 3.4 | C11: 3.4 | D11: 3.4 | E11: 3.4 | F11: 3.65 | G11: 3.65 | H11: 3.65 | I11: 3.65 | J11: 3.65 | K11: 3.65 | L11: 3.65 | M11: 3.85 | N11: 3.85
A12: Ehweiler | B12: 3.2 | C12: 3.2 | D12: 3.2 | E12: 3.38 | F12: 3.38 | G12: 3.65 | H12: 3.65 | I12: 3.65 | J12: 3.65 | K12: 3.65 | L12: 3.65 | M12: 3.85 | N12: 3.85
A13: Elzweiler | B13: 3.4 | C13: 3.9 | D13: 3.9 | E13: 3.9 | F13: 3.9 | G13: 3.9 | H13: 3.9 | I13: 3.9 | J13: 3.9 | K13: 3.9 | L13: 3.9 | M13: 4.1 | N13: 4.1
A14: Erdesbach | B14: 3.4 | C14: 3.9 | D14: 3.9 | E14: 3.9 | F14: 3.9 | G14: 3.9 | H14: 3.9 | I14: 3.9 | J14: 3.9 | K14: 3.9 | L14: 3.9 | M14: 4.1 | N14: 4.1
A15: Etschberg | B15: 3.4 | C15: 3.4 | D15: 3.4 | E15: 3.4 | F15: 3.65 | G15: 3.65 | H15: 3.65 | I15: 3.65 | J15: 3.65 | K15: 3.65 | L15: 3.65 | M15: 3.9 | N15: 3.9
A16: Föckelberg | B16: 3.4 | C16: 3.8 | D16: 3.8 | E16: 3.8 | F16: 3.8 | G16: 3.8 | H16: 3.8 | I16: 3.8 | J16: 3.8 | K16: 3.8 | L16: 3.8 | M16: 4 | N16: 4
A17: Haschbach/Rbg. | B17: 3.4 | C17: 3.4 | D17: 3.4 | E17: 3.65 | F17: 3.65 | G17: 3.65 | H17: 3.65 | I17: 3.65 | J17: 3.65 | K17: 3.65 | L17: 3.65 | M17: 3.85 | N17: 3.85
... A39: Welchweiler | B39: 3.4 | C39: 3.9 | D39: 3.9 | E39: 3.9 | F39: 3.9 | G39: 3.9 | H39: 3.9 | I39: 3.9 | J39: 3.9 | K39: 3.9 | L39: 3.9 | M39: 4.1 | N39: 4.1
A41: VG Lauterecken-Wolfstein
A42: Adenbach | B42: 3.3 | C42: 3.65 | D42: 3.65 | E42: 3.65 | F42: 3.65 | G42: 3.65 | H42: 3.65 | I42: 3.65 | J42: 3.65 | K42: 3.65 | L42: 3.65 | M42: 4.38 | N42: 4.38
A43: Aschbach | B43: 3.38 | C43: 3.99 | D43: 3.99 | E43: 4.14 | F43: 4.14 | G43: 4.14 | H43: 4.14 | I43: 4.14 | J43: 4.14 | K43: 4.14 | L43: 4.14 | M43: 4.34 | N43: 4.34
A44: Buborn | B44: 3.3 | C44: 3.3 | D44: 3.3 | E44: 3.65 | F44: 3.65 | G44: 3.65 | H44: 3.65 | I44: 3.65 | J44: 3.65 | K44: 3.65 | L44: 3.65 | M44: 3.85 | N44: 3.85
A45: Cronenberg | B45: 3.3 | C45: 3.58 | D45: 3.58 | E45: 3.65 | F45: 3.65 | G45: 3.65 | H45: 3.65 | I45: 3.65 | J45: 3.65 | K45: 3.65 | L45: 3.65 | M45: 3.85 | N45: 3.85
A46: Deimberg | B46: 3.3 | C46: 3.42 | D46: 3.42 | E46: 3.42 | F46: 3.65 | G46: 3.65 | H46: 3.65 | I46: 3.65 | J46: 3.65 | K46: 3.65 | L46: 3.65 | M46: 3.85 | N46: 3.85
A47: Einöllen | B47: 3.38 | C47: 3.69 | D47: 3.69 | E47: 3.7 | F47: 3.7 | G47: 3.7 | H47: 3.7 | I47: 3.7 | J47: 3.7 | K47: 3.7 | L47: 3.7 | M47: 3.8 | N47: 3.8
A48: Eßweiler | B48: 3.5 | C48: 3.96 | D48: 3.96 | E48: 4.1 | F48: 4.1 | G48: 4.1 | H48: 4.1 | I48: 4.1 | J48: 4.1 | K48: 4.1 | L48: 4.1 | M48: 4.3 | N48: 4.3
A49: Ginsweiler | B49: 3.2 | C49: 3.3 | D49: 3.3 | E49: 3.65 | F49: 3.65 | G49: 3.65 | H49: 3.65 | I49: 3.65 | J49: 3.65 | K49: 3.65 | L49: 3.65 | M49: 3.75 | N49: 3.75
A50: Glanbrücken | B50: 3.3 | C50: 3.65 | D50: 3.65 | E50: 3.65 | F50: 3.65 | G50: 3.65 | H50: 3.65 | I50: 3.65 | J50: 3.65 | K50: 3.65 | L50: 3.65 | M50: 3.85 | N50: 3.85
A51: Grumbach | B51: 3.2 | C51: 4.2 | D51: 4.2 | E51: 4.2 | F51: 4.2 | G51: 4.2 | H51: 4.2 | I51: 4.2 | J51: 4.2 | K51: 4.2 | L51: 4.2 | M51: 4.4 | N51: 4.4
A52: Hausweiler | B52: 3.3 | C52: 3.4 | D52: 3.4 | E52: 3.65 | F52: 3.65 | G52: 3.65 | H52: 3.65 | I52: 3.65 | J52: 3.65 | K52: 3.65 | L52: 3.65 | M52: 3.85 | N52: 3.85
A53: Hefersweiler | B53: 3.38 | C53: 3.57 | D53: 3.57 | E53: 3.57 | F53: 3.65 | G53: 3.65 | H53: 3.65 | I53: 3.65 | J53: 3.65 | K53: 3.65 | L53: 3.65 | M53: 3.85 | N53: 3.85
... A82: Wolfstein | B82: 3.38 | C82: 4.15 | D82: 4.15 | E82: 4.38 | F82: 4.38 | G82: 4.38 | H82: 4.38 | I82: 4.38 | J82: 4.38 | K82: 4.38 | L82: 4.38 | M82: 4.38 | N82: 4.38
A84: VG Oberes Glantal
A85: Altenkirchen | B85: 3.4 | C85: 3.7 | D85: 3.7 | E85: 3.8 | F85: 3.8 | G85: 3.8 | H85: 3.8 | I85: 3.8 | J85: 3.8 | K85: 3.8 | L85: 3.8 | M85: 4
A86: Börsborn | B86: 3.4 | C86: 3.5 | D86: 3.5 | E86: 3.65 | F86: 3.65 | G86: 3.65 | H86: 3.65 | I86: 3.65 | J86: 3.65 | K86: 3.65 | L86: 3.65 | M86: 3.85 | N86: 4.65
A87: Breitenbach | C87: 3.4 | D87: 3.6 | E87: 3.6 | F87: 3.7 | G87: 3.7 | H87: 3.7 | I87: 3.7 | J87: 3.7 | K87: 3.7 | L87: 3.7 | M87: 3.7
A88: Brücken/Pfalz | B88: 3.4 | C88: 3.6 | D88: 3.6 | E88: 3.65 | F88: 3.65 | G88: 3.65 | H88: 3.65 | I88: 3.65 | J88: 3.65 | K88: 3.65 | L88: 3.65 | M88: 3.85
A89: Dittweiler | B89: 3.4 | C89: 3.9 | D89: 3.9 | E89: 3.9 | F89: 3.9 | G89: 3.9 | H89: 3.9 | I89: 3.9 | J89: 3.9 | K89: 3.9 | L89: 3.9 | M89: 4.1
A90: Dunzweiler | B90: 3.4 | C90: 3.4 | D90: 3.4 | E90: 3.4 | F90: 3.65 | G90: 3.65 | H90: 3.65 | I90: 3.65 | J90: 3.65 | K90: 3.65 | L90: 3.65 | M90: 3.85 | N90: 4.65
A91: Frohnhofen | B91: 3.4 | C91: 3.4 | D91: 3.4 | E91: 3.4 | F91: 3.4 | G91: 3.65 | H91: 3.65 | I91: 3.65 | J91: 3.65 | K91: 3.65 | L91: 3.65 | M91: 3.85 | N91: 5.21
A92: Glan-Münchweiler | B92: 3.38 | C92: 3.5 | D92: 3.5 | E92: 3.65 | F92: 3.65 | G92: 3.65 | H92: 3.65 | I92: 3.65 | J92: 3.65 | K92: 3.65 | L92: 3.65 | M92: 3.85
A93: Gries | B93: 3.4 | C93: 3.4 | D93: 3.4 | E93: 3.4 | F93: 3.65 | G93: 3.65 | H93: 3.65 | I93: 3.65 | J93: 3.65 | K93: 4 | L93: 4 | M93: 4.2
A94: Henschtal | B94: 3.4 | C94: 3.5 | D94: 3.5 | E94: 3.5 | F94: 3.65 | G94: 3.65 | H94: 3.65 | I94: 3.65 | J94: 3.65 | K94: 3.65 | L94: 3.65 | M94: 3.85
A95: Herschw.-Pettersh. | B95: 3.4 | C95: 3.4 | D95: 3.4 | E95: 3.65 | F95: 3.65 | G95: 3.65 | H95: 3.65 | I95: 3.65 | J95: 3.65 | K95: 3.65 | L95: 3.65 | M95: 3.85
A96: Hüffler | B96: 3.4 | C96: 3.6 | D96: 3.6 | E96: 3.65 | F96: 3.65 | G96: 3.65 | H96: 3.65 | I96: 3.65 | J96: 3.65 | K96: 3.65 | L96: 3.75 | M96: 3.85 | N96: 4.65
A97: Krottelbach | B97: 3.4 | C97: 3.5 | D97: 3.5 | E97: 3.65 | F97: 3.65 | G97: 3.65 | H97: 3.65 | I97: 3.65 | J97: 3.65 | K97: 3.65 | L97: 3.65 | M97: 3.85 | N97: 4.65
A98: Langenbach | B98: 3.4 | C98: 3.4 | D98: 3.4 | E98: 3.4 | F98: 3.65 | G98: 3.65 | H98: 3.65 | I98: 3.65 | J98: 3.65 | K98: 3.65 | L98: 3.65 | M98: 3.85 | N98: 4.65
A99: Matzenbach | B99: 3.38 | C99: 3.5 | D99: 3.5 | E99: 3.65 | F99: 3.65 | G99: 4 | H99: 4 | I99: 4 | J99: 4 | K99: 4 | L99: 4 | M99: 4 | N99: 4.65
A100: Nanzdietschweiler | B100: 3.4 | C100: 3.5 | D100: 3.5 | E100: 3.65 | F100: 3.65 | G100: 3.65 | H100: 3.65 | I100: 3.65 | J100: 3.65 | K100: 3.65 | L100: 3.65 | M100: 3.65
A101: Ohmbach | B101: 3.4 | C101: 3.4 | D101: 3.65 | E101: 3.65 | F101: 3.65 | G101: 3.65 | H101: 3.65 | I101: 4 | J101: 4 | K101: 4 | L101: 4 | M101: 4.2
A102: Quirnbach | B102: 3.4 | C102: 3.5 | D102: 3.5 | E102: 3.5 | F102: 3.65 | G102: 3.65 | H102: 3.65 | I102: 3.65 | J102: 3.65 | K102: 3.65 | L102: 3.65 | M102: 3.85
A103: Rehweiler | B103: 3.2 | C103: 3.4 | D103: 3.4 | E103: 3.4 | F103: 3.65 | G103: 3.65 | H103: 3.65 | I103: 3.65 | J103: 3.65 | K103: 3.65 | L103: 3.65 | M103: 3.65
A104: Schönenberg-Kbg. | B104: 3.4 | C104: 4 | D104: 4 | E104: 4 | F104: 4 | G104: 4 | H104: 4 | I104: 4 | J104: 4 | K104: 4 | L104: 4 | M104: 4.2
A105: Steinbach/Glan | B105: 3.38 | C105: 3.38 | D105: 3.38 | E105: 3.38 | F105: 3.38 | G105: 3.65 | H105: 3.65 | I105: 3.65 | J105: 3.65 | K105: 3.65 | L105: 3.65 | M105: 3.65
A106: Wahnwegen | B106: 3.38 | C106: 3.38 | D106: 3.5 | E106: 3.65 | F106: 3.65 | G106: 3.65 | H106: 3.65 | I106: 3.65 | J106: 3.65 | K106: 3.65 | L106: 3.65 | M106: 4.05
A107: Waldmohr | C107: 3.7 | D107: 3.7 | E107: 3.7 | F107: 3.7 | G107: 3.7 | H107: 3.7 | I107: 3.9 | J107: 3.9 | K107: 3.9 | L107: 3.9 | M107: 4.1 | N107: 5.3
A109: Durchschnitt | B109: =AVERAGE(B6:B107) -> 3.3451042 | C109: =AVERAGE(C6:C107) -> 3.6130612 | D109: =AVERAGE(D6:D107) -> 3.6941837 | E109: =AVERAGE(E6:E107) -> 3.7112245 | F109: =AVERAGE(F6:F107) -> 3.7587755 | G109: =AVERAGE(G6:G107) -> 3.7709184 | H109: =AVERAGE(H6:H107) -> 3.7709184 | I109: =AVERAGE(I6:I107) -> 3.7785714 | J109: =AVERAGE(J6:J107) -> 3.7785714
B111: Ist
B112: vorläufiges IST
B113: Plan

Sheet Hebesatz Gewerbesteuer
A1: Kommune | B1: 2011 | C1: 2012 | D1: 2013 | E1: 2014 | F1: 2015 | G1: 2016 | H1: 2017 | I1: 2018 | J1: 2019 | K1: 2020 | L1: 2021 | M1: 2022 | N1: 2023
A3: Landkreis Kusel
A5: VG Kusel-Altenglan
A6: Albessen | B6: 3.52 | C6: 3.52 | D6: 3.52 | E6: 3.52 | F6: 3.65 | G6: 3.65 | H6: 3.65 | I6: 3.65 | J6: 3.65 | K6: 3.65 | L6: 3.65 | M6: 3.65 | N6: 3.65
A7: Altenglan | B7: 3.5 | C7: 3.5 | D7: 3.5 | E7: 3.5 | F7: 3.65 | G7: 3.65 | H7: 3.65 | I7: 3.65 | J7: 3.65 | K7: 3.65 | L7: 3.65 | M7: 3.65 | N7: 3.65
A8: Bedesbach | B8: 3.5 | C8: 3.6 | D8: 3.6 | E8: 3.6 | F8: 3.65 | G8: 3.65 | H8: 3.65 | I8: 3.65 | J8: 3.65 | K8: 3.65 | L8: 3.65 | M8: 3.65 | N8: 3.65
A9: Blaubach | B9: 3.52 | C9: 3.52 | D9: 3.52 | E9: 3.52 | F9: 3.65 | G9: 3.65 | H9: 3.65 | I9: 3.65 | J9: 3.65 | K9: 3.65 | L9: 3.65 | M9: 3.65 | N9: 3.65
A10: Bosenbach | B10: 3.5 | C10: 3.5 | D10: 3.5 | E10: 3.5 | F10: 3.65 | G10: 3.65 | H10: 3.65 | I10: 3.65 | J10: 3.65 | K10: 3.65 | L10: 3.65 | M10: 3.65 | N10: 3.65
A11: Dennweiler-Frohnbach | B11: 3.52 | C11: 3.52 | D11: 3.52 | E11: 3.52 | F11: 3.65 | G11: 3.65 | H11: 3.65 | I11: 3.65 | J11: 3.65 | K11: 3.65 | L11: 3.65 | M11: 3.65 | N11: 3.65
A12: Ehweiler | B12: 3.52 | C12: 3.52 | D12: 3.52 | E12: 3.52 | F12: 3.52 | G12: 3.65 | H12: 3.65 | I12: 3.65 | J12: 3.65 | K12: 3.65 | L12: 3.65 | M12: 3.65 | N12: 3.65
A13: Elzweiler | B13: 3.5 | C13: 3.5 | D13: 3.5 | E13: 3.5 | F13: 3.65 | G13: 3.65 | H13: 3.65 | I13: 3.65 | J13: 3.65 | K13: 3.65 | L13: 3.65 | M13: 3.65 | N13: 3.65
A14: Erdesbach | B14: 3.5 | C14: 3.5 | D14: 3.5 | E14: 3.5 | F14: 3.65 | G14: 3.65 | H14: 3.65 | I14: 3.65 | J14: 3.65 | K14: 3.65 | L14: 3.65 | M14: 3.65 | N14: 3.65
A15: Etschberg | B15: 3.5 | C15: 3.5 | D15: 3.5 | E15: 3.5 | F15: 3.65 | G15: 3.65 | H15: 3.65 | I15: 3.65 | J15: 3.65 | K15: 3.65 | L15: 3.65 | M15: 3.65 | N15: 3.65
A16: Föckelberg | B16: 3.5 | C16: 3.5 | D16: 3.5 | E16: 3.5 | F16: 3.65 | G16: 3.65 | H16: 3.65 | I16: 3.65 | J16: 3.65 | K16: 3.65 | L16: 3.65 | M16: 3.65 | N16: 3.65
A17: Haschbach/Rbg. | B17: 3.5 | C17: 3.5 | D17: 3.5 | E17: 3.65 | F17: 3.65 | G17: 3.65 | H17: 3.65 | I17: 3.65 | J17: 3.65 | K17: 3.65 | L17: 3.65 | M17: 3.65 | N17: 3.65
... A39: Welchweiler | B39: 3.5 | C39: 3.5 | D39: 3.5 | E39: 3.5 | F39: 3.65 | G39: 3.65 | H39: 3.65 | I39: 3.65 | J39: 3.65 | K39: 3.65 | L39: 3.65 | M39: 3.65 | N39: 3.65
A41: VG Lauterecken-Wolfstein
A42: Adenbach | B42: 3.6 | C42: 3.6 | D42: 3.6 | E42: 3.65 | F42: 3.65 | G42: 3.65 | H42: 3.65 | I42: 3.65 | J42: 3.65 | K42: 3.65 | L42: 3.65 | M42: 4.38 | N42: 4.38
A43: Aschbach | B43: 3.62 | C43: 3.62 | D43: 3.62 | E43: 3.65 | F43: 3.65 | G43: 3.65 | H43: 3.65 | I43: 3.65 | J43: 3.65 | K43: 3.65 | L43: 3.65 | M43: 3.85 | N43: 3.85
A44: Buborn | B44: 3.5 | C44: 3.5 | D44: 3.5 | E44: 3.65 | F44: 3.65 | G44: 3.65 | H44: 3.65 | I44: 3.65 | J44: 3.65 | K44: 3.65 | L44: 3.65 | M44: 3.65 | N44: 3.65
A45: Cronenberg | B45: 3.52 | C45: 3.5 | D45: 3.5 | E45: 3.65 | F45: 3.65 | G45: 3.65 | H45: 3.65 | I45: 3.65 | J45: 3.65 | K45: 3.65 | L45: 3.65 | M45: 3.65 | N45: 3.65
A46: Deimberg | B46: 3.62 | C46: 3.52 | D46: 3.52 | E46: 3.8 | F46: 3.8 | G46: 3.8 | H46: 3.8 | I46: 3.8 | J46: 3.8 | K46: 3.8 | L46: 3.8 | M46: 3.8 | N46: 3.8
A47: Einöllen | B47: 3.82 | C47: 3.62 | D47: 3.62 | E47: 3.73 | F47: 3.73 | G47: 3.73 | H47: 3.73 | I47: 3.73 | J47: 3.73 | K47: 3.73 | L47: 3.73 | M47: 3.83 | N47: 3.83
A48: Eßweiler | B48: 3.52 | C48: 3.92 | D48: 3.92 | E48: 4 | F48: 4 | G48: 4 | H48: 4 | I48: 4 | J48: 4 | K48: 4 | L48: 4 | M48: 4 | N48: 4
A49: Ginsweiler | B49: 3.52 | C49: 3.52 | D49: 3.52 | E49: 3.65 | F49: 3.65 | G49: 3.65 | H49: 3.65 | I49: 3.65 | J49: 3.65 | K49: 3.65 | L49: 3.65 | M49: 3.75 | N49: 3.75
A50: Glanbrücken | B50: 3.52 | C50: 3.72 | D50: 3.72 | E50: 3.72 | F50: 3.72 | G50: 3.72 | H50: 3.72 | I50: 3.72 | J50: 3.72 | K50: 3.72 | L50: 3.72 | M50: 3.72 | N50: 3.72
A51: Grumbach | B51: 3.5 | C51: 3.8 | D51: 3.8 | E51: 3.8 | F51: 3.8 | G51: 3.8 | H51: 3.8 | I51: 3.8 | J51: 3.8 | K51: 3.8 | L51: 3.8 | M51: 4 | N51: 4
A52: Hausweiler | B52: 3.52 | C52: 3.52 | D52: 3.52 | E52: 3.65 | F52: 3.65 | G52: 3.65 | H52: 3.65 | I52: 3.65 | J52: 3.65 | K52: 3.65 | L52: 3.65 | M52: 3.85 | N52: 3.85
A53: Hefersweiler | B53: 3.62 | C53: 3.62 | D53: 3.62 | E53: 3.62 | F53: 3.65 | G53: 3.65 | H53: 3.65 | I53: 3.65 | J53: 3.65 | K53: 3.65 | L53: 3.65 | M53: 3.85 | N53: 3.85
... A82: Wolfstein | B82: 3.62 | C82: 3.62 | D82: 3.62 | E82: 3.73 | F82: 3.73 | G82: 3.73 | H82: 3.73 | I82: 3.73 | J82: 3.73 | K82: 3.73 | L82: 3.73 | M82: 3.73 | N82: 3.73
A84: VG Oberes Glantal
A85: Altenkirchen | B85: 3.52 | C85: 3.52 | D85: 3.52 | E85: 3.65 | F85: 3.65 | G85: 3.65 | H85: 3.65 | I85: 3.65 | J85: 3.65 | K85: 3.65 | L85: 3.65 | M85: 3.65
A86: Börsborn | B86: 3.52 | C86: 3.52 | D86: 3.52 | E86: 3.65 | F86: 3.65 | G86: 3.65 | H86: 3.65 | I86: 3.65 | J86: 3.65 | K86: 3.65 | L86: 3.65 | M86: 3.65 | N86: 3.8
A87: Breitenbach | B87: 3.79 | C87: 3.79 | D87: 3.79 | E87: 3.79 | F87: 3.79 | G87: 3.79 | H87: 3.79 | I87: 3.79 | J87: 3.79 | K87: 3.79 | L87: 3.79 | M87: 3.79 | N87: 3.8
A88: Brücken/Pfalz | B88: 3.52 | C88: 3.52 | D88: 3.52 | E88: 3.65 | F88: 3.65 | G88: 3.65 | H88: 3.65 | I88: 3.65 | J88: 3.65 | K88: 3.65 | L88: 3.65 | M88: 3.65
A89: Dittweiler | B89: 3.53 | C89: 3.6 | D89: 3.6 | E89: 3.65 | F89: 3.65 | G89: 3.65 | H89: 3.65 | I89: 3.65 | J89: 3.65 | K89: 3.65 | L89: 3.65 | M89: 3.65
A90: Dunzweiler | B90: 3.79 | C90: 3.79 | D90: 3.79 | E90: 3.79 | F90: 3.79 | G90: 3.79 | H90: 3.79 | I90: 3.79 | J90: 3.79 | K90: 3.79 | L90: 3.79 | M90: 3.79 | N90: 3.8
A91: Frohnhofen | B91: 3.52 | C91: 3.52 | D91: 3.52 | E91: 3.52 | F91: 3.52 | G91: 3.65 | H91: 3.65 | I91: 3.65 | J91: 3.65 | K91: 3.65 | L91: 3.65 | M91: 3.65 | N91: 4.36
A92: Glan-Münchweiler | B92: 3.52 | C92: 3.55 | D92: 3.55 | E92: 3.65 | F92: 3.65 | G92: 3.65 | H92: 3.65 | I92: 3.65 | J92: 3.65 | K92: 3.65 | L92: 3.65 | M92: 3.65 | N92: 3.8
A93: Gries | B93: 3.52 | C93: 3.52 | D93: 3.52 | E93: 3.52 | F93: 3.65 | G93: 3.65 | H93: 3.65 | I93: 3.65 | J93: 3.65 | K93: 3.8 | L93: 3.8 | M93: 3.8
A94: Henschtal | B94: 3.52 | C94: 3.52 | D94: 3.52 | E94: 3.52 | F94: 3.65 | G94: 3.65 | H94: 3.65 | I94: 3.65 | J94: 3.65 | K94: 3.65 | L94: 3.65 | M94: 3.65
A95: Herschw.-Pettersh. | B95: 3.52 | C95: 3.52 | D95: 3.52 | E95: 3.65 | F95: 3.65 | G95: 3.65 | H95: 3.65 | I95: 3.65 | J95: 3.65 | K95: 3.65 | L95: 3.65 | M95: 3.65
A96: Hüffler | B96: 3.52 | C96: 3.52 | D96: 3.52 | E96: 3.65 | F96: 3.65 | G96: 3.65 | H96: 3.65 | I96: 3.65 | J96: 3.65 | K96: 3.65 | L96: 3.75 | M96: 3.75 | N96: 3.8
A97: Krottelbach | B97: 3.52 | C97: 3.52 | D97: 3.52 | E97: 3.65 | F97: 3.65 | G97: 3.65 | H97: 3.65 | I97: 3.65 | J97: 3.65 | K97: 3.65 | L97: 3.65 | M97: 3.65 | N97: 3.8
A98: Langenbach | B98: 3.52 | C98: 3.52 | D98: 3.52 | E98: 3.52 | F98: 3.65 | G98: 3.65 | H98: 3.65 | I98: 3.65 | J98: 3.65 | K98: 3.65 | L98: 3.65 | M98: 3.65 | N98: 3.8
A99: Matzenbach | B99: 3.52 | C99: 3.52 | D99: 3.52 | E99: 3.65 | F99: 3.65 | G99: 3.65 | H99: 3.65 | I99: 3.65 | J99: 3.65 | K99: 3.65 | L99: 3.65 | M99: 3.65 | N99: 3.8
A100: Nanzdietschweiler | B100: 3.52 | C100: 3.52 | D100: 3.52 | E100: 3.65 | F100: 3.65 | G100: 3.65 | H100: 3.65 | I100: 3.65 | J100: 3.65 | K100: 3.65 | L100: 3.65 | M100: 3.65
A101: Ohmbach | B101: 3.56 | C101: 3.56 | D101: 3.65 | E101: 3.65 | F101: 3.65 | G101: 3.65 | H101: 3.65 | I101: 3.65 | J101: 3.65 | K101: 3.65 | L101: 3.65 | M101: 3.65
A102: Quirnbach | B102: 3.52 | C102: 3.52 | D102: 3.52 | E102: 3.65 | F102: 3.65 | G102: 3.65 | H102: 3.65 | I102: 3.65 | J102: 3.65 | K102: 3.65 | L102: 3.65 | M102: 3.65 | N102: 3.8
A103: Rehweiler | B103: 3.52 | C103: 3.52 | D103: 3.52 | E103: 3.52 | F103: 3.65 | G103: 3.65 | H103: 3.65 | I103: 3.65 | J103: 3.65 | K103: 3.65 | L103: 3.65 | M103: 3.65
A104: Schönenberg-Kbg. | B104: 3.52 | C104: 3.52 | D104: 3.52 | E104: 3.65 | F104: 3.65 | G104: 3.65 | H104: 3.65 | I104: 3.65 | J104: 3.65 | K104: 3.65 | L104: 3.65 | M104: 3.65
A105: Steinbach/Glan | B105: 3.52 | C105: 3.52 | D105: 3.52 | E105: 3.52 | F105: 3.52 | G105: 3.65 | H105: 3.65 | I105: 3.65 | J105: 3.65 | K105: 3.65 | L105: 3.65 | M105: 3.65
A106: Wahnwegen | B106: 3.52 | C106: 3.52 | D106: 3.52 | E106: 3.65 | F106: 3.65 | G106: 3.65 | H106: 3.65 | I106: 3 | J106: 3 | K106: 3.65 | L106: 3.65 | M106: 3.65
A107: Waldmohr | B107: 3.6 | C107: 3.6 | D107: 3.6 | E107: 3.6 | F107: 3.65 | G107: 3.65 | H107: 3.65 | I107: 3.85 | J107: 3.85 | K107: 3.85 | L107: 3.85 | M107: 3.85 | N107: 4.45
A109: Durchschnitt | B109: =AVERAGE(B6:B107) -> 3.5378571 | C109: =AVERAGE(C6:C107) -> 3.5577551 | D109: =AVERAGE(D6:D107) -> 3.5596939 | E109: =AVERAGE(E6:E107) -> 3.6253061 | F109: =AVERAGE(F6:F107) -> 3.6641837 | G109: =AVERAGE(G6:G107) -> 3.6681633 | H109: =AVERAGE(H6:H107) -> 3.6681633 | I109: =AVERAGE(I6:I107) -> 3.6635714 | ... N109: =AVERAGE(N6:N107) -> 3.7510465
B111: Ist
B112: vorläufiges IST
B113: Plan

Sheet Umlagesätze Kreis_VG
A1: Kommune | B1: 2011 | C1: 2012 | D1: 2013 | E1: 2014 | F1: 2015 | G1: 2016 | H1: 2017 | I1: 2018 | J1: 2019 | K1: 2020 | L1: 2021 | M1: 2022 | N1: 2023
A3: Landkreis Kusel | B3: 0.38 | C3: 0.3803 | D3: 0.395 | E3: 0.395 | F3: 0.395 | G3: 0.395 | H3: 0.41 | I3: 0.41 | J3: 0.43 | K3: 0.43 | L3: 0.43 | M3: 0.4375 | N3: 0.4425
A5: VG Kusel-Altenglan
A6: Albessen | B6: 0.46 | C6: 0.46 | D6: 0.46 | E6: 0.46 | F6: 0.46 | G6: 0.46 | H6: 0.45 | I6: 0.45 | J6: 0.43 | K6: 0.43 | L6: 0.43 | M6: 0.42 | N6: 0.395
A7: Altenglan | B7: 0.47 | C7: 0.47 | D7: 0.47 | E7: 0.47 | F7: 0.47 | G7: 0.47 | H7: 0.45 | I7: 0.45 | J7: 0.43 | K7: 0.43 | L7: 0.43 | M7: 0.42 | N7: 0.395
A8: Bedesbach | B8: 0.47 | C8: 0.47 | D8: 0.47 | E8: 0.47 | F8: 0.47 | G8: 0.47 | H8: 0.45 | I8: 0.45 | J8: 0.43 | K8: 0.43 | L8: 0.43 | M8: 0.42 | N8: 0.395
A9: Blaubach | B9: 0.46 | C9: 0.46 | D9: 0.46 | E9: 0.46 | F9: 0.46 | G9: 0.46 | H9: 0.45 | I9: 0.45 | J9: 0.43 | K9: 0.43 | L9: 0.43 | M9: 0.42 | N9: 0.395
A10: Bosenbach | B10: 0.47 | C10: 0.47 | D10: 0.47 | E10: 0.47 | F10: 0.47 | G10: 0.47 | H10: 0.45 | I10: 0.45 | J10: 0.43 | K10: 0.43 | L10: 0.43 | M10: 0.42 | N10: 0.395
A11: Dennweiler-Frohnbach | B11: 0.46 | C11: 0.46 | D11: 0.46 | E11: 0.46 | F11: 0.46 | G11: 0.46 | H11: 0.45 | I11: 0.45 | J11: 0.43 | K11: 0.43 | L11: 0.43 | M11: 0.42 | N11: 0.395
A12: Ehweiler | B12: 0.47 | C12: 0.47 | D12: 0.47 | E12: 0.47 | F12: 0.47 | G12: 0.47 | H12: 0.45 | I12: 0.45 | J12: 0.43 | K12: 0.43 | L12: 0.43 | M12: 0.42 | N12: 0.395
A13: Elzweiler | B13: 0.47 | C13: 0.47 | D13: 0.47 | E13: 0.47 | F13: 0.47 | G13: 0.47 | H13: 0.45 | I13: 0.45 | J13: 0.43 | K13: 0.43 | L13: 0.43 | M13: 0.42 | N13: 0.395
A14: Erdesbach | B14: 0.47 | C14: 0.47 | D14: 0.47 | E14: 0.47 | F14: 0.47 | G14: 0.47 | H14: 0.45 | I14: 0.45 | J14: 0.43 | K14: 0.43 | L14: 0.43 | M14: 0.42 | N14: 0.395
A15: Etschberg | B15: 0.46 | C15: 0.46 | D15: 0.46 | E15: 0.46 | F15: 0.46 | G15: 0.46 | H15: 0.45 | I15: 0.45 | J15: 0.43 | K15: 0.43 | L15: 0.43 | M15: 0.42 | N15: 0.395
A16: Föckelberg | B16: 0.47 | C16: 0.47 | D16: 0.47 | E16: 0.47 | F16: 0.47 | G16: 0.47 | H16: 0.45 | I16: 0.45 | J16: 0.43 | K16: 0.43 | L16: 0.43 | M16: 0.42 | N16: 0.395
A17: Haschbach/Rbg. | B17: 0.46 | C17: 0.46 | D17: 0.46 | E17: 0.46 | F17: 0.46 | G17: 0.46 | H17: 0.45 | I17: 0.45 | J17: 0.43 | K17: 0.43 | L17: 0.43 | M17: 0.42 | N17: 0.395
... A39: Welchweiler | B39: 0.46 | C39: 0.46 | D39: 0.46 | E39: 0.46 | F39: 0.46 | G39: 0.46 | H39: 0.45 | I39: 0.45 | J39: 0.43 | K39: 0.43 | L39: 0.43 | M39: 0.42 | N39: 0.395
A41: VG Lauterecken-Wolfstein
A42: Adenbach | B42: 0.45 | C42: 0.45 | D42: 0.435 | E42: 0.435 | F42: 0.435 | G42: 0.435 | H42: 0.435 | I42: 0.435 | J42: 0.435 | K42: 0.435 | L42: 0.435 | M42: 0.435 | N42: 0.42
A43: Aschbach | B43: 0.49 | C43: 0.49 | D43: 0.445 | E43: 0.445 | F43: 0.445 | G43: 0.445 | H43: 0.445 | I43: 0.445 | J43: 0.445 | K43: 0.445 | L43: 0.445 | M43: 0.445 | N43: 0.42
A44: Buborn | B44: 0.45 | C44: 0.45 | D44: 0.435 | E44: 0.435 | F44: 0.435 | G44: 0.435 | H44: 0.435 | I44: 0.435 | J44: 0.435 | K44: 0.435 | L44: 0.435 | M44: 0.435 | N44: 0.42
A45: Cronenberg | B45: 0.45 | C45: 0.45 | D45: 0.435 | E45: 0.435 | F45: 0.435 | G45: 0.435 | H45: 0.435 | I45: 0.435 | J45: 0.435 | K45: 0.435 | L45: 0.435 | M45: 0.435 | N45: 0.42
A46: Deimberg | B46: 0.45 | C46: 0.45 | D46: 0.435 | E46: 0.435 | F46: 0.435 | G46: 0.435 | H46: 0.435 | I46: 0.435 | J46: 0.435 | K46: 0.435 | L46: 0.435 | M46: 0.435 | N46: 0.42
A47: Einöllen | B47: 0.49 | C47: 0.49 | D47: 0.445 | E47: 0.445 | F47: 0.445 | G47: 0.445 | H47: 0.445 | I47: 0.445 | J47: 0.445 | K47: 0.445 | L47: 0.445 | M47: 0.445 | N47: 0.42
A48: Eßweiler | B48: 0.49 | C48: 0.49 | D48: 0.445 | E48: 0.445 | F48: 0.445 | G48: 0.445 | H48: 0.445 | I48: 0.445 | J48: 0.445 | K48: 0.445 | L48: 0.445 | M48: 0.445 | N48: 0.42
A49: Ginsweiler | B49: 0.45 | C49: 0.45 | D49: 0.435 | E49: 0.435 | F49: 0.435 | G49: 0.435 | H49: 0.435 | I49: 0.435 | J49: 0.435 | K49: 0.435 | L49: 0.435 | M49: 0.435 | N49: 0.42
A50: Glanbrücken | B50: 0.45 | C50: 0.45 | D50: 0.435 | E50: 0.435 | F50: 0.435 | G50: 0.435 | H50: 0.435 | I50: 0.435 | J50: 0.435 | K50: 0.435 | L50: 0.435 | M50: 0.435 | N50: 0.42
A51: Grumbach | B51: 0.45 | C51: 0.45 | D51: 0.435 | E51: 0.435 | F51: 0.435 | G51: 0.435 | H51: 0.435 | I51: 0.435 | J51: 0.435 | K51: 0.435 | L51: 0.435 | M51: 0.435 | N51: 0.42
A52: Hausweiler | B52: 0.45 | C52: 0.45 | D52: 0.435 | E52: 0.435 | F52: 0.435 | G52: 0.435 | H52: 0.435 | I52: 0.435 | J52: 0.435 | K52: 0.435 | L52: 0.435 | M52: 0.435 | N52: 0.42
A53: Hefersweiler | B53: 0.49 | C53: 0.49 | D53: 0.445 | E53: 0.445 | F53: 0.445 | G53: 0.445 | H53: 0.445 | I53: 0.445 | J53: 0.445 | K53: 0.445 | L53: 0.445 | M53: 0.445 | N53: 0.42
... A82: Wolfstein | B82: 0.49 | C82: 0.49 | D82: 0.445 | E82: 0.445 | F82: 0.445 | G82: 0.445 | H82: 0.445 | I82: 0.445 | J82: 0.445 | K82: 0.445 | L82: 0.445 | M82: 0.445 | N82: 0.42
A84: VG Oberes Glantal
A85: Altenkirchen | B85: 0.47 | C85: 0.47 | D85: 0.47 | E85: 0.47 | F85: 0.45 | G85: 0.45 | H85: 0.45 | I85: 0.45 | J85: 0.435 | K85: 0.43 | L85: 0.395 | M85: 0.4 | N85: 0.38
A86: Börsborn | B86: 0.39 | C86: 0.38 | D86: 0.38 | E86: 0.38 | F86: 0.38 | G86: 0.34 | H86: 0.38 | I86: 0.38 | J86: 0.39 | K86: 0.395 | L86: 0.395 | M86: 0.4 | N86: 0.38
A87: Breitenbach | B87: 0.45 | C87: 0.45 | D87: 0.45 | E87: 0.45 | F87: 0.45 | G87: 0.45 | H87: 0.475 | I87: 0.475 | J87: 0.46 | K87: 0.455 | L87: 0.455 | M87: 0.45 | N87: 0.38
A88: Brücken/Pfalz | B88: 0.47 | C88: 0.47 | D88: 0.47 | E88: 0.47 | F88: 0.45 | G88: 0.45 | H88: 0.45 | I88: 0.45 | J88: 0.435 | K88: 0.43 | L88: 0.395 | M88: 0.4 | N88: 0.38
A89: Dittweiler | B89: 0.47 | C89: 0.47 | D89: 0.47 | E89: 0.47 | F89: 0.45 | G89: 0.45 | H89: 0.45 | I89: 0.45 | J89: 0.435 | K89: 0.43 | L89: 0.395 | M89: 0.4 | N89: 0.38
A90: Dunzweiler | B90: 0.45 | C90: 0.45 | D90: 0.45 | E90: 0.45 | F90: 0.45 | G90: 0.45 | H90: 0.475 | I90: 0.475 | J90: 0.46 | K90: 0.455 | L90: 0.455 | M90: 0.45 | N90: 0.38
A91: Frohnhofen | B91: 0.47 | C91: 0.47 | D91: 0.47 | E91: 0.47 | F91: 0.45 | G91: 0.45 | H91: 0.45 | I91: 0.45 | J91: 0.435 | K91: 0.43 | L91: 0.395 | M91: 0.4 | N91: 0.38
A92: Glan-Münchweiler | B92: 0.39 | C92: 0.38 | D92: 0.38 | E92: 0.38 | F92: 0.38 | G92: 0.34 | H92: 0.38 | I92: 0.38 | J92: 0.39 | K92: 0.395 | L92: 0.395 | M92: 0.4 | N92: 0.38
A93: Gries | B93: 0.47 | C93: 0.47 | D93: 0.47 | E93: 0.47 | F93: 0.45 | G93: 0.45 | H93: 0.45 | I93: 0.45 | J93: 0.435 | K93: 0.43 | L93: 0.395 | M93: 0.4 | N93: 0.38
A94: Henschtal | B94: 0.39 | C94: 0.38 | D94: 0.38 | E94: 0.38 | F94: 0.38 | G94: 0.34 | H94: 0.38 | I94: 0.38 | J94: 0.39 | K94: 0.395 | L94: 0.395 | M94: 0.4 | N94: 0.38
A95: Herschw.-Pettersh. | B95: 0.39 | C95: 0.38 | D95: 0.38 | E95: 0.38 | F95: 0.38 | G95: 0.34 | H95: 0.38 | I95: 0.38 | J95: 0.39 | K95: 0.395 | L95: 0.395 | M95: 0.4 | N95: 0.38
A96: Hüffler | B96: 0.39 | C96: 0.38 | D96: 0.38 | E96: 0.38 | F96: 0.38 | G96: 0.34 | H96: 0.38 | I96: 0.38 | J96: 0.39 | K96: 0.395 | L96: 0.395 | M96: 0.4 | N96: 0.38
... A107: Waldmohr | B107: 0.45 | C107: 0.45 | D107: 0.45 | E107: 0.45 | F107: 0.45 | G107: 0.45 | H107: 0.475 | I107: 0.475 | J107: 0.46 | K107: 0.455 | L107: 0.455 | M107: 0.45 | N107: 0.38
A109: Durchschnitt VG-Umlage | B109: =AVERAGE(B6:B107) -> 0.45459184 | C109: =AVERAGE(C6:C107) -> 0.45326531 | D109: =AVERAGE(D6:D107) -> 0.44239796 | E109: =AVERAGE(E6:E107) -> 0.44239796 | F109: =AVERAGE(F6:F107) -> 0.44096939 | G109: =AVERAGE(G6:G107) -> 0.43566327 | H109: =AVERAGE(H6:H107) -> 0.43673469 | I109: =AVERAGE(I6:I107) -> 0.43673469 | ... N109: =AVERAGE(N6:N107) -> 0.40193878
A110: durchschnittl. Gesamtbelastung (mit KU) | B110: =B109+B3 -> 0.83459184 | C110: =C109+C3 -> 0.83356531 | D110: =D109+D3 -> 0.83739796 | E110: =E109+E3 -> 0.83739796 | F110: =F109+F3 -> 0.83596939 | G110: =G109+G3 -> 0.83066327 | H110: =H109+H3 -> 0.84673469 | I110: =I109+I3 -> 0.84673469 | ... N110: =N109+N3 -> 0.84443878
B111: Ist
B112: vorläufiges IST
B113: Plan Entwurf Verwaltung

Sheet Teilnahme KEF
A1: Kommune | B1: 2011 | C1: 2012 | D1: 2013 | E1: 2014 | F1: 2015 | G1: 2016 | H1: 2017 | I1: 2018 | J1: 2019 | K1: 2020 | L1: 2021 | M1: 2022 | N1: 2023
A3: Landkreis Kusel | D3: ja | E3: ja | F3: ja | G3: ja | H3: ja | I3: ja | J3: ja | K3: ja | L3: ja | M3: ja | N3: ja
A5: VG Kusel-Altenglan | I5: ja | J5: ja | K5: ja | L5: ja | M5: ja
A6: Albessen | C6: ja | D6: ja | E6: ja | F6: ja | G6: ja | H6: ja | I6: ja | J6: ja | K6: ja | L6: ja | M6: ja | N6: ja
A7: Altenglan | C7: ja | D7: ja | E7: ja | F7: ja | G7: ja | H7: ja | I7: ja | J7: ja | K7: ja | L7: ja | M7: ja
A8: Bedesbach | C8: ja | D8: ja | E8: ja | F8: ja | G8: ja | H8: ja | I8: ja | J8: ja | K8: ja | L8: ja | M8: ja
A9: Blaubach | C9: ja | D9: ja | E9: ja | F9: ja | G9: ja | H9: ja | I9: ja | J9: ja | K9: ja | L9: ja | M9: ja
A10: Bosenbach | C10: nein | D10: nein | E10: ja | F10: ja | G10: ja | H10: ja | I10: ja | J10: ja | K10: ja | L10: ja | M10: ja
A11: Dennweiler-Frohnbach | C11: ja | D11: ja | E11: ja | F11: ja | G11: ja | H11: ja | I11: ja | J11: ja | K11: ja | L11: ja | M11: ja | N11: ja
A12: Ehweiler | C12: nein | D12: nein | E12: nein | F12: nein | G12: nein | H12: nein | I12: nein | J12: nein | K12: nein | L12: nein | M12: nein
A13: Elzweiler | C13: ja | D13: ja | E13: ja | F13: ja | G13: ja | H13: ja | I13: ja | J13: ja | K13: ja | L13: ja | M13: ja
A14: Erdesbach | C14: ja | D14: ja | E14: ja | F14: ja | G14: ja | H14: ja | I14: ja | J14: ja | K14: ja | L14: ja | M14: ja | N14: ja
A15: Etschberg | C15: nein | D15: nein | E15: ja | F15: ja | G15: ja | H15: ja | I15: ja | J15: ja | K15: ja | L15: ja | M15: ja | N15: ja
A16: Föckelberg | C16: ja | D16: ja | E16: ja | F16: ja | G16: ja | H16: ja | I16: ja | J16: ja | K16: ja | L16: ja | M16: ja | N16: ja
A17: Haschbach/Rbg. | C17: nein | D17: nein | E17: nein | F17: nein | G17: nein | H17: nein | I17: nein | J17: nein | K17: nein | L17: nein | M17: nein | N17: nein
A18: Herchweiler i.O. | C18: ja | D18: ja | E18: ja | F18: ja | G18: ja | H18: ja | I18: ja | J18: ja | K18: ja | L18: ja | M18: ja
A19: Horschbach | C19: nein | D19: nein | E19: nein | F19: nein | G19: nein | H19: nein | I19: nein | J19: nein | K19: nein | L19: nein | M19: nein | N19: nein
A20: Konken | C20: ja | D20: ja | E20: ja | F20: ja | G20: ja | H20: ja | I20: ja | J20: ja | K20: ja | L20: ja | M20: ja
A21: Körborn | C21: ja | D21: ja | E21: ja | F21: ja | G21: ja | H21: ja | I21: ja | J21: ja | K21: ja | L21: ja | M21: ja | N21: ja
A22: Kusel | C22: ja | D22: ja | E22: ja | F22: ja | G22: ja | H22: ja | I22: ja | J22: ja | K22: ja | L22: ja | M22: ja | N22: ja
A23: Neunkirchen/Pbg. | C23: ja | D23: ja | E23: ja | F23: ja | G23: ja | H23: ja | I23: ja | J23: ja | K23: ja | L23: ja | M23: ja | N23: ja
A24: Niederalben | C24: ja | D24: ja | E24: ja | F24: ja | G24: ja | H24: ja | I24: ja | J24: ja | K24: ja | L24: ja | M24: ja
A25: Niederstaufenbach | C25: ja | D25: ja | E25: ja | F25: ja | G25: ja | H25: ja | I25: ja | J25: ja | K25: ja | L25: ja | M25: ja
A26: Oberalben | C26: ja | D26: ja | E26: ja | F26: ja | G26: ja | H26: ja | I26: ja | J26: ja | K26: ja | L26: ja | M26: ja | N26: ja
A27: Oberstaufenbach | C27: ja | D27: ja | E27: ja | F27: ja | G27: ja | H27: ja | I27: ja | J27: ja | K27: ja | L27: ja | M27: ja | N27: ja
A28: Pfeffelbach | C28: nein | D28: nein | E28: nein | F28: nein | G28: nein | H28: nein | I28: nein | J28: nein | K28: nein | L28: nein | M28: nein | N28: nein
A29: Rammelsbach | C29: ja | D29: ja | E29: ja | F29: ja | G29: ja | H29: ja | I29: ja | J29: ja | K29: ja | L29: ja | M29: ja
A30: Rathsweiler | C30: nein | D30: nein | E30: nein | F30: nein | G30: nein | H30: nein | I30: nein | J30: nein | K30: nein | L30: nein | M30: nein | N30: nein
A31: Reichweiler | C31: ja | D31: ja | E31: ja | F31: ja | G31: ja | H31: ja | I31: ja | J31: ja | K31: ja | L31: ja | M31: ja | N31: ja
A32: Ruthweiler | C32: ja | D32: ja | E32: ja | F32: ja | G32: ja | H32: ja | I32: ja | J32: ja | K32: ja | L32: ja | M32: ja | N32: ja
A33: Rutsweiler/Glan | C33: ja | D33: ja | E33: ja | F33: ja | G33: ja | H33: ja | I33: ja | J33: ja | K33: ja | L33: ja | M33: ja | N33: ja
A34: Schellweiler | C34: ja | D34: ja | E34: ja | F34: ja | G34: ja | H34: ja | I34: ja | J34: ja | K34: ja | L34: ja | M34: ja | N34: ja
A35: Selchenbach | C35: ja | D35: ja | E35: ja | F35: ja | G35: ja | H35: ja | I35: ja | J35: ja | K35: ja | L35: ja | M35: ja | N35: ja
A36: Thallichtenberg | C36: ja | D36: ja | E36: ja | F36: ja | G36: ja | H36: ja | I36: ja | J36: ja | K36: ja | L36: ja | M36: ja
A37: Theisbergstegen | C37: ja | D37: ja | E37: ja | F37: ja | G37: ja | H37: ja | I37: ja | J37: ja | K37: ja | L37: ja | M37: ja
A38: Ulmet | C38: ja | D38: ja | E38: ja | F38: ja | G38: ja | H38: ja | I38: ja | J38: ja | K38: ja | L38: ja | M38: ja
A39: Welchweiler | C39: ja | D39: ja | E39: ja | F39: ja | G39: ja | H39: ja | I39: ja | J39: ja | K39: ja | L39: ja | M39: ja
A41: VG Lauterecken-Wolfstein
A42: Adenbach | C42: ja | D42: ja | E42: ja | F42: ja | G42: ja | H42: ja | I42: ja | J42: ja | K42: ja | L42: ja | M42: ja | N42: ja
A43: Aschbach | C43: ja | D43: ja | E43: ja | F43: ja | G43: ja | H43: ja | I43: ja | J43: ja | K43: ja | L43: ja | M43: ja | N43: ja
A44: Buborn | C44: nein | D44: nein | E44: nein | F44: nein | G44: nein | H44: nein | I44: nein | J44: nein | K44: nein | L44: nein | M44: nein | N44: nein
A45: Cronenberg | C45: ja | D45: ja | E45: ja | F45: ja | G45: ja | H45: ja | I45: beantragt-keine Zuweisung | J45: nein | K45: nein | L45: nein | M45: nein | N45: nein
A46: Deimberg | C46: ja | D46: ja | E46: ja | F46: ja | G46: ja | H46: ja | I46: ja | J46: ja | K46: ja | L46: ja | M46: ja | N46: ja
A47: Einöllen | C47: ja | D47: ja | E47: ja | F47: ja | G47: ja | H47: ja | I47: ja | J47: ja | K47: ja | L47: ja | M47: ja | N47: ja
A48: Eßweiler | C48: ja | D48: ja | E48: ja | F48: ja | G48: ja | H48: ja | I48: ja | J48: ja | K48: ja | L48: ja | M48: ja | N48: ja
A49: Ginsweiler | C49: ja | D49: ja | E49: ja | F49: ja | G49: ja | H49: ja | I49: ja | J49: ja | K49: ja | L49: ja | M49: ja | N49: ja
A50: Glanbrücken | C50: ja | D50: ja | E50: ja | F50: ja | G50: ja | H50: ja | I50: ja | J50: ja | K50: ja | L50: ja | M50: ja | N50: ja
A51: Grumbach | C51: ja | D51: ja | E51: ja | F51: ja | G51: ja | H51: ja | I51: ja | J51: ja | K51: ja | L51: ja | M51: ja | N51: ja
A52: Hausweiler | C52: ja | D52: ja | E52: ja | F52: ja | G52: ja | H52: ja | I52: ja | J52: ja | K52: ja | L52: ja | M52: ja | N52: ja
A53: Hefersweiler | C53: ja | D53: ja | E53: ja | F53: ja | G53: ja | H53: ja | I53: ja | J53: ja | K53: ja | L53: ja | M53: ja | N53: ja
... A82: Wolfstein | C82: ja | D82: ja | E82: ja | F82: ja | G82: ja | H82: ja | I82: ja | J82: ja | K82: ja | L82: ja | M82: ja | N82: ja
A84: VG Oberes Glantal | H84: ja | I84: ja | J84: ja | K84: ja | L84: ja | M84: ja | N84: ?
A85: Altenkirchen | C85: ja | D85: ja | E85: ja | F85: ja | G85: ja | H85: ja | I85: ja | J85: ja | K85: ja | L85: ja | M85: ja | N85: ja
A86: Börsborn | C86: ja | D86: ja | E86: ja | F86: ja | G86: ja | H86: ja | I86: ja | J86: ja | K86: ja | L86: ja | M86: ? | N86: ?
A87: Breitenbach | D87: ja | E87: ja | F87: ja | G87: ja | H87: ja | I87: ja | J87: ja | K87: ja | L87: ja | M87: ja | N87: ja
A88: Brücken/Pfalz | C88: ja | D88: ja | E88: ja | F88: ja | G88: ja | H88: ja | I88: ja | J88: ja | K88: ja | L88: ja | M88: ja | N88: ja
A89: Dittweiler | C89: ja | D89: ja | E89: ja | F89: ja | G89: ja | H89: ja | I89: ja | J89: ja | K89: ja | L89: ja | M89: ja | N89: ja
A90: Dunzweiler | C90: ja | D90: ja | E90: ja | F90: ja | G90: ja | H90: ja | I90: ja | J90: ja | K90: ja | L90: ja | M90: ja | N90: ja
A91: Frohnhofen | C91: ja | D91: ja | E91: ja | F91: ja | G91: ja | H91: ja | I91: ja | J91: ja | K91: ja | L91: ja | M91: ja | N91: ja
A92: Glan-Münchweiler | C92: ja | D92: ja | E92: ja | F92: ja | G92: ja | H92: ja | I92: ja | J92: ja | K92: ja | L92: ja | M92: ja | N92: ja
A93: Gries | C93: ja | D93: ja | E93: ja | F93: ja | G93: ja | H93: ja | I93: ja | J93: ja | K93: ja | L93: ja | M93: ja | N93: ja
A94: Henschtal | C94: ja | D94: ja | E94: ja | F94: ja | G94: ja | H94: ja | I94: ja | J94: ja | K94: ja | L94: ja | M94: ja | N94: ja
A95: Herschw.-Pettersh. | C95: ja | D95: ja | E95: ja | F95: ja | G95: ja | H95: ja | I95: ja | J95: ja | K95: ja | L95: ja | M95: ja | N95: ja
A96: Hüffler | C96: ja | D96: ja | E96: ja | F96: ja | G96: ja | H96: ja | I96: ja | J96: ja | K96: ja | L96: ? | M96: ? | N96: ?
A97: Krottelbach | C97: ja | D97: ja | E97: ja | F97: ja | G97: ja | H97: ja | I97: ja | J97: ja | K97: ja | L97: ja | M97: ja | N97: ja
A98: Langenbach | C98: ja | D98: ja | E98: ja | F98: ja | G98: ja | H98: ja | I98: ja | J98: ja | K98: ja | L98: ja | M98: ja | N98: ja
A99: Matzenbach | D99: ja | E99: ja | F99: ja | G99: ja | H99: ja | I99: ja | J99: ja | K99: ja | L99: ja | M99: ja | N99: ja
A100: Nanzdietschweiler | C100: ja | D100: ja | E100: ja | F100: ja | G100: ja | H100: ja | I100: ja | J100: ja | K100: ja | L100: ja | M100: ja | N100: ja
A101: Ohmbach | C101: ja | D101: ja | E101: ja | F101: ja | G101: ja | H101: ja | I101: ja | J101: ja | K101: ja | L101: ja | M101: ja | N101: ja
A102: Quirnbach | C102: ja | D102: ja | E102: ja | F102: ja | G102: ja | H102: ja | I102: ja | J102: ja | K102: ja | L102: ja | M102: ja | N102: ja
A103: Rehweiler | C103: ja | D103: ja | E103: ja | F103: ja | G103: ja | H103: ja | I103: ja | J103: ja | K103: ja | L103: ja | M103: ja | N103: ja
A104: Schönenberg-Kbg. | C104: ja | D104: ja | E104: ja | F104: ja | G104: ja | H104: ja | I104: ja | J104: ja | K104: ja | L104: ? | M104: ? | N104: ?
A105: Steinbach/Glan | C105: ja | D105: ja | E105: ja | F105: ja | G105: ja | H105: ja | I105: ja | J105: ja | K105: ja | L105: ja | M105: ? | N105: ?
A106: Wahnwegen | C106: ja | D106: ja | E106: ja | F106: ja | G106: ja | H106: ja | I106: ja | J106: ja | K106: ja | L106: ja | M106: ja | N106: ja
A107: Waldmohr | C107: ja | D107: ja | E107: ja | F107: ja | G107: ja | H107: ja | I107: ja | J107: ja | K107: ja | L107: ja | M107: ja | N107: ja
A109: Durchschnitt | B109: =AVERAGE(B6:B107) -> #DIV/0! | C109: =AVERAGE(C6:C107) -> #DIV/0! | D109: =AVERAGE(D6:D107) -> #DIV/0! | E109: =AVERAGE(E6:E107) -> #DIV/0! | F109: =AVERAGE(F6:F107) -> #DIV/0! | G109: =AVERAGE(G6:G107) -> #DIV/0! | H109: =AVERAGE(H6:H107) -> #DIV/0! | I109: =AVERAGE(I6:I107) -> #DIV/0! | J109: =AVERAGE(J6:J107) -> #DIV/0!
B111: Ist
B112: vorläufiges IST
B113: Plan

Sheet Liquikr. pro EW
A1: Liquiditätskredite pro Einwohner
A3: Kommune | B3: 2011 | C3: 2012 | D3: 2013 | E3: 2014 | F3: 2015 | G3: 2016 | H3: 2017 | I3: 2018 | J3: 2019
A5: Landkreis Kusel | B5: =Liqui.kr.!B5/EW!B5 -> -1491.554 | C5: =Liqui.kr.!C5/EW!C5 -> -1695.6888 | D5: =Liqui.kr.!D5/EW!D5 -> -1822.7973 | E5: =Liqui.kr.!E5/EW!E5 -> -1982.063 | F5: =Liqui.kr.!F5/EW!F5 -> -2107.5112 | G5: =Liqui.kr.!G5/EW!G5 -> -2236.386 | H5: =Liqui.kr.!H5/EW!H5 -> -2313.5165 | I5: =Liqui.kr.!I5/EW!I5 -> -2347.2199 | J5: =Liqui.kr.!J5/EW!J5 -> -2372.0103
A7: VG Kusel-Altenglan
A8: Albessen | B8: =Liqui.kr.!B8/EW!B8 -> 23.455818 | C8: =Liqui.kr.!C8/EW!C8 -> -582.92519 | D8: =Liqui.kr.!D8/EW!D8 -> -684.87074 | E8: =Liqui.kr.!E8/EW!E8 -> -834.37647 | F8: =Liqui.kr.!F8/EW!F8 -> -847.26695 | G8: =Liqui.kr.!G8/EW!G8 -> -619.30801 | H8: =Liqui.kr.!H8/EW!H8 -> -611.24346 | I8: =Liqui.kr.!I8/EW!I8 -> -703.26986 | J8: =Liqui.kr.!J8/EW!J8 -> -1027.6257
A9: Altenglan | B9: =Liqui.kr.!B9/EW!B9 -> -1143.3517 | C9: =Liqui.kr.!C9/EW!C9 -> -1150.1594 | D9: =Liqui.kr.!D9/EW!D9 -> -1255.0043 | E9: =Liqui.kr.!E9/EW!E9 -> -1406.0674 | F9: =Liqui.kr.!F9/EW!F9 -> -1550.8775 | G9: =Liqui.kr.!G9/EW!G9 -> -1701.9469 | H9: =Liqui.kr.!H9/EW!H9 -> -1815.6875 | I9: =Liqui.kr.!I9/EW!I9 -> -1797.38 | J9: =Liqui.kr.!J9/EW!J9 -> 1874.4825
A10: Bedesbach | B10: =Liqui.kr.!B10/EW!B10 -> -1142.5755 | C10: =Liqui.kr.!C10/EW!C10 -> -1134.2047 | D10: =Liqui.kr.!D10/EW!D10 -> -1389.0248 | E10: =Liqui.kr.!E10/EW!E10 -> -1482.1557 | F10: =Liqui.kr.!F10/EW!F10 -> -1473.3517 | G10: =Liqui.kr.!G10/EW!G10 -> -1597.1878 | H10: =Liqui.kr.!H10/EW!H10 -> -1517.4503 | I10: =Liqui.kr.!I10/EW!I10 -> -1431.7216 | J10: =Liqui.kr.!J10/EW!J10 -> 1509.9391
A11: Blaubach | B11: =Liqui.kr.!B11/EW!B11 -> -1308.4797 | C11: =Liqui.kr.!C11/EW!C11 -> -1514.4018 | D11: =Liqui.kr.!D11/EW!D11 -> -2247.7975 | E11: =Liqui.kr.!E11/EW!E11 -> -2167.2145 | F11: =Liqui.kr.!F11/EW!F11 -> -1797.7547 | G11: =Liqui.kr.!G11/EW!G11 -> -2125.9423 | H11: =Liqui.kr.!H11/EW!H11 -> -2952.3032 | I11: =Liqui.kr.!I11/EW!I11 -> -2803.6801 | J11: =Liqui.kr.!J11/EW!J11 -> -3032.5317
A12: Bosenbach | B12: =Liqui.kr.!B12/EW!B12 -> -2405.6898 | C12: =Liqui.kr.!C12/EW!C12 -> -2935.3749 | D12: =Liqui.kr.!D12/EW!D12 -> -3256.7343 | E12: =Liqui.kr.!E12/EW!E12 -> -3355.2031 | F12: =Liqui.kr.!F12/EW!F12 -> -3649.1487 | G12: =Liqui.kr.!G12/EW!G12 -> -3894.7573 | H12: =Liqui.kr.!H12/EW!H12 -> -3795.3646 | I12: =Liqui.kr.!I12/EW!I12 -> -4114.5948 | J12: =Liqui.kr.!J12/EW!J12 -> -4470.9939
A13: Dennweiler-Frohnbach | B13: =Liqui.kr.!B13/EW!B13 -> -616.49699 | C13: =Liqui.kr.!C13/EW!C13 -> -507.12482 | D13: =Liqui.kr.!D13/EW!D13 -> -441.92726 | E13: =Liqui.kr.!E13/EW!E13 -> -651.35721 | F13: =Liqui.kr.!F13/EW!F13 -> -838.79169 | G13: =Liqui.kr.!G13/EW!G13 -> -451.33041 | H13: =Liqui.kr.!H13/EW!H13 -> -284.54375 | I13: =Liqui.kr.!I13/EW!I13 -> 139.67108 | J13: =Liqui.kr.!J13/EW!J13 -> 268.50215
A14: Ehweiler | B14: =Liqui.kr.!B14/EW!B14 -> 914.50136 | C14: =Liqui.kr.!C14/EW!C14 -> 887.13553 | D14: =Liqui.kr.!D14/EW!D14 -> 783.93521 | E14: =Liqui.kr.!E14/EW!E14 -> 595.52152 | F14: =Liqui.kr.!F14/EW!F14 -> 827.03725 | G14: =Liqui.kr.!G14/EW!G14 -> 786.44586 | H14: =Liqui.kr.!H14/EW!H14 -> 579.45578 | I14: =Liqui.kr.!I14/EW!I14 -> 847.67409 | J14: =Liqui.kr.!J14/EW!J14 -> 738.26661
A15: Elzweiler | B15: =Liqui.kr.!B15/EW!B15 -> -1773.205 | C15: =Liqui.kr.!C15/EW!C15 -> -1604.9848 | D15: =Liqui.kr.!D15/EW!D15 -> -1970.3521 | E15: =Liqui.kr.!E15/EW!E15 -> -1708.595 | F15: =Liqui.kr.!F15/EW!F15 -> -1831.6494 | G15: =Liqui.kr.!G15/EW!G15 -> -1973.6272 | H15: =Liqui.kr.!H15/EW!H15 -> -1830.3257 | I15: =Liqui.kr.!I15/EW!I15 -> -1562.6039 | J15: =Liqui.kr.!J15/EW!J15 -> -1821.0737
A16: Erdesbach | B16: =Liqui.kr.!B16/EW!B16 -> -1300.5516 | C16: =Liqui.kr.!C16/EW!C16 -> -1270.6363 | D16: =Liqui.kr.!D16/EW!D16 -> -1340.6598 | E16: =Liqui.kr.!E16/EW!E16 -> -1458.3863 | F16: =Liqui.kr.!F16/EW!F16 -> -1507.6138 | G16: =Liqui.kr.!G16/EW!G16 -> -1696.6073 | H16: =Liqui.kr.!H16/EW!H16 -> -1708.0705 | I16: =Liqui.kr.!I16/EW!I16 -> -1609.496 | J16: =Liqui.kr.!J16/EW!J16 -> -1679.0157
A17: Etschberg | B17: =Liqui.kr.!B17/EW!B17 -> -448.5809 | C17: =Liqui.kr.!C17/EW!C17 -> -404.67612 | D17: =Liqui.kr.!D17/EW!D17 -> -425.9752 | E17: =Liqui.kr.!E17/EW!E17 -> -591.6805 | F17: =Liqui.kr.!F17/EW!F17 -> -487.68355 | G17: =Liqui.kr.!G17/EW!G17 -> -721.84337 | H17: =Liqui.kr.!H17/EW!H17 -> -855.1815 | I17: =Liqui.kr.!I17/EW!I17 -> -782.45876 | J17: =Liqui.kr.!J17/EW!J17 -> -1164.0272
A18: Föckelberg | B18: =Liqui.kr.!B18/EW!B18 -> -589.84716 | C18: =Liqui.kr.!C18/EW!C18 -> -560.03558 | D18: =Liqui.kr.!D18/EW!D18 -> -701.26273 | E18: =Liqui.kr.!E18/EW!E18 -> -874.16153 | F18: =Liqui.kr.!F18/EW!F18 -> -1165.8876 | G18: =Liqui.kr.!G18/EW!G18 -> -1306.148 | H18: =Liqui.kr.!H18/EW!H18 -> -1423.6888 | I18: =Liqui.kr.!I18/EW!I18 -> -1484.4494 | J18: =Liqui.kr.!J18/EW!J18 -> -1466.1686
A19: Haschbach/Rbg. | B19: =Liqui.kr.!B19/EW!B19 -> 61.982022 | C19: =Liqui.kr.!C19/EW!C19 -> 71.609766 | D19: =Liqui.kr.!D19/EW!D19 -> 138.31079 | E19: =Liqui.kr.!E19/EW!E19 -> 83.486662 | F19: =Liqui.kr.!F19/EW!F19 -> 117.63624 | G19: =Liqui.kr.!G19/EW!G19 -> 12.244599 | H19: =Liqui.kr.!H19/EW!H19 -> 47.985506 | I19: =Liqui.kr.!I19/EW!I19 -> 138.58471 | J19: =Liqui.kr.!J19/EW!J19 -> 94.62323
... A41: Welchweiler | B41: =Liqui.kr.!B41/EW!B41 -> -512.48546 | C41: =Liqui.kr.!C41/EW!C41 -> -448.43389 | D41: =Liqui.kr.!D41/EW!D41 -> -452.23307 | E41: =Liqui.kr.!E41/EW!E41 -> -298.768 | F41: =Liqui.kr.!F41/EW!F41 -> -395.63094 | G41: =Liqui.kr.!G41/EW!G41 -> -600.32168 | H41: =Liqui.kr.!H41/EW!H41 -> -367.0233 | I41: =Liqui.kr.!I41/EW!I41 -> -277.36316 | J41: =Liqui.kr.!J41/EW!J41 -> -412.83963
A43: VG Lauterecken-Wolfstein
A44: Adenbach | B44: =Liqui.kr.!B44/EW!B44 -> -681.66635 | C44: =Liqui.kr.!C44/EW!C44 -> -1165.6562 | D44: =Liqui.kr.!D44/EW!D44 -> -958.2523 | E44: =Liqui.kr.!E44/EW!E44 -> -1047.0076 | F44: =Liqui.kr.!F44/EW!F44 -> -1234.9375 | G44: =Liqui.kr.!G44/EW!G44 -> -1287.2309 | H44: =Liqui.kr.!H44/EW!H44 -> -1455.6617 | I44: =Liqui.kr.!I44/EW!I44 -> -1998.8611 | J44: =Liqui.kr.!J44/EW!J44 -> -1958.8633
A45: Aschbach | B45: =Liqui.kr.!B45/EW!B45 -> -934.8333 | C45: =Liqui.kr.!C45/EW!C45 -> -1086.7892 | D45: =Liqui.kr.!D45/EW!D45 -> -1219.5782 | E45: =Liqui.kr.!E45/EW!E45 -> -1225.5692 | F45: =Liqui.kr.!F45/EW!F45 -> -1197.3214 | G45: =Liqui.kr.!G45/EW!G45 -> -1407.0769 | H45: =Liqui.kr.!H45/EW!H45 -> -1480.075 | I45: =Liqui.kr.!I45/EW!I45 -> -1555.0281 | J45: =Liqui.kr.!J45/EW!J45 -> -1614.4001
A46: Buborn | B46: =Liqui.kr.!B46/EW!B46 -> -220.37214 | C46: =Liqui.kr.!C46/EW!C46 -> 165.75571 | D46: =Liqui.kr.!D46/EW!D46 -> 318.3783 | E46: =Liqui.kr.!E46/EW!E46 -> 3.2022293 | F46: =Liqui.kr.!F46/EW!F46 -> -318.82581 | G46: =Liqui.kr.!G46/EW!G46 -> -818.99614 | H46: =Liqui.kr.!H46/EW!H46 -> -509.04987 | I46: =Liqui.kr.!I46/EW!I46 -> -347.15494 | J46: =Liqui.kr.!J46/EW!J46 -> -532.74179
A47: Cronenberg | B47: =Liqui.kr.!B47/EW!B47 -> -771.32828 | C47: =Liqui.kr.!C47/EW!C47 -> -795.5883 | D47: =Liqui.kr.!D47/EW!D47 -> -513.94946 | E47: =Liqui.kr.!E47/EW!E47 -> -170.5686 | F47: =Liqui.kr.!F47/EW!F47 -> -264.66817 | G47: =Liqui.kr.!G47/EW!G47 -> -326.92826 | H47: =Liqui.kr.!H47/EW!H47 -> -136.28316 | I47: =Liqui.kr.!I47/EW!I47 -> -114.18844 | J47: =Liqui.kr.!J47/EW!J47 -> -79.731931
A48: Deimberg | B48: =Liqui.kr.!B48/EW!B48 -> -899.57626 | C48: =Liqui.kr.!C48/EW!C48 -> -657.4404 | D48: =Liqui.kr.!D48/EW!D48 -> -1672.9651 | E48: =Liqui.kr.!E48/EW!E48 -> -1615.9119 | F48: =Liqui.kr.!F48/EW!F48 -> -1734.4188 | G48: =Liqui.kr.!G48/EW!G48 -> -2205.4014 | H48: =Liqui.kr.!H48/EW!H48 -> -2552.5661 | I48: =Liqui.kr.!I48/EW!I48 -> -1540.2783 | J48: =Liqui.kr.!J48/EW!J48 -> -1964.9005
A49: Einöllen | B49: =Liqui.kr.!B49/EW!B49 -> -342.89389 | C49: =Liqui.kr.!C49/EW!C49 -> -419.92281 | D49: =Liqui.kr.!D49/EW!D49 -> -502.76962 | E49: =Liqui.kr.!E49/EW!E49 -> -567.06447 | F49: =Liqui.kr.!F49/EW!F49 -> -547.92147 | G49: =Liqui.kr.!G49/EW!G49 -> -620.70558 | H49: =Liqui.kr.!H49/EW!H49 -> -622.40894 | I49: =Liqui.kr.!I49/EW!I49 -> -582.41917 | J49: =Liqui.kr.!J49/EW!J49 -> -618.02252
A50: Eßweiler | B50: =Liqui.kr.!B50/EW!B50 -> -1353.6771 | C50: =Liqui.kr.!C50/EW!C50 -> -1475.7337 | D50: =Liqui.kr.!D50/EW!D50 -> -1591.4283 | E50: =Liqui.kr.!E50/EW!E50 -> -1589.4493 | F50: =Liqui.kr.!F50/EW!F50 -> -1483.8039 | G50: =Liqui.kr.!G50/EW!G50 -> -1779.3353 | H50: =Liqui.kr.!H50/EW!H50 -> -1882.119 | I50: =Liqui.kr.!I50/EW!I50 -> -2067.961 | J50: =Liqui.kr.!J50/EW!J50 -> -2092.4385
A51: Ginsweiler | B51: =Liqui.kr.!B51/EW!B51 -> -435.68816 | C51: =Liqui.kr.!C51/EW!C51 -> -236.59826 | D51: =Liqui.kr.!D51/EW!D51 -> 23.801485 | E51: =Liqui.kr.!E51/EW!E51 -> -285.75472 | F51: =Liqui.kr.!F51/EW!F51 -> 4.1696541 | G51: =Liqui.kr.!G51/EW!G51 -> -210.35237 | H51: =Liqui.kr.!H51/EW!H51 -> -426.66516 | I51: =Liqui.kr.!I51/EW!I51 -> -489.53886 | J51: =Liqui.kr.!J51/EW!J51 -> -1067.2948
A52: Glanbrücken | B52: =Liqui.kr.!B52/EW!B52 -> -845.49735 | C52: =Liqui.kr.!C52/EW!C52 -> -974.30294 | D52: =Liqui.kr.!D52/EW!D52 -> -949.09323 | E52: =Liqui.kr.!E52/EW!E52 -> -956.98579 | F52: =Liqui.kr.!F52/EW!F52 -> -1590.0781 | G52: =Liqui.kr.!G52/EW!G52 -> -1312.2726 | H52: =Liqui.kr.!H52/EW!H52 -> -1360.1068 | I52: =Liqui.kr.!I52/EW!I52 -> -1372.8639 | J52: =Liqui.kr.!J52/EW!J52 -> -1443.0423
A53: Grumbach | B53: =Liqui.kr.!B53/EW!B53 -> -2249.1585 | C53: =Liqui.kr.!C53/EW!C53 -> -1327.8764 | D53: =Liqui.kr.!D53/EW!D53 -> -2235.692 | E53: =Liqui.kr.!E53/EW!E53 -> -2599.7481 | F53: =Liqui.kr.!F53/EW!F53 -> -2438.9433 | G53: =Liqui.kr.!G53/EW!G53 -> -2728.486 | H53: =Liqui.kr.!H53/EW!H53 -> -3036.2588 | I53: =Liqui.kr.!I53/EW!I53 -> -3537.7647 | J53: =Liqui.kr.!J53/EW!J53 -> -3792.2289
A54: Hausweiler | B54: =Liqui.kr.!B54/EW!B54 -> -672.55055 | C54: =Liqui.kr.!C54/EW!C54 -> -66.238421 | D54: =Liqui.kr.!D54/EW!D54 -> -86.779831 | E54: =Liqui.kr.!E54/EW!E54 -> -316.37714 | F54: =Liqui.kr.!F54/EW!F54 -> -527.2232 | G54: =Liqui.kr.!G54/EW!G54 -> -802.97609 | H54: =Liqui.kr.!H54/EW!H54 -> -922.42837 | I54: =Liqui.kr.!I54/EW!I54 -> -579.2102 | J54: =Liqui.kr.!J54/EW!J54 -> -983.98288
A55: Hefersweiler | B55: =Liqui.kr.!B55/EW!B55 -> -282.98793 | C55: =Liqui.kr.!C55/EW!C55 -> -380.78291 | D55: =Liqui.kr.!D55/EW!D55 -> -411.53019 | E55: =Liqui.kr.!E55/EW!E55 -> -492.81961 | F55: =Liqui.kr.!F55/EW!F55 -> -497.32293 | G55: =Liqui.kr.!G55/EW!G55 -> -589.26402 | H55: =Liqui.kr.!H55/EW!H55 -> -655.33052 | I55: =Liqui.kr.!I55/EW!I55 -> -613.37774 | J55: =Liqui.kr.!J55/EW!J55 -> -455.88914
... A84: Wolfstein | B84: =Liqui.kr.!B84/EW!B84 -> -2502.82 | C84: =Liqui.kr.!C84/EW!C84 -> -2601.4054 | D84: =Liqui.kr.!D84/EW!D84 -> -3481.1837 | E84: =Liqui.kr.!E84/EW!E84 -> -3652.391 | F84: =Liqui.kr.!F84/EW!F84 -> -3586.4616 | G84: =Liqui.kr.!G84/EW!G84 -> -3602.1108 | H84: =Liqui.kr.!H84/EW!H84 -> -3731.7544 | I84: =Liqui.kr.!I84/EW!I84 -> -4167.0987 | J84: =Liqui.kr.!J84/EW!J84 -> -4272.7605
A86: VG Oberes Glantal
A87: Altenkirchen | B87: =Liqui.kr.!B87/EW!B87 -> -399.08594 | C87: =Liqui.kr.!C87/EW!C87 -> -407.18768 | D87: =Liqui.kr.!D87/EW!D87 -> -542.93606 | E87: =Liqui.kr.!E87/EW!E87 -> -409.35034 | F87: =Liqui.kr.!F87/EW!F87 -> -542.43053 | G87: =Liqui.kr.!G87/EW!G87 -> -610.0569 | H87: =Liqui.kr.!H87/EW!H87 -> -633.51652 | I87: =Liqui.kr.!I87/EW!I87 -> -652.29708 | J87: =Liqui.kr.!J87/EW!J87 -> -673.50854
A88: Börsborn | B88: =Liqui.kr.!B88/EW!B88 -> -774.42075 | C88: =Liqui.kr.!C88/EW!C88 -> -774.42075 | D88: =Liqui.kr.!D88/EW!D88 -> -416.22359 | E88: =Liqui.kr.!E88/EW!E88 -> -382.03375 | F88: =Liqui.kr.!F88/EW!F88 -> -478.16711 | G88: =Liqui.kr.!G88/EW!G88 -> -452.54921 | H88: =Liqui.kr.!H88/EW!H88 -> -431.99069 | I88: =Liqui.kr.!I88/EW!I88 -> -393.78726 | J88: =Liqui.kr.!J88/EW!J88 -> -232.38259
A89: Breitenbach | B89: =Liqui.kr.!B89/EW!B89 -> -584.10408 | C89: =Liqui.kr.!C89/EW!C89 -> -587.47686 | D89: =Liqui.kr.!D89/EW!D89 -> -705.2792 | E89: =Liqui.kr.!E89/EW!E89 -> -717.69436 | F89: =Liqui.kr.!F89/EW!F89 -> -1021.6437 | G89: =Liqui.kr.!G89/EW!G89 -> -1015.1042 | H89: =Liqui.kr.!H89/EW!H89 -> -982.05591 | I89: =Liqui.kr.!I89/EW!I89 -> -797.42992 | J89: =Liqui.kr.!J89/EW!J89 -> -838.5549
A90: Brücken/Pfalz | B90: =Liqui.kr.!B90/EW!B90 -> -555.5402 | C90: =Liqui.kr.!C90/EW!C90 -> -567.40317 | D90: =Liqui.kr.!D90/EW!D90 -> -658.72526 | E90: =Liqui.kr.!E90/EW!E90 -> -675.25069 | F90: =Liqui.kr.!F90/EW!F90 -> -715.05285 | G90: =Liqui.kr.!G90/EW!G90 -> -693.19293 | H90: =Liqui.kr.!H90/EW!H90 -> -750.31399 | I90: =Liqui.kr.!I90/EW!I90 -> -790.05797 | J90: =Liqui.kr.!J90/EW!J90 -> -690.05055
A91: Dittweiler | B91: =Liqui.kr.!B91/EW!B91 -> -763.803 | C91: =Liqui.kr.!C91/EW!C91 -> -737.23593 | D91: =Liqui.kr.!D91/EW!D91 -> -870.38323 | E91: =Liqui.kr.!E91/EW!E91 -> -839.61557 | F91: =Liqui.kr.!F91/EW!F91 -> -1004.3568 | G91: =Liqui.kr.!G91/EW!G91 -> -1114.6201 | H91: =Liqui.kr.!H91/EW!H91 -> -1102.9812 | I91: =Liqui.kr.!I91/EW!I91 -> -1074.0264 | J91: =Liqui.kr.!J91/EW!J91 -> -1526.799
A92: Dunzweiler | B92: =Liqui.kr.!B92/EW!B92 -> -794.52682 | C92: =Liqui.kr.!C92/EW!C92 -> -798.81692 | D92: =Liqui.kr.!D92/EW!D92 -> -1125.2832 | E92: =Liqui.kr.!E92/EW!E92 -> -1055.2342 | F92: =Liqui.kr.!F92/EW!F92 -> -1351.7428 | G92: =Liqui.kr.!G92/EW!G92 -> -1511.4309 | H92: =Liqui.kr.!H92/EW!H92 -> -1486.9565 | I92: =Liqui.kr.!I92/EW!I92 -> -1617.8243 | J92: =Liqui.kr.!J92/EW!J92 -> -1818.774
A93: Frohnhofen | B93: =Liqui.kr.!B93/EW!B93 -> -582.40492 | C93: =Liqui.kr.!C93/EW!C93 -> -581.33824 | D93: =Liqui.kr.!D93/EW!D93 -> -764.73684 | E93: =Liqui.kr.!E93/EW!E93 -> -682.57685 | F93: =Liqui.kr.!F93/EW!F93 -> -787.71289 | G93: =Liqui.kr.!G93/EW!G93 -> -887.15602 | H93: =Liqui.kr.!H93/EW!H93 -> -1019.6518 | I93: =Liqui.kr.!I93/EW!I93 -> -1270.5913 | J93: =Liqui.kr.!J93/EW!J93 -> -820.704
A94: Glan-Münchweiler | B94: =Liqui.kr.!B94/EW!B94 -> -502.51564 | C94: =Liqui.kr.!C94/EW!C94 -> -508.22141 | D94: =Liqui.kr.!D94/EW!D94 -> -434.20388 | E94: =Liqui.kr.!E94/EW!E94 -> -240.49251 | F94: =Liqui.kr.!F94/EW!F94 -> -450.36947 | G94: =Liqui.kr.!G94/EW!G94 -> -490.70732 | H94: =Liqui.kr.!H94/EW!H94 -> -263.42521 | I94: =Liqui.kr.!I94/EW!I94 -> -667.63946 | J94: =Liqui.kr.!J94/EW!J94 -> -579.10998
A95: Gries | B95: =Liqui.kr.!B95/EW!B95 -> -1273.8841 | C95: =Liqui.kr.!C95/EW!C95 -> -1291.7185 | D95: =Liqui.kr.!D95/EW!D95 -> -1443.1627 | E95: =Liqui.kr.!E95/EW!E95 -> -1448.7791 | F95: =Liqui.kr.!F95/EW!F95 -> -1225.5938 | G95: =Liqui.kr.!G95/EW!G95 -> -1282.3874 | H95: =Liqui.kr.!H95/EW!H95 -> -1227.6916 | I95: =Liqui.kr.!I95/EW!I95 -> -1194.0019 | J95: =Liqui.kr.!J95/EW!J95 -> -1074.3021
A96: Henschtal | B96: =Liqui.kr.!B96/EW!B96 -> -448.78382 | C96: =Liqui.kr.!C96/EW!C96 -> -442.39088 | D96: =Liqui.kr.!D96/EW!D96 -> -470.12506 | E96: =Liqui.kr.!E96/EW!E96 -> -531.26608 | F96: =Liqui.kr.!F96/EW!F96 -> -460.91988 | G96: =Liqui.kr.!G96/EW!G96 -> -718.73885 | H96: =Liqui.kr.!H96/EW!H96 -> -483.29369 | I96: =Liqui.kr.!I96/EW!I96 -> -458.64524 | J96: =Liqui.kr.!J96/EW!J96 -> -369.4285
A97: Herschw.-Pettersh. | B97: =Liqui.kr.!B97/EW!B97 -> -784.50913 | C97: =Liqui.kr.!C97/EW!C97 -> -795.50151 | D97: =Liqui.kr.!D97/EW!D97 -> -837.69754 | E97: =Liqui.kr.!E97/EW!E97 -> -890.39526 | F97: =Liqui.kr.!F97/EW!F97 -> -770.16274 | G97: =Liqui.kr.!G97/EW!G97 -> -830.74738 | H97: =Liqui.kr.!H97/EW!H97 -> -694.87221 | I97: =Liqui.kr.!I97/EW!I97 -> -679.98416 | J97: =Liqui.kr.!J97/EW!J97 -> -747.61077
A98: Hüffler | B98: =Liqui.kr.!B98/EW!B98 -> -635.08101 | C98: =Liqui.kr.!C98/EW!C98 -> -636.16848 | D98: =Liqui.kr.!D98/EW!D98 -> -857.90951 | E98: =Liqui.kr.!E98/EW!E98 -> -513.83926 | F98: =Liqui.kr.!F98/EW!F98 -> -549.00733 | G98: =Liqui.kr.!G98/EW!G98 -> -801.79832 | H98: =Liqui.kr.!H98/EW!H98 -> -885.40208 | I98: =Liqui.kr.!I98/EW!I98 -> -461.03107 | J98: =Liqui.kr.!J98/EW!J98 -> -344.91061
... A109: Waldmohr | B109: =Liqui.kr.!B109/EW!B109 -> -1239.0898 | C109: =Liqui.kr.!C109/EW!C109 -> -1253.6531 | D109: =Liqui.kr.!D109/EW!D109 -> -1329.8732 | E109: =Liqui.kr.!E109/EW!E109 -> -1290.3892 | F109: =Liqui.kr.!F109/EW!F109 -> -1748.6377 | G109: =Liqui.kr.!G109/EW!G109 -> -2013.2944 | H109: =Liqui.kr.!H109/EW!H109 -> -1978.7287 | I109: =Liqui.kr.!I109/EW!I109 -> -1942.0726 | J109: =Liqui.kr.!J109/EW!J109 -> -1970.0207
A111: Durchschnitt | B111: =AVERAGE(B8:B106) -> -738.80171 | C111: =AVERAGE(C8:C106) -> -780.54617 | D111: =AVERAGE(D8:D106) -> -869.81409 | E111: =AVERAGE(E8:E106) -> -920.58197 | F111: =AVERAGE(F8:F106) -> -956.67921 | G111: =AVERAGE(G8:G106) -> -1043.6972 | H111: =AVERAGE(H8:H106) -> -1118.2493 | I111: =AVERAGE(I8:I106) -> -1066.6813 | J111: =AVERAGE(J8:J106) -> -1046.3148

Sheet OVG
B1: 2011 | C1: 2012 | D1: 2013 | E1: 2014 | F1: 2015 | G1: 2016 | H1: 2017 | I1: 2018 | J1: 2019
A2: Anzahl der OG im LK Kusel | B2: 98 | C2: 98 | D2: 98 | E2: 98 | F2: 98 | G2: 98 | H2: 98 | I2: 98 | J2: 98
A4: Anzahl der OG mit Liquiditätskrediten | B4: =COUNTIF('Liquikr. pro EW'!B$8:B$109,"<0") -> 87 | C4: =COUNTIF('Liquikr. pro EW'!C$8:C$109,"<0") -> 89 | D4: =COUNTIF('Liquikr. pro EW'!D$8:D$109,"<0") -> 88 | E4: =COUNTIF('Liquikr. pro EW'!E$8:E$109,"<0") -> 85 | F4: =COUNTIF('Liquikr. pro EW'!F$8:F$109,"<0") -> 84 | G4: =COUNTIF('Liquikr. pro EW'!G$8:G$109,"<0") -> 87 | H4: =COUNTIF('Liquikr. pro EW'!H$8:H$109,"<0") -> 87 | I4: =COUNTIF('Liquikr. pro EW'!I$8:I$109,"<0") -> 85 | J4: =COUNTIF('Liquikr. pro EW'!J$8:J$109,"<0") -> 83
A5: davon > 1.000 € pro EW | B5: =COUNTIF('Liquikr. pro EW'!B$8:B$109,"<-1000") -> 28 | C5: =COUNTIF('Liquikr. pro EW'!C$8:C$109,"<-1000") -> 34 | D5: =COUNTIF('Liquikr. pro EW'!D$8:D$109,"<-1000") -> 36 | E5: =COUNTIF('Liquikr. pro EW'!E$8:E$109,"<-1000") -> 41 | F5: =COUNTIF('Liquikr. pro EW'!F$8:F$109,"<-1000") -> 46 | G5: =COUNTIF('Liquikr. pro EW'!G$8:G$109,"<-1000") -> 48 | H5: =COUNTIF('Liquikr. pro EW'!H$8:H$109,"<-1000") -> 50 | I5: =COUNTIF('Liquikr. pro EW'!I$8:I$109,"<-1000") -> 48 | J5: =COUNTIF('Liquikr. pro EW'!J$8:J$109,"<-1000") -> 51
A6: in % | B6: =B5/B2 -> 0.28571429 | C6: =C5/C2 -> 0.34693878 | D6: =D5/D2 -> 0.36734694 | E6: =E5/E2 -> 0.41836735 | F6: =F5/F2 -> 0.46938776 | G6: =G5/G2 -> 0.48979592 | H6: =H5/H2 -> 0.51020408 | I6: =I5/I2 -> 0.48979592 | J6: =J5/J2 -> 0.52040816
A8: Landesdurchschnitt Liquiditätskredite*** | B8: -1444 | C8: -1526 | D8: -1561 | E8: -1618 | F8: -1619 | G8: -1530 | H8: -1455 | I8: -1299 | J8: ?
A9: Anzahl OG unter Landesdurchschnitt | B9: =COUNTIF('Liquikr. pro EW'!B$8:B$109,"<"&B8) -> 10 | C9: =COUNTIF('Liquikr. pro EW'!C$8:C$109,"<"&C8) -> 12 | D9: =COUNTIF('Liquikr. pro EW'!D$8:D$109,"<"&D8) -> 17 | E9: =COUNTIF('Liquikr. pro EW'!E$8:E$109,"<"&E8) -> 19 | F9: =COUNTIF('Liquikr. pro EW'!F$8:F$109,"<"&F8) -> 20 | G9: =COUNTIF('Liquikr. pro EW'!G$8:G$109,"<"&G8) -> 28 | H9: =COUNTIF('Liquikr. pro EW'!H$8:H$109,"<"&H8) -> 36 | I9: =COUNTIF('Liquikr. pro EW'!I$8:I$109,"<"&I8) -> 38
A10: in % | B10: =B9/B2 -> 0.10204082 | C10: =C9/C2 -> 0.12244898 | D10: =D9/D2 -> 0.17346939 | E10: =E9/E2 -> 0.19387755 | F10: =F9/F2 -> 0.20408163 | G10: =G9/G2 -> 0.28571429 | H10: =H9/H2 -> 0.36734694 | I10: =I9/I2 -> 0.3877551 | J10: =J9/J2 -> 0
A12: Liquiditätskredite LK KUS pro EW | B12: ='Liquikr. pro EW'!B5 -> -1491.554 | C12: ='Liquikr. pro EW'!C5 -> -1695.6888 | D12: ='Liquikr. pro EW'!D5 -> -1822.7973 | E12: ='Liquikr. pro EW'!E5 -> -1982.063 | F12: ='Liquikr. pro EW'!F5 -> -2107.5112 | G12: ='Liquikr. pro EW'!G5 -> -2236.386 | H12: ='Liquikr. pro EW'!H5 -> -2313.5165 | I12: ='Liquikr. pro EW'!I5 -> -2347.2199 | J12: ='Liquikr. pro EW'!J5 -> -2372.0103
A13: Anzahl OG unter LK | B13: =COUNTIF('Liquikr. pro EW'!B$8:B$109,"<"&B12) -> 10 | C13: =COUNTIF('Liquikr. pro EW'!C$8:C$109,"<"&C12) -> 5 | D13: =COUNTIF('Liquikr. pro EW'!D$8:D$109,"<"&D12) -> 9 | E13: =COUNTIF('Liquikr. pro EW'!E$8:E$109,"<"&E12) -> 8 | F13: =COUNTIF('Liquikr. pro EW'!F$8:F$109,"<"&F12) -> 6 | G13: =COUNTIF('Liquikr. pro EW'!G$8:G$109,"<"&G12) -> 6 | H13: =COUNTIF('Liquikr. pro EW'!H$8:H$109,"<"&H12) -> 10 | I13: =COUNTIF('Liquikr. pro EW'!I$8:I$109,"<"&I12) -> 9 | J13: =COUNTIF('Liquikr. pro EW'!J$8:J$109,"<"&J12) -> 8
A14: in % | B14: =B13/B2 -> 0.10204082 | C14: =C13/C2 -> 0.051020408 | D14: =D13/D2 -> 0.091836735 | E14: =E13/E2 -> 0.081632653 | F14: =F13/F2 -> 0.06122449 | G14: =G13/G2 -> 0.06122449 | H14: =H13/H2 -> 0.10204082 | I14: =I13/I2 -> 0.091836735 | J14: =J13/J2 -> 0.081632653
A16: * 2017-2019 Plandaten Liquiditätskredite LK KUS
A17: ***Landesdurchschnitt Liquiditätskredite aus Kommunalberichten entnommen (2020 liegt noch nicht vor)
